Workbook
Name _: #REF!
Name _______________________________a1: #REF!
Name _____________________________a1: #REF!
Name ______________________A1: #REF!
Name _____________________A1: #REF!
Name ____________________A1: #REF!
Name ___________________Ａ１: #REF!
Name ___________________Ａ１: '[1]代価表 '!$A$1
Name ___________________C300200: [2]資材単価!$G$9
Name ___________________C303800: [2]資材単価!$G$25
Name ___________________C370003: [2]資材単価!$G$46
Name ___________________C370135: [2]資材単価!$G$47
Name ___________________C370240: [2]資材単価!$G$48
Name ___________________C370500: [2]資材単価!$G$51
Name ___________________C370600: [2]資材単価!$G$52
Name ___________________C371625: [2]資材単価!$G$57
Name ___________________C371630: [2]資材単価!$G$58
Name ___________________C371640: [2]資材単価!$G$59
Name ___________________C371650: [2]資材単価!$G$60
Name ___________________C371725: [2]資材単価!$G$61
Name ___________________C371730: [2]資材単価!$G$62
Name ___________________C371740: [2]資材単価!$G$63
Name ___________________C371750: [2]資材単価!$G$64
Name ___________________C460211: [2]資材単価!$G$107
Name ___________________C480900: [2]資材単価!$G$114
Name ___________________C481000: [2]資材単価!$G$115
Name __________________Ａ１: #REF!
Name __________________Ａ１: '[1]代価表 '!$A$1
Name __________________C300200: [2]資材単価!$G$9
Name __________________C303800: [2]資材単価!$G$25
Name __________________C370003: [2]資材単価!$G$46
Name __________________C370135: [2]資材単価!$G$47
Name __________________C370240: [2]資材単価!$G$48
Name __________________C370500: [2]資材単価!$G$51
Name __________________C370600: [2]資材単価!$G$52
Name __________________C371625: [2]資材単価!$G$57
Name __________________C371630: [2]資材単価!$G$58
Name __________________C371640: [2]資材単価!$G$59
Name __________________C371650: [2]資材単価!$G$60
Name __________________C371725: [2]資材単価!$G$61
Name __________________C371730: [2]資材単価!$G$62
Name __________________C371740: [2]資材単価!$G$63
Name __________________C371750: [2]資材単価!$G$64
Name __________________C460211: [2]資材単価!$G$107
Name __________________C480900: [2]資材単価!$G$114
Name __________________C481000: [2]資材単価!$G$115
Name _________________Ａ１: #REF!
Name _________________Ａ１: '[1]代価表 '!$A$1
Name _________________C300200: [2]資材単価!$G$9
Name _________________C303800: [2]資材単価!$G$25
Name _________________C370003: [2]資材単価!$G$46
Name _________________C370135: [2]資材単価!$G$47
Name _________________C370240: [2]資材単価!$G$48
Name _________________C370500: [2]資材単価!$G$51
Name _________________C370600: [2]資材単価!$G$52
Name _________________C371625: [2]資材単価!$G$57
Name _________________C371630: [2]資材単価!$G$58
Name _________________C371640: [2]資材単価!$G$59
Name _________________C371650: [2]資材単価!$G$60
Name _________________C371725: [2]資材単価!$G$61

Sheet 全体大項目
L8: 令和 年 月 日
G10: 工 事 費 内 訳 書
J14: 住所
J16: 商号又は名称
J18: 代表者 ㊞
D22: １ 工事番号 子育て支援工事第10号
D24: ２ 工事名 （仮称）公立認定こども園建設工事
D26: ３ 工事場所 熊本県菊池郡大津町大字室地内
C31: 注意事項 ①記載にあたっては、工事区分・工種・種別・細別までを必ず記載し、数量、単位、単価、金額を明らかにすること。また数量及び単位の表現は、設計図書に準じ、諸経費部分及び設計図書において一式表示としている部分を除いて「一式」での表示は認めない。なお、設計図書に示した項目以外の項目(端数処理を除く)は認めない。 ②工事区分・工種・種別・細別が多い場合は、本様式に行を追加すること。この時枚数が複数になっても構わない。 ③この様式により難い場合は、設計担当課に書面により協議すること。
B42: 記号 | D42: 名 称 | I42: 単 位 | J42: 金 額 | O42: 備 考
B45: Ⅰ
D46: 建築工事 | I46: 一式
B47: Ⅱ
D48: 屋外付帯工事 | I48: 一式
B49: Ⅲ
D50: 電気設備工事 | I50: 一式
B51: Ⅳ
D52: 機械設備工事 | I52: 一式
D54: 共通仮設費 | I54: 一式
D56: 積上げ共通仮設費 | I56: 一式
D58: 現場管理費 | I58: 一式
D60: 一般管理費 | I60: 一式
D62: 合計 | I62: 一式
D66: 消費税 | I66: 一式 | O66: 0.1
D70: 総合計 | I70: 一式
B78: 記号 | D78: 名 称 | I78: 単 位 | J78: 金 額 | O78: 備 考

Sheet 建築工事
A2: （種目別内訳）
A3: 名 称 | C3: 規 格・寸 法 | D3: 数 量 | E3: 単位 | F3: 単 価 | G3: 金 額 | H3: 備 考
G5: 0
B7: 直 接 工 事 費 | G7: 0
A9: Ⅰ | B9: 建築工事 | D9: 1 | E9: 式 | F9: =G84 -> 0
A11: Ⅱ | B11: 屋外附帯工事 | D11: 1 | E11: 式 | F11: =屋外!G41 -> 0
A13: Ⅲ | B13: 電気設備工事 | D13: 1 | E13: 式
A15: Ⅳ | B15: 機械設備工事 | D15: 1 | E15: 式
A45: （科目別内訳）
A46: 名 称 | C46: 規 格・寸 法 | D46: 数 量 | E46: 単位 | F46: 単 価 | G46: 金 額 | H46: 備 考
A48: Ⅰ | B48: 建築工事
A50: ａ. | B50: 直接仮設 | D50: 1 | E50: 式 | F50: =仮設!G41 -> 0
A52: ｂ. | B52: 土工 | D52: 1 | E52: 式 | F52: =土工!G41 -> 0
A54: ｃ. | B54: 地業 | D54: 1 | E54: 式 | F54: =地業!G41 -> 0
A56: ｄ. | B56: 鉄筋 | D56: 1 | E56: 式 | F56: =G117 -> 0
A58: ｅ. | B58: コンクリート | D58: 1 | E58: 式 | F58: =G140 -> 0
A60: ｆ. | B60: 型枠 | D60: 1 | E60: 式 | F60: =G150 -> 0
A62: ｇ. | B62: 鉄骨 | D62: 1 | E62: 式 | F62: =G158 -> 0
A64: ｈ. | B64: 防水 | D64: 1 | E64: 式 | F64: =G166 -> 0
A66: ｉ. | B66: タイル | D66: 1 | E66: 式 | F66: =G183 -> 0
A68: ｊ. | B68: 木 | D68: 1 | E68: 式 | F68: =木!G1030+木!G1073+木!G1288 -> 0
A70: ｋ. | B70: 屋根及びとい | D70: 1 | E70: 式 | F70: =G201 -> 0
A72: ｌ. | B72: 金属 | D72: 1 | E72: 式 | F72: =G209 -> 0
A74: ｍ. | B74: 左官 | D74: 1 | E74: 式 | F74: =G226 -> 0
A76: ｎ. | B76: 建具 | D76: 1 | E76: 式 | F76: =建具!G170+建具!G299+建具!G314+建具!G342+建具!G385+建具!G428 -> 0
A78: ｏ. | B78: 塗装 | D78: 1 | E78: 式 | F78: =G250 -> 0
A80: ｐ. | B80: 内外装 | D80: 1 | E80: 式 | F80: =G269 -> 0
A82: ｑ. | B82: ユニット及びその他 | D82: 1 | E82: 式 | F82: =G277 -> 0
B84: 計
A88: （中科目別内訳）
A89: 名 称 | C89: 規 格・寸 法 | D89: 数 量 | E89: 単位 | F89: 単 価 | G89: 金 額 | H89: 備 考
A91: Ⅰ | B91: 建築工事
A93: ａ. | B93: 直接仮設 | D93: 1 | E93: 式 | F93: =仮設!G41 -> 0
B95: 計
A99: ｂ. | B99: 土工 | D99: 1 | E99: 式 | F99: =土工!G41 -> 0
B101: 計
A105: ｃ. | B105: 地業 | D105: 1 | E105: 式 | F105: =地業!G41 -> 0
B107: 計
A111: ｄ. | B111: 鉄筋 | C111: (1) 躯体 | D111: 1 | E111: 式 | F111: =鉄筋・ｺﾝ・型枠・鉄骨!G41 -> 0
C113: (2) その他 | D113: 1 | E113: 式 | F113: =鉄筋・ｺﾝ・型枠・鉄骨!G84 -> 0
B117: 計
A131: （中科目別内訳）
A132: 名 称 | C132: 規 格・寸 法 | D132: 数 量 | E132: 単位 | F132: 単 価 | G132: 金 額 | H132: 備 考
A136: ｅ. | B136: コンクリート | C136: (1) 躯体 | D136: 1 | E136: 式 | F136: =鉄筋・ｺﾝ・型枠・鉄骨!G127 -> 0
C138: (2) その他 | D138: 1 | E138: 式 | F138: =鉄筋・ｺﾝ・型枠・鉄骨!G170 -> 0
B140: 計
A146: ｆ. | B146: 型枠 | C146: (1) 躯体 | D146: 1 | E146: 式 | F146: =鉄筋・ｺﾝ・型枠・鉄骨!G213 -> 0
C148: (2) その他 | D148: 1 | E148: 式 | F148: =鉄筋・ｺﾝ・型枠・鉄骨!G256 -> 0
B150: 計
A156: ｇ. | B156: 鉄骨 | D156: 1 | E156: 式 | F156: =鉄筋・ｺﾝ・型枠・鉄骨!G299 -> 0
B158: 計
A162: ｈ. | B162: 防水 | C162: (1) 外部 | D162: 1 | E162: 式 | F162: =防水!G17 -> 0
C164: (2) 内部 | D164: 1 | E164: 式 | F164: =防水!G29 -> 0
B166: 計
F168: =鉄筋・ｺﾝ・型枠・鉄骨!G342 -> 0
A174: （中科目別内訳）
A175: 名 称 | C175: 規 格・寸 法 | D175: 数 量 | E175: 単位 | F175: 単 価 | G175: 金 額 | H175: 備 考
A179: ｉ. | B179: タイル | C179: (1) 外部 | D179: 1 | E179: 式 | F179: =タイル!G11 -> 0
C181: (2) 内部 | D181: 1 | E181: 式 | F181: =タイル!G21 -> 0
B183: 計
A187: ｊ. | B187: 木 | C187: (1) 躯体 | D187: 1 | E187: 式 | F187: =木!G1030 -> 0
C189: (2) 外部 | D189: 1 | E189: 式 | F189: =木!G1073 -> 0
C191: (3) 内部 | D191: 1 | E191: 式 | F191: =木!G1288 -> 0
B193: 計
A197: ｋ. | B197: 屋根及びとい | C197: (1) 屋根 | D197: 1 | E197: 式 | F197: =屋根!G256 -> 0
C199: (2) 外壁 | D199: 1 | E199: 式 | F199: =屋根!G342 -> 0
B201: 計
A205: ｌ. | B205: 金属 | C205: (1) 外部 | D205: 1 | E205: 式 | F205: =金属!G41 -> 0
C207: (2) 内部 | D207: 1 | E207: 式 | F207: =金属!G170 -> 0
B209: 計
A217: （中科目別内訳）
A218: 名 称 | C218: 規 格・寸 法 | D218: 数 量 | E218: 単位 | F218: 単 価 | G218: 金 額 | H218: 備 考
A222: ｍ. | B222: 左官 | C222: (1) 外部 | D222: 1 | E222: 式 | F222: =左官!G41 -> 0
C224: (2) 内部 | D224: 1 | E224: 式 | F224: =左官!G84 -> 0
B226: 計
A230: ｎ. | B230: 建具 | C230: (1) アルミニウム建具 | D230: 1 | E230: 式 | F230: =建具!G170 -> 0
C232: (2) 木製建具 | D232: 1 | E232: 式 | F232: =建具!G299 -> 0
C234: (3) シャッター | D234: 1 | E234: 式 | F234: =建具!G314 -> 0
C236: (4) 鋼製軽量建具 | D236: 1 | E236: 式 | F236: =建具!G342 -> 0
C238: (5) ﾄｲﾚﾌﾞｰｽ | D238: 1 | E238: 式 | F238: =建具!G385 -> 0
C240: (6) ガラス | D240: 1 | E240: 式 | F240: =建具!G428 -> 0
B242: 計
A246: ｏ. | B246: 塗装 | C246: (1) 外部 | D246: 1 | E246: 式 | F246: =塗装!G41 -> 0
C248: (2) 内部 | D248: 1 | E248: 式 | F248: =塗装!G127 -> 0
B250: 計
A260: （中科目別内訳）
A261: 名 称 | C261: 規 格・寸 法 | D261: 数 量 | E261: 単位 | F261: 単 価 | G261: 金 額 | H261: 備 考
A265: ｐ. | B265: 内外装 | C265: (1) 外部 | D265: 1 | E265: 式 | F265: =内外装!G41 -> 0
C267: (2) 内部 | D267: 1 | E267: 式 | F267: =内外装!G84 -> 0
B269: 計
A273: ｑ. | B273: ユニット及びその他 | C273: (1) 外部 | D273: 1 | E273: 式 | F273: =ユニット他!G21 -> 0
C275: (2) 内部 | D275: 1 | E275: 式 | F275: =ユニット他!G127 -> 0
B277: 計

Sheet 仮設
A2: （細目別内訳）
A3: 名 称 | C3: 規 格・寸 法 | D3: 数 量 | E3: 単位 | F3: 単 価 | G3: 金 額 | H3: 備 考
A5: ａ. | B5: 直接仮設
B7: 遣り方 | D7: 1929 | E7: ㎡
B9: 墨出し | C9: 躯体・仕上 | D9: 1929 | E9: ㎡
B11: 養生 | C11: 躯体・仕上 | D11: 1929 | E11: ㎡
B13: 整理清掃後片付け | D13: 1929 | E13: ㎡
B17: 外部足場
C18: 最上部安全手すりを含む
B19: 枠組本足場手摺先行方式 | C19: 建地幅900mm 存置6ヶ月 | D19: 1470 | E19: ㎡
C20: 最上部安全手すりを含む
B21: 枠組本足場手摺先行方式 | C21: 建地幅600mm 存置6ヶ月 | D21: 615 | E21: ㎡
B23: 単管一足足場 | C23: 存置6ヶ月 | D23: 262 | E23: ㎡
B25: 安全手すり | C25: 単管本足場用 | D25: 32.2 | E25: ｍ
B29: 内部足場
B31: 脚立足場 | C31: 4ヶ月 | D31: 1091 | E31: ㎡
B33: 内部枠組仕上足場 | C33: 存置4ヶ月 | D33: 838 | E33: ㎡
B35: 災害防止
B37: 垂直養生 | C37: 防炎シートⅠ類 6ヶ月 | D37: 1470 | E37: ㎡
B39: 垂直養生 | C39: 防音シート張り 6ヶ月 | D39: 872 | E39: ㎡
B41: 計
A45: （共通仮設費）
A46: 名 称 | C46: 規 格・寸 法 | D46: 数 量 | E46: 単位 | F46: 単 価 | G46: 金 額 | H46: 備 考
B48: 共通仮設費積み上げ分
B50: 単管防炎シート張り | C50: H=2m | D50: =159 -> 159 | E50: ｍ
B52: 万能鋼板 | C52: H=2m | D52: =134 -> 134 | E52: ｍ
B54: ｸﾛｽｹﾞｰﾄ | C54: W=6.0×H=1.8 | D54: 1 | E54: カ所
B56: 交通誘導員 | D56: 120 | E56: 日
B84: 計

Sheet 土工
A2: （細目別内訳）
A3: 名 称 | C3: 規 格・寸 法 | D3: 数 量 | E3: 単位 | F3: 単 価 | G3: 金 額 | H3: 備 考
A5: ｂ. | B5: 土工
B9: 根切り | D9: 2278 | E9: m3
B11: 埋戻し | D11: 771 | E11: m3
B13: 建設発生土 積込・運搬 | C13: 4t積級 35km以内 | D13: =D9-D11 -> 1507 | E13: m3
B15: 建設発生土 処分費 | D15: =D13 -> 1507 | E15: m3
B17: 土工機運搬 | D17: 1 | E17: 式
B19: 土留め工事 | D19: 1 | E19: 式 | H19: 別紙明細Ⅰ-1
G29: =IF(OR(D29="",F29=""),"",TRUNC(D29*F29,0))
B41: 計

Sheet 地業
A2: （細目別内訳）
A3: 名 称 | C3: 規 格・寸 法 | D3: 数 量 | E3: 単位 | F3: 単 価 | G3: 金 額 | H3: 備 考
A5: ｃ. | B5: 地業
B7: 地盤改良 | G7: =IF(OR(D7="",F7=""),"",TRUNC(D7*F7,0))
B9: 地盤改良工 | D9: 1 | E9: 式 | H9: 別紙明細Ⅰ-8
B13: 一般地業
C14: 土間下
B15: 砕石地業 | C15: 再生クラッシャラン | D15: 227 | E15: m3
B17: 土間下防湿シート | C17: ﾎﾟﾘｴﾁﾚﾝﾌｨﾙﾑ t=0.15 | D17: 1611 | E17: ㎡
B41: 計

Sheet 鉄筋・ｺﾝ・型枠・鉄骨
A2: （細目別内訳）
A3: 名 称 | C3: 規 格・寸 法 | D3: 数 量 | E3: 単位 | F3: 単 価 | G3: 金 額 | H3: 備 考
A5: ｄ. | B5: 鉄筋
A7: (1) | B7: 躯体 | G7: 0
B9: 異形鉄筋 | C9: SD295A D10 | D9: 9.1 | E9: t
B11: 異形鉄筋 | C11: SD295A D13 | D11: 39.5 | E11: t
B13: 異形鉄筋 | C13: SD295A D16 | D13: 5.2 | E13: t
B15: 異形鉄筋 | C15: SD345 D19 | D15: 12.4 | E15: t
B17: スクラップ控除 | C17: H2 | D17: 1.8 | E17: t
B19: 鉄筋加工組立・運搬 | D19: 63.7 | E19: t
B41: 計
A45: （細目別内訳）
A46: 名 称 | C46: 規 格・寸 法 | D46: 数 量 | E46: 単位 | F46: 単 価 | G46: 金 額 | H46: 備 考
A50: (2) | B50: その他
B52: 異形鉄筋 | C52: SD295A D10 | D52: 0.7 | E52: t
B54: 異形鉄筋 | C54: SD295A D13 | D54: 0.2 | E54: t
B56: 鉄筋加工組立・運搬 | D56: 0.9 | E56: t
G60: 0
G62: =IF(OR(D62="",F62=""),"",TRUNC(D62*F62,0))
G66: 0
G68: =IF(OR(D68="",F68=""),"",TRUNC(D68*F68,0))
G70: =IF(OR(D70="",F70=""),"",TRUNC(D70*F70,0))
B84: 計
A88: （細目別内訳）
A89: 名 称 | C89: 規 格・寸 法 | D89: 数 量 | E89: 単位 | F89: 単 価 | G89: 金 額 | H89: 備 考
A91: ｅ. | B91: コンクリート
A93: (1) | B93: 躯体 | G93: 0
B97: 普通コンクリート 基礎部 | C97: Fc=24＋3-15-20N | D97: 590 | E97: m3
B99: 普通コンクリート 土間 | C99: Fc=18＋3-15-20N | D99: 226 | E99: m3
B101: コンクリート打設手間 | C101: 基礎ｺﾝｸﾘｰﾄ | D101: 590 | E101: m3
B103: コンクリート打設手間 | C103: 土間ｺﾝｸﾘｰﾄ | D103: 226 | E103: m3
B105: ポンプ圧送 | C105: 基本料金 | D105: =ROUND((D97+D99)/150,0) -> 5 | E105: 回
B107: ポンプ圧送 | C107: 圧送料金 | D107: =(D97+D99) -> 816 | E107: m3
G111: =IF(OR(D111="",F111=""),"",TRUNC(D111*F111,0))
B127: 計
A131: （細目別内訳）
A132: 名 称 | C132: 規 格・寸 法 | D132: 数 量 | E132: 単位 | F132: 単 価 | G132: 金 額 | H132: 備 考
A136: (2) | B136: その他 | G136: 0
B138: 捨てコンクリート | C138: Fc=18＋3-15-20N | D138: 1.1 | E138: m3
B140: 普通コンクリート 雑 | C140: Fc=18＋3-15-20N | D140: 18.6 | E140: m3
B142: コンクリート打設手間 | C142: 雑 | D142: =D138+D140 -> 19.7 | E142: m3
B144: ポンプ圧送 | C144: 基本料金 | D144: 1 | E144: 回
B146: ポンプ圧送 | C146: 圧送料金 | D146: =D138+D140 -> 19.7 | E146: m3
G154: =IF(OR(D154="",F154=""),"",TRUNC(D154*F154,0))
B170: 計
A174: （細目別内訳）
A175: 名 称 | C175: 規 格・寸 法 | D175: 数 量 | E175: 単位 | F175: 単 価 | G175: 金 額 | H175: 備 考
A177: ｆ. | B177: 型枠
B179: (1) 躯体
B181: 普通合板型枠 | C181: 基礎部 | D181: 1938 | E181: ㎡
B183: 打放し型枠 | C183: 地上部 | D183: 501 | E183: ㎡
B185: 型枠運搬 | D185: =SUM(D180:D183) -> 2439 | E185: ㎡
B187: 止水板 | C187: 塩ビ 150x5mm | D187: 26.8 | E187: ｍ
B189: 人通孔 | C189: φ650mm | D189: 5 | E189: カ所
B213: 計
A217: （細目別内訳）
A218: 名 称 | C218: 規 格・寸 法 | D218: 数 量 | E218: 単位 | F218: 単 価 | G218: 金 額 | H218: 備 考
A222: (2) | B222: その他 | G222: 0
B224: 普通合板型枠 | C224: 基礎部 | D224: 10.5 | E224: m2
B226: 打放し型枠 | C226: 地上部 | D226: 58.3 | E226: m2
B228: 曲面型枠 | C228: 打放し型枠 | D228: 16.3 | E228: ㎡
B230: 打継目地棒 | C230: 20×20 | D230: 17.7 | E230: ｍ
G234: 0
G236: =IF(OR(D236="",F236=""),"",TRUNC(D236*F236,0))
G238: 0
G240: =IF(OR(D240="",F240=""),"",TRUNC(D240*F240,0))
B256: 計
A260: （細目別内訳）
A261: 名 称 | C261: 規 格・寸 法 | D261: 数 量 | E261: 単位 | F261: 単 価 | G261: 金 額 | H261: 備 考
A263: ｇ. | B263: 鉄骨
B267: 主要鋼材費 | G267: =IF(OR(D267="",F267=""),"",TRUNC(D267*F267,0))
B269: SS400 | C269: H-298×149×5.5×8 | D269: 199 | E269: ㎏
B271: STK400 | C271: P-89.1×3.2 | D271: 313 | E271: ㎏
B273: STKR400 | C273: □-100×100×4.5 | D273: 199 | E273: ㎏
B275: STKR400 | C275: STKR-125×125×4.5 | D275: 220 | E275: ㎏
B277: SS400 | C277: PL-3.2 | D277: 41 | E277: ㎏
B279: SS400 | C279: PL-4.5 | D279: 51 | E279: ㎏
B281: SS400 | C281: PL-6 | D281: 2 | E281: ㎏
B283: SS400 | C283: PL-12 | D283: 14 | E283: ㎏
B285: SS400 | C285: PL-16 | D285: 147 | E285: ㎏
B287: SS400 | C287: ABT-M16 | D287: 26 | E287: ㎏
B289: S10T | C289: TC-M16×40 | D289: 1 | E289: ㎏
B291: 4T | C291: BTN-M12 | D291: 12 | E291: ㎏
B293: 鋼材ロス(5％) | D293: 1 | E293: 式
A303: （細目別内訳）
A304: 名 称 | C304: 規 格・寸 法 | D304: 数 量 | E304: 単位 | F304: 単 価 | G304: 金 額 | H304: 備 考
B308: 鉄骨（続き）
B312: 工場加工費 | D312: 1212 | E312: ㎏
B314: 工場溶接費 | D314: 1212 | E314: ㎏
B316: 副資材消耗品費 | D316: 1225 | E316: ㎏
B318: 防錆塗装費 | C318: JTSK5674 2回塗り | D318: 1225 | E318: ㎏
B320: 運搬費 | C320: 4ｔ車 | D320: 1225 | E320: ㎏
B322: 現場鳶工費 | D322: 1225 | E322: ㎏
B324: 建方重機使用料 | C324: 13ｔラフター | D324: 1225 | E324: ㎏
B326: 現場鉄工費 | D326: 1225 | E326: ㎏
B328: 機械器具損料費 | D328: 1225 | E328: ㎏
B330: 社内検査費 | D330: 1 | E330: 式
B332: 製作図作成費 | D332: 1 | E332: 式
B334: ｱﾝｶｰﾎﾞﾙﾄ据付費 | C334: M16 L=320mm | D334: 48 | E334: 本
B342: 計

Sheet 防水
A2: （細目別内訳）
A3: 名 称 | C3: 規 格・寸 法 | D3: 数 量 | E3: 単位 | F3: 単 価 | G3: 金 額 | H3: 備 考
A5: ｈ. | B5: 防水
A7: (1) | B7: 外部 | G7: 0
B8: 地下外壁
B9: ﾎﾟﾘﾏｰｾﾒﾝﾄ系塗膜防水 | C9: 耐水圧用･一般保護仕上 | D9: 85.1 | E9: ㎡
B10: 打継目地
B11: ｼｰﾘﾝｸﾞ | C11: ﾎﾟﾘｳﾚﾀﾝ系(PU-2) 20×10 | D11: 17.7 | E11: ｍ
B12: ｻｲﾃﾞｨﾝｸﾞ出隅用見切り材取合
B13: ｼｰﾘﾝｸﾞ | C13: 変成ｼﾘｺｰﾝ系(MS-2) 10×10 | D13: 29.9 | E13: ｍ
B14: 建具廻り
B15: ｼｰﾘﾝｸﾞ | C15: 変成ｼﾘｺｰﾝ系(MS-2) 10×10 | D15: 503 | E15: ｍ
B17: 計
A21: (2) | B21: 内部
B22: ﾗｲﾆﾝｸﾞ面台取合
B23: ｼｰﾘﾝｸﾞ | C23: ｼﾘｺｰﾝ系(SR-1) 10×10 | D23: 44.8 | E23: ｍ
B24: 汚垂石取合
B25: ｼｰﾘﾝｸﾞ | C25: ｼﾘｺｰﾝ系(SR-1) 10×10 | D25: 2.3 | E25: ｍ
B26: 洗面ｶｳﾝﾀｰ取合
B27: ｼｰﾘﾝｸﾞ | C27: ｼﾘｺｰﾝ系(SR-1) 10×10 | D27: 4.5 | E27: ｍ
B29: 計

Sheet タイル
A2: （細目別内訳）
A3: 名 称 | C3: 規 格・寸 法 | D3: 数 量 | E3: 単位 | F3: 単 価 | G3: 金 額 | H3: 備 考
A5: ｉ. | B5: タイル
A7: (1) | B7: 外部
B8: 玄関ﾎﾟｰﾁ
B9: 床ﾀｲﾙ張り | C9: 磁器質 300角 t3.0 ﾉﾝｽﾘｯﾌﾟ系 | D9: 4.8 | E9: ㎡
B11: 計
A15: (2) | B15: 内部
B17: 床 ﾀｲﾙ張り | C17: 磁器質 300角 Ⅰ類 滑り抵抗性 | D17: 15.9 | E17: ㎡
B19: 幅木 ﾀｲﾙ張り | C19: 磁器質 300角 Ⅰ類 滑り抵抗性 | D19: 12.1 | E19: ｍ
B21: 計

Sheet 木
A2: （細目別内訳）
A3: 名 称 | C3: 規 格・寸 法 | D3: 数 量 | E3: 単位 | F3: 単 価 | G3: 金 額 | H3: 備 考
A5: ｊ. | B5: 木
A7: (1) | B7: 躯体 | G7: 0
B9: 【遊戯室】
B11: 製材
B12: 土台 桧 120×120
B13: KDM 甲種2級 | C13: 4000×120×120 | D13: 23 | E13: 本
B14: 土台 桧 120×120
B15: KDM 甲種2級 | C15: 3000×120×120 | D15: 5 | E15: 本
B16: 土台 桧 120×120
B17: KDM 甲種2級 | C17: 2000×120×120 | D17: 1 | E17: 本
B18: 大引 杉 105×105
B19: KDM 無等級 | C19: 4000×105×105 | D19: 117 | E19: 本
B20: 大引 杉 105×105
B21: KDM 無等級 | C21: 3000×105×105 | D21: 29 | E21: 本
B22: 土台桁・梁 120×180
B23: KDM 甲種2級 | C23: 4000×120×180 | D23: 6 | E23: 本
B24: 土台桁・梁 120×150
B25: KDM 甲種2級 | C25: 4000×120×150 | D25: 3 | E25: 本
B26: 1F桁・梁 杉 120×300
B27: KDM 甲種2級 | C27: 5000×120×300 | D27: 4 | E27: 本
B28: 1F桁・梁 杉 120×300
B29: KDM 甲種2級 | C29: 4000×120×300 | D29: 4 | E29: 本
B30: 1F桁・梁 杉 120×240
B31: KDM 甲種2級 | C31: 5000×120×240 | D31: 4 | E31: 本
B32: 1F桁・梁 杉 120×240
B33: KDM 甲種2級 | C33: 4000×120×240 | D33: 2 | E33: 本
B34: 1F桁・梁 杉 120×210
B35: KDM 甲種2級 | C35: 5000×120×210 | D35: 2 | E35: 本
B36: 1F桁・梁 杉 120×210
B37: KDM 甲種2級 | C37: 4000×120×210 | D37: 4 | E37: 本
A45: （細目別内訳）
A46: 名 称 | C46: 規 格・寸 法 | D46: 数 量 | E46: 単位 | F46: 単 価 | G46: 金 額 | H46: 備 考
B50: 躯体（続き）
B51: 1F桁・梁 杉 120×210
B52: KDM 甲種2級 | C52: 3000×120×210 | D52: 4 | E52: 本
B53: 1F桁・梁 杉 120×180
B54: KDM 甲種2級 | C54: 4000×120×180 | D54: 11 | E54: 本
B55: 1F桁・梁 杉 120×150
B56: KDM 甲種2級 | C56: 2000×120×150 | D56: 1 | E56: 本
B57: 登梁 杉 120×300
B58: KDM 甲種2級 | C58: 5000×120×300 | D58: 8 | E58: 本
B59: 登梁 杉 120×210
B60: KDM 甲種2級 | C60: 4000×120×210 | D60: 8 | E60: 本
B61: 登梁 杉 120×180
B62: KDM 甲種2級 | C62: 4000×120×180 | D62: 7 | E62: 本
B63: 登梁 杉 120×180
B64: KDM 甲種2級 | C64: 3000×120×180 | D64: 2 | E64: 本
B65: 登梁 杉 120×150
B66: KDM 甲種2級 | C66: 4000×120×150 | D66: 1 | E66: 本
B67: 登梁 杉 120×120
B68: KDM 甲種2級 | C68: 4000×120×120 | D68: 19 | E68: 本
B69: 登梁 杉 120×120
B70: KDM 甲種2級 | C70: 3000×120×120 | D70: 8 | E70: 本
B71: 1F母屋 杉 120×120
B72: KDM 甲種2級 | C72: 4000×120×120 | D72: 51 | E72: 本
B73: 1F母屋 杉 120×120
B74: KDM 甲種2級 | C74: 3000×120×120 | D74: 1 | E74: 本
B75: 1F管柱 杉 120×120
B76: KDM E70 | C76: 5000×120×120 | D76: 2 | E76: 本
B77: 1F管柱 杉 120×120
B78: KDM E70 | C78: 4000×120×120 | D78: 14 | E78: 本
B79: 1F管柱 杉 120×120
B80: KDM E70 | C80: 3000×120×120 | D80: 17 | E80: 本
A88: （細目別内訳）
A89: 名 称 | C89: 規 格・寸 法 | D89: 数 量 | E89: 単位 | F89: 単 価 | G89: 金 額 | H89: 備 考
B93: 躯体（続き）
B94: 2F管柱 杉 120×120
B95: KDM E70 | C95: 4000×120×120 | D95: 4 | E95: 本
B96: 2F管柱 杉 120×120
B97: KDM E70 | C97: 3000×120×120 | D97: 6 | E97: 本
B98: 2F管柱 杉 120×120
B99: KDM E70 | C99: 2000×120×120 | D99: 1 | E99: 本
B100: 1F平柱 杉 120×180
B101: KDM E70 | C101: 4000×120×180 | D101: 3 | E101: 本
B102: 1F平柱 杉 120×180
B103: KDM E70 | C103: 3000×120×180 | D103: 1 | E103: 本
B104: 2F平柱 杉 120×180
B105: KDM E70 | C105: 4000×120×180 | D105: 1 | E105: 本
B106: 2F平柱 杉 120×180
B107: KDM E70 | C107: 3000×120×180 | D107: 1 | E107: 本
B108: タル木 杉 90×210
B109: KDM 甲種2級 | C109: 4000×90×210 | D109: 227 | E109: 本
B110: タル木 杉 90×210
B111: KDM 甲種2級 | C111: 3000×90×210 | D111: 22 | E111: 本
B112: 1F間柱 杉 45×120
B113: KDM 甲種2級 | C113: 4000×45×120 | D113: 140 | E113: 本
B114: 2F間柱 杉 45×120
B115: KDM 甲種2級 | C115: 4000×45×120 | D115: 12 | E115: 本
B116: 2F間柱 杉 45×120
B117: KDM 甲種2級 | C117: 3000×45×120 | D117: 52 | E117: 本
B118: 1F筋違 杉 120×120
B119: KDM E50 | C119: 4000×120×120 | D119: 11 | E119: 本
B120: 1F筋違 杉 120×120
B121: KDM E50 | C121: 3000×120×120 | D121: 9 | E121: 本
B122: 1F筋違 杉 45×90 KDM E50
B123: →ｸﾞﾚｰﾃﾞｨﾝｸﾞ不可 甲種2級 | C123: 4000×45×90 | D123: 23 | E123: 本
A131: （細目別内訳）
A132: 名 称 | C132: 規 格・寸 法 | D132: 数 量 | E132: 単位 | F132: 単 価 | G132: 金 額 | H132: 備 考
...

Sheet 屋根
A2: （細目別内訳）
A3: 名 称 | C3: 規 格・寸 法 | D3: 数 量 | E3: 単位 | F3: 単 価 | G3: 金 額 | H3: 備 考
A5: ｋ. | B5: 屋根及びとい
A7: (1) | B7: 屋根 | G7: 0
B9: 屋根4.0寸
C10: 製品名:TRX-4型相当
B11: 嵌合吊子式立平葺き 働き幅455 | C11: GLｶﾗｰ鋼板 t=0.5 裏貼りt=2.0 | D11: 923 | E11: ㎡
B13: 部分吊子 | C13: ｱﾙﾐ押型材 | D13: 923 | E13: ㎡
B15: 改質ｱｽﾌｧﾙﾄﾙｰﾌｨﾝｸﾞ | C15: ﾀｯｸ付き t=1.0 | D15: 923 | E15: ㎡
B17: 換気棟包み | C17: GLｶﾗｰ鋼板 棟金具,棟下地共 | D17: 75.7 | E17: ｍ
B19: 下り棟 | C19: GLｶﾗｰ鋼板 棟下地共 | D19: 15.1 | E19: ｍ
B21: 谷納 | C21: GLｶﾗｰ鋼板 t=0.5 | D21: 12.7 | E21: ｍ
B23: 軒先水切 | C23: GLｶﾗｰ鋼板 t=0.5 | D23: 121 | E23: ｍ
B25: 軒先唐草 | C25: GLｶﾗｰ鋼板 t=0.5 | D25: 121 | E25: ｍ
B27: 軒先幕板 | C27: GLｶﾗｰ鋼板 t=0.5 見切り共 | D27: 121 | E27: ｍ
B29: ｹﾗﾊﾞ水切 | C29: GLｶﾗｰ鋼板 t=0.5 | D29: 24.6 | E29: ｍ
B31: ｹﾗﾊﾞ幕板 | C31: GLｶﾗｰ鋼板 t=0.5 見切り共 | D31: 24.6 | E31: ｍ
B33: 壁立上り | C33: GLｶﾗｰ鋼板 t=0.5 | D33: 25.3 | E33: ｍ
... B37: 軒樋 | C37: GLｶﾗｰ鋼板 W165 | D37: 137 | E37: ｍ
A45: （細目別内訳）
A46: 名 称 | C46: 規 格・寸 法 | D46: 数 量 | E46: 単位 | F46: 単 価 | G46: 金 額 | H46: 備 考
B50: 屋根（続き）
B52: 落とし口 | C52: 100φ | D52: 4 | E52: カ所
B54: ｴﾙﾎﾞ | C54: 100φ | D54: 8 | E54: カ所
B56: 竪樋 | C56: 塩ビ製 100φ 掴み金物共 | D56: 24.4 | E56: ｍ
B58: 鎖樋 | C58: ｽﾃﾝﾚｽ製 | D58: 36 | E58: ｍ
B60: 鎖樋落とし口 | C60: ｽﾃﾝﾚｽ製 | D60: 12 | E60: カ所
B64: 屋根1.9寸
C65: 製品名:TRX-4型相当
B66: 嵌合吊子式立平葺き 働き幅455 | C66: GLｶﾗｰ鋼板 t=0.5 裏貼りt=2.0 | D66: 699 | E66: ㎡
B68: 部分吊子 | C68: ｱﾙﾐ押型材 | D68: 699 | E68: ㎡
B70: 改質ｱｽﾌｧﾙﾄﾙｰﾌｨﾝｸﾞ | C70: ﾀｯｸ付き t=1.0 | D70: 699 | E70: ㎡
B72: 換気棟包み | C72: GLｶﾗｰ鋼板 棟金具,棟下地共 | D72: 15.2 | E72: ｍ
B74: 軒先水切 | C74: GLｶﾗｰ鋼板 t=0.5 | D74: 57.2 | E74: ｍ
B76: 軒先唐草 | C76: GLｶﾗｰ鋼板 t=0.5 | D76: 57.2 | E76: ｍ
B78: 軒先幕板 | C78: GLｶﾗｰ鋼板 t=0.5 見切り共 | D78: 57.2 | E78: ｍ
B80: ｹﾗﾊﾞ水切 | C80: GLｶﾗｰ鋼板 t=0.5 | D80: 22.5 | E80: ｍ
A88: （細目別内訳）
A89: 名 称 | C89: 規 格・寸 法 | D89: 数 量 | E89: 単位 | F89: 単 価 | G89: 金 額 | H89: 備 考
B93: 屋根（続き） | G93: 0
B95: ｹﾗﾊﾞ幕板 | C95: GLｶﾗｰ鋼板 t=0.5 見切り共 | D95: 22.5 | E95: ｍ
B97: 壁立上り | C97: GLｶﾗｰ鋼板 t=0.5 | D97: 15.8 | E97: ｍ
B99: 壁捨て谷 | C99: GLｶﾗｰ鋼板 t=0.5 | D99: 13.4 | E99: ｍ
B101: 軒樋 | C101: GLｶﾗｰ鋼板 W165 | D101: 57.2 | E101: ｍ
B103: 落とし口 | C103: 100φ | D103: 7 | E103: カ所
B105: ｴﾙﾎﾞ | C105: 100φ | D105: 14 | E105: カ所
B107: 竪樋 | C107: 塩ビ製 100φ 掴み金物共 | D107: 35.7 | E107: ｍ
B111: 屋根1.0寸
C112: 製品名:TRX-4型相当
B113: 嵌合吊子式立平葺き 働き幅455 | C113: GLｶﾗｰ鋼板 t=0.5 裏貼りt=2.0 | D113: 828 | E113: ㎡
B115: 部分吊子 | C115: ｱﾙﾐ押型材 | D115: 828 | E115: ㎡
B117: 改質ｱｽﾌｧﾙﾄﾙｰﾌｨﾝｸﾞ | C117: ﾀｯｸ付き t=1.0 | D117: 828 | E117: ㎡
B119: 換気棟包み | C119: GLｶﾗｰ鋼板 棟金具,棟下地共 | D119: 15.8 | E119: ｍ
B121: 軒先水切 | C121: GLｶﾗｰ鋼板 t=0.5 | D121: 49.3 | E121: ｍ
B123: 軒先唐草 | C123: GLｶﾗｰ鋼板 t=0.5 | D123: 49.3 | E123: ｍ
A131: （細目別内訳）
A132: 名 称 | C132: 規 格・寸 法 | D132: 数 量 | E132: 単位 | F132: 単 価 | G132: 金 額 | H132: 備 考
B136: 屋根（続き） | G136: 0
B138: 軒先幕板 | C138: GLｶﾗｰ鋼板 t=0.5 見切り共 | D138: 49.3 | E138: ｍ
B140: 軒先水切(斜め) | C140: GLｶﾗｰ鋼板 t=0.5 | D140: 20 | E140: ｍ
B142: 軒先唐草(斜め) | C142: GLｶﾗｰ鋼板 t=0.5 | D142: 20 | E142: ｍ
B144: 軒先幕板(斜め) | C144: GLｶﾗｰ鋼板 t=0.5 見切り共 | D144: 20 | E144: ｍ
B146: ｹﾗﾊﾞ水切 | C146: GLｶﾗｰ鋼板 t=0.5 | D146: 52.8 | E146: ｍ
B148: ｹﾗﾊﾞ幕板 | C148: GLｶﾗｰ鋼板 t=0.5 見切り共 | D148: 52.8 | E148: ｍ
B150: EXP・J 取合立上り | C150: GLｶﾗｰ鋼板 t=0.5 | D150: 6.2 | E150: ｍ
B152: EXP・J 取合捨て谷 | C152: GLｶﾗｰ鋼板 t=0.5 | D152: 0.1 | E152: ｍ
B154: 軒樋 | C154: GLｶﾗｰ鋼板 W165 | D154: 18.3 | E154: ｍ
B156: 軒樋(斜め) | C156: GLｶﾗｰ鋼板 W165 | D156: 20 | E156: ｍ
B158: 曲り | C158: GLｶﾗｰ鋼板 | D158: 1 | E158: カ所
B160: 落とし口 | C160: 100φ | D160: 3 | E160: カ所
... B166: 這樋 | C166: 塩ビ製 100φ | D166: 10.8 | E166: ｍ
A174: （細目別内訳）
A175: 名 称 | C175: 規 格・寸 法 | D175: 数 量 | E175: 単位 | F175: 単 価 | G175: 金 額 | H175: 備 考
B179: 屋根（続き）
B181: ｴﾙﾎﾞ | C181: 100φ | D181: 8 | E181: カ所
B185: 屋根0.5寸
C186: 製品名:TRX-4型相当
B187: 嵌合吊子式立平葺き 働き幅455 | C187: GLｶﾗｰ鋼板 t=0.5 裏貼りt=2.0 | D187: 81.3 | E187: ㎡
B189: 部分吊子 | C189: ｱﾙﾐ押型材 | D189: 81.3 | E189: ㎡
B191: 改質ｱｽﾌｧﾙﾄﾙｰﾌｨﾝｸﾞ | C191: ﾀｯｸ付き t=1.0 | D191: 81.3 | E191: ㎡
B193: 片棟包み | C193: GLｶﾗｰ鋼板 棟金具,棟下地共 | D193: 1.4 | E193: ｍ
B195: 軒先水切 | C195: GLｶﾗｰ鋼板 t=0.5 | D195: 19.3 | E195: ｍ
B197: 軒先唐草 | C197: GLｶﾗｰ鋼板 t=0.5 | D197: 19.3 | E197: ｍ
B199: 軒先幕板 | C199: GLｶﾗｰ鋼板 t=0.5 見切り共 | D199: 19.3 | E199: ｍ
B201: ｹﾗﾊﾞ水切 | C201: GLｶﾗｰ鋼板 t=0.5 | D201: 9.6 | E201: ｍ
B203: ｹﾗﾊﾞ幕板 | C203: GLｶﾗｰ鋼板 t=0.5 見切り共 | D203: 9.6 | E203: ｍ
B205: 壁立上り | C205: GLｶﾗｰ鋼板 t=0.5 | D205: 15.8 | E205: ｍ
B207: 壁捨て谷 | C207: GLｶﾗｰ鋼板 t=0.5 | D207: 13.4 | E207: ｍ
B209: 軒樋 | C209: GLｶﾗｰ鋼板 W165 | D209: 57.2 | E209: ｍ
A217: （細目別内訳）
A218: 名 称 | C218: 規 格・寸 法 | D218: 数 量 | E218: 単位 | F218: 単 価 | G218: 金 額 | H218: 備 考
B222: 屋根（続き）
B224: 落とし口 | C224: 100φ | D224: 7 | E224: カ所
B226: 鎖樋 | C226: ｽﾃﾝﾚｽ製 | D226: 13.6 | E226: ｍ
B256: 計
A260: （細目別内訳）
A261: 名 称 | C261: 規 格・寸 法 | D261: 数 量 | E261: 単位 | F261: 単 価 | G261: 金 額 | H261: 備 考
A265: (2) | B265: 外壁 | G265: 0
B267: 北面外壁
C268: 製品名:TRX-4型相当
...

Sheet 金属
A2: （細目別内訳）
A3: 名 称 | C3: 規 格・寸 法 | D3: 数 量 | E3: 単位 | F3: 単 価 | G3: 金 額 | H3: 備 考
A5: ｌ. | B5: 金属
A7: (1) | B7: 外部 | G7: 0
C8: 屋根-外壁 ｱﾙﾐ製 ｸﾘｱﾗﾝｽ150
B9: EXP.Jｶﾊﾞｰ | C9: EVｼｰﾄ､断熱帯t10､耐火帯t12.5共 | D9: 10.6 | E9: ｍ
B11: 同上 90度ｺｰﾅｰ | C11: ｱﾙﾐ ｼﾙﾊﾞｰ | D11: 1 | E11: カ所
B13: 同上可動小口ﾌﾀ | C13: ｱﾙﾐ ｼﾙﾊﾞｰ | D13: 2 | E13: カ所
C14: 外壁ｺｰﾅｰ 熱可塑性ｴﾗｽﾄﾏｰ製
B15: EXP.Jｶﾊﾞｰ | C15: ｸﾘｱﾗﾝｽ150 | D15: 9 | E15: ｍ
B17: 同上溶着ｺｰﾅｰ | C17: ｱﾙﾐ ｼﾙﾊﾞｰ | D17: 2 | E17: カ所
B19: 下部ﾛｾﾞｯﾀｸｯｼｮﾝ | C19: ｱﾙﾐ ｼﾙﾊﾞｰ | D19: 2 | E19: カ所
B21: ｽﾛｰﾌﾟ手摺 | C21: φ34 L8000 H900(2段) | D21: 1 | E21: カ所
B23: 土台水切 | C23: ｶﾗｰｶﾞﾙﾊﾞﾘｳﾑ鋼板 t0.35 | D23: 123 | E23: ｍ
B24: 無塗装ｻｲﾃﾞｨﾝｸﾞ+窯業ｻｲﾃﾞｨﾝｸﾞ
B25: 出隅用見切り材 | C25: ｱﾙﾐ製 t3.0 | D25: 15 | E25: ｍ
B26: 外壁-軒天
B27: 通気見切 | C27: ｶﾗｰｶﾞﾙﾊﾞﾘｳﾑ鋼板 t0.35 | D27: 300 | E27: ｍ
B29: 壁固定物干し | C29: ｱﾙﾐ製 D500 2箇所/組 | D29: 2 | E29: 組
B30: 手洗い足洗い場
B31: 排水目皿 | C31: ｽﾃﾝﾚｽ製 φ50 | D31: 6 | E31: カ所
B33: 衝突防止表示 | C33: SUS製 φ30 (両面) | D33: 12 | E33: カ所
B41: 計
A45: （細目別内訳）
A46: 名 称 | C46: 規 格・寸 法 | D46: 数 量 | E46: 単位 | F46: 単 価 | G46: 金 額 | H46: 備 考
A50: (2) | B50: 内部
C51: 熱可塑性ｴﾗｽﾄﾏｰ製 床-床
B52: EXP.Jｶﾊﾞｰ | C52: ｸﾘｱﾗﾝｽ幅150 | D52: 3 | E52: ｍ
C53: 熱可塑性ｴﾗｽﾄﾏｰ製 天井-天井
B54: EXP.Jｶﾊﾞｰ | C54: ｸﾘｱﾗﾝｽ幅150 | D54: 3.1 | E54: ｍ
C55: 熱可塑性ｴﾗｽﾄﾏｰ製 内壁-内壁
B56: EXP.Jｶﾊﾞｰ | C56: ｸﾘｱﾗﾝｽ幅150 | D56: 4.8 | E56: ｍ
B58: 同上溶着ｺｰﾅｰ | D58: 2 | E58: カ所
B59: 調理室 | C59: HACCAPﾋﾟｯﾄ 溝350角 H350
B60: 集水桝 | D60: 5 | E60: カ所
B62: 床点検口 | C62: ｱﾙﾐ製 600角 | D62: 8 | E62: か所
B64: 床見切り | C64: ｽﾃﾝﾚｽ製 W40×t2.0 | D64: 71.6 | E64: ｍ
B66: 上り框 | C66: ｽﾃﾝﾚｽ製 W50×t40 | D66: 3.5 | E66: ｍ
B68: 上り框 | C68: ｽﾃﾝﾚｽ製 W100×t40 | D68: 8 | E68: ｍ
B70: 段鼻ﾉﾝｽﾘｯﾌﾟ | C70: ｽﾃﾝﾚｽ製 W35 ﾋﾞﾆﾙﾀｲﾔ入 | D70: 4.8 | E70: ｍ
B72: 巾木見切り | C72: ｱﾙﾐｱﾝｸﾞﾙ | D72: 43.8 | E72: ｍ
B74: ﾋﾞﾆﾙ床ｼｰﾄ巻き上げ見切り | C74: ｱﾙﾐ製 | D74: 12.5 | E74: ｍ
B76: ｺｰﾅｰﾋﾞｰﾄﾞ | C76: ｱﾙﾐ製 | D76: 87.4 | E76: ｍ
B78: ｶｰﾃﾝﾚｰﾙ | C78: SUS製 C型 ﾀﾞﾌﾞﾙ | D78: 54 | E78: ｍ
B80: ﾀﾗｯﾌﾟ | C80: SST-22-300*300 | D80: 4 | E80: カ所
A88: （細目別内訳）
A89: 名 称 | C89: 規 格・寸 法 | D89: 数 量 | E89: 単位 | F89: 単 価 | G89: 金 額 | H89: 備 考
B93: 内部（続き）
B95: ｽﾛｰﾌﾟ手摺 | C95: φ34 L11100 H900(2段) | D95: 1 | E95: カ所
C96: 支柱:SUS304 □-50x50x1.5tHL 下地:SUS304 L-3x30x30HL W2460xD820
B97: 調理室配膳棚下地 | D97: 2 | E97: カ所
B99: 天井点検口 | C99: ｱﾙﾐ製 450角 | D99: 95 | E99: か所
B101: 軽量鉄骨天井下地 | C101: 19形 H<1.5 @225 | D101: 62 | E101: ㎡
C102: 下地振れ止め補強を含む
B103: 軽量鉄骨天井下地 | C103: 19形 1.5≦H<3.0 @225 | D103: 6.8 | E103: ㎡
B105: 軽量鉄骨天井下地 | C105: 19形 H<1.5 @300 | D105: 415 | E105: ㎡
B107: 軽量鉄骨天井下地 | C107: 19形 H<1.5 @300 斜部 | D107: 627 | E107: ㎡
C108: 下地振れ止め補強を含む
B109: 軽量鉄骨天井下地 | C109: 19形 1.5≦H<3.0 @300 | D109: 756 | E109: ㎡
C110: 下地振れ止め補強を含む
B111: 軽量鉄骨天井下地 | C111: 19形 1.5≦H<3.0 @360 | D111: 67.9 | E111: ㎡
B113: 軽量鉄骨天井下地 | C113: 19形 H<1.5 @360 斜部 | D113: 190 | E113: ㎡
B115: 軽量鉄骨天井下地開口部補強 | D115: 1 | E115: 式 | F115: =K115 -> 0 | H115: 別紙明細Ⅰ-2
B117: 軽量鉄骨下がり壁下地 | C117: 19形 H200 | D117: 40 | E117: ｍ
B119: 軽量鉄骨下がり壁下地 | C119: 19形 H750 | D119: 2.4 | E119: ｍ
B121: 軽量鉄骨下がり壁下地 | C121: 19形 H1050 | D121: 12.6 | E121: ｍ
B123: 軽量鉄骨下がり壁下地 | C123: 19形 H1172 | D123: 9.6 | E123: ｍ
A131: （細目別内訳）
A132: 名 称 | C132: 規 格・寸 法 | D132: 数 量 | E132: 単位 | F132: 単 価 | G132: 金 額 | H132: 備 考
B136: 内部（続き）
B138: 軽量鉄骨下がり壁下地 | C138: 19形 H1280 | D138: 12.6 | E138: ｍ
B140: 軽量鉄骨下がり壁下地 | C140: 19形 H2040 | D140: 18.9 | E140: ｍ
B142: 軽量鉄骨下がり壁下地 | C142: 19形 H2779 | D142: 7 | E142: ｍ
B144: 軽量鉄骨下がり壁下地 | C144: 19形 H575～3005 | D144: 112 | E144: ｍ
B146: 軽量鉄骨下がり壁下地 | C146: 19形 H1172～2040 | D146: 7.6 | E146: ｍ
B148: 軽量鉄骨下がり壁下地 | C148: 19形 H2885～3005 | D148: 1.8 | E148: ｍ
B170: 計

Sheet 左官
A2: （細目別内訳）
A3: 名 称 | C3: 規 格・寸 法 | D3: 数 量 | E3: 単位 | F3: 単 価 | G3: 金 額 | H3: 備 考
A5: ｍ. | B5: 左官
A7: (1) | B7: 外部
B8: ﾃﾗｽ
B9: 床ｺﾝｸﾘｰﾄ鏝押え | C9: 金ごて ﾋﾞﾆﾙ床ｼｰﾄ下地 | D9: 95.4 | E9: ㎡
B10: ﾃﾗｽ段部
B11: 床ｺﾝｸﾘｰﾄ鏝押え | C11: 金ごて ﾋﾞﾆﾙ床ｼｰﾄ下地 | D11: 17.7 | E11: ㎡
B12: 玄関ﾎﾟｰﾁ
B13: 床ﾓﾙﾀﾙ塗り | C13: 木ごて ﾀｲﾙ下地 | D13: 4.8 | E13: ㎡
B14: 外壁
B15: ｱｸﾘﾙ樹脂系多意匠装飾仕上塗材 | C15: ｻｲﾃﾞｨﾝｸﾞ面 | D15: 134 | E15: ㎡
B17: 同上目地処理 | D17: 134 | E17: ㎡
B18: 靴箱用腰壁天端
B19: 床ｺﾝｸﾘｰﾄ鏝押え | C19: 金ごて 吹付下地 | D19: 6.4 | E19: ㎡
B20: 手洗い足洗い場笠木天端
B21: ｺﾝｸﾘｰﾄ鏝押え | C21: 金ごて W=120 | D21: 6 | E21: ｍ
B22: 手洗い足洗い場笠木天端
B23: ｺﾝｸﾘｰﾄ鏝押え | C23: 金ごて W=200 | D23: 4.2 | E23: ｍ
B24: 手洗い足洗い場底
B25: 床ﾓﾙﾀﾙ塗り | C25: 金ごて 仕上 | D25: 3.4 | E25: ㎡
B26: 手洗い足洗い場立上り
B27: ﾓﾙﾀﾙ塗り | C27: 金ごて 仕上 | D27: 1.8 | E27: ㎡
B28: 手洗い足洗い場笠木天端
B29: ﾓﾙﾀﾙ塗り | C29: 金ごて W=120 | D29: 8.3 | E29: ｍ
B30: 手洗い足洗い場壁 | C30: ｺﾝｸﾘｰﾄ面 ゆず肌状 ﾛｰﾗｰ塗り
B31: 複層塗材E | C31: 下地調整C-1種共 | D31: 11.1 | E31: ㎡
B32: 手洗い足洗い場笠木天端 | C32: ｺﾝｸﾘｰﾄ面 ゆず肌状 ﾛｰﾗｰ塗り
B33: 複層塗材E | C33: 下地調整C-1種共 | D33: 1.6 | E33: ㎡
B34: 靴箱用腰壁天端 | C34: ｺﾝｸﾘｰﾄ面 ゆず肌状 ﾛｰﾗｰ塗り
B35: 複層塗材E | C35: 下地調整C-1種共 | D35: 6.4 | E35: ㎡
B36: 靴箱用腰壁 | C36: ｺﾝｸﾘｰﾄ面 ゆず肌状 ﾛｰﾗｰ塗り
B37: 複層塗材E | C37: 下地調整C-1種共 | D37: 20.7 | E37: ㎡
B41: 計
A45: （細目別内訳）
A46: 名 称 | C46: 規 格・寸 法 | D46: 数 量 | E46: 単位 | F46: 単 価 | G46: 金 額 | H46: 備 考
A50: (2) | B50: 内部
B53: 土間天(地下ﾋﾟｯﾄ含)
B54: 床ｺﾝｸﾘｰﾄ鏝押え | C54: 金ごて 仕上 | D54: 1492 | E54: ㎡
B56: 床ｺﾝｸﾘｰﾄ鏝押え | C56: 金ごて ﾋﾞﾆﾙ床ｼｰﾄ下地 | D56: 101 | E56: ㎡
B58: 床ｺﾝｸﾘｰﾄ鏝押え | C58: 金ごて ｶｰﾍﾟｯﾄ下地 | D58: 5.6 | E58: ㎡
B60: 床ｺﾝｸﾘｰﾄ鏝押え | C60: 金ごて 塗床下地 | D60: 159 | E60: ㎡
B62: 床ｺﾝｸﾘｰﾄ鏝押え | C62: 金ごて ﾀｲﾙ下地 | D62: 15.9 | E62: ㎡
B64: 床ｺﾝｸﾘｰﾄ鏝押え | C64: 金ごて US･UB下地 | D64: 2.4 | E64: ㎡
B66: 床ｺﾝｸﾘｰﾄ鏝押え | C66: 金ごて 鋼製床組下地 | D66: 1419 | E66: ㎡
B84: 計

Sheet 建具
A2: （細目別内訳）
A3: 名 称 | C3: 規 格・寸 法 | D3: 数 量 | E3: 単位 | F3: 単 価 | G3: 金 額 | H3: 備 考
A5: ｎ. | B5: 建具
A7: (1) | B7: アルミニウム建具
C8: 引違い窓（2枚建）
B9: AW-1 | C9: 2000×1000 | D9: 1 | E9: カ所
C10: 引違い窓（2枚建）
B11: AW-2 | C11: 2000×1660 | D11: 2 | E11: カ所
C12: 2連排煙突出し窓
B13: AW-3 | C13: 1600×750 | D13: 3 | E13: カ所
C14: 引違い窓（2枚建）
B15: AW-4 | C15: 1500×1360 | D15: 1 | E15: カ所
C16: 引違い窓（2枚建）防火設備
B17: AW-5Z | C17: 1500×1360 | D17: 2 | E17: カ所
C18: 引違い窓（2枚建）
B19: AW-6 | C19: 1600×1200 | D19: 2 | E19: カ所
C20: 排煙外倒し窓
B21: AW-7 | C21: 1500×560 | D21: 5 | E21: カ所
C22: FIX窓
B23: AW-8 | C23: 1500×600 | D23: 4 | E23: カ所
C24: FIX窓
B25: AW-9 | C25: 2000×1000 | D25: 1 | E25: カ所
C26: 排煙外倒し窓
B27: AW-10 | C27: 1200×1100 | D27: 2 | E27: カ所
C28: FIX窓
B29: AW-11 | C29: 1200×1100 | D29: 7 | E29: カ所
C30: 3連3段FIX窓（上部変形）
B31: AW-12 | C31: 2800×4550 | D31: 1 | E31: カ所
C32: 引違い窓（2枚建）
B33: AW-14 | C33: 1500×1360 | D33: 1 | E33: カ所
C34: 排煙外倒し窓
B35: AW-15 | C35: 1100×750 | D35: 1 | E35: カ所
C36: 排煙外倒し窓
B37: AW-16 | C37: 1600×750 | D37: 1 | E37: カ所
A45: （細目別内訳）
A46: 名 称 | C46: 規 格・寸 法 | D46: 数 量 | E46: 単位 | F46: 単 価 | G46: 金 額 | H46: 備 考
B50: アルミニウム建具（続き）
C51: 排煙外倒し窓
B52: AW-17 | C52: 900×560 | D52: 1 | E52: カ所
C53: アルミ四方枠
B54: AW-18 | C54: 2200×1850 | D54: 1 | E54: カ所
C55: アルミ四方枠
B56: AW-19 | C56: 1820×1950 | D56: 1 | E56: カ所
C57: 引違い窓（2枚建）
B58: AW-20 | C58: 2000×1660 | D58: 2 | E58: カ所
C59: 引違い窓（2枚建）
B60: AW-20-1 | C60: 2000×1660 | D60: 2 | E60: カ所
C61: 引違い窓（2枚建）
B62: AW-21 | C62: 1500×1660 | D62: 1 | E62: カ所
C63: 引違い窓（2枚建）
B64: AW-22 | C64: 2000×1660 | D64: 2 | E64: カ所
C65: FIX窓
B66: AW-22-1 | C66: 2000×500 | D66: 2 | E66: カ所
C67: 2連引き違い窓（2枚建）
B68: AW-23 | C68: 2480×1020 | D68: 1 | E68: カ所
C69: 引き違い窓【カウンター窓】
B70: AW-24 | C70: 1230×950 | D70: 1 | E70: カ所
C71: 両袖FIX付き両開き框ドア
B72: AD-1 | C72: 2500×2500 | D72: 1 | E72: カ所
C73: ランマ2連排煙外倒し窓月引違い窓（2枚建）
B74: AD-3 | C74: 2000×2560 | D74: 2 | E74: カ所
C75: ランマ2連排煙外倒し窓月引違い窓（2枚建）
B76: AD-3-1 | C76: 2000×2560 | D76: 6 | E76: カ所
C77: ランマ4連排煙外倒し窓月引違い窓（4枚建）
B78: AD-4 | C78: 4000×2560 | D78: 2 | E78: カ所
C79: 両袖FIX付き引き分けﾊﾝｶﾞｰ框戸
B80: AD-5 | C80: 4000×2550 | D80: 1 | E80: カ所
A88: （細目別内訳）
A89: 名 称 | C89: 規 格・寸 法 | D89: 数 量 | E89: 単位 | F89: 単 価 | G89: 金 額 | H89: 備 考
B93: アルミニウム建具（続き） | G93: 0
B95: AD-6 | C95: 4+4枚引分け折戸 | D95: 1 | E95: カ所
C96: 引違い窓（3枚建）
B97: AD-7 | C97: 2700×2000 | D97: 1 | E97: カ所
C98: 引違い窓（4枚建）
B99: AD-8 | C99: 4000×2400 | D99: 1 | E99: カ所
C100: 上段3連排煙外倒し窓付 下段3連FIX窓
B101: AD-8-1 | C101: 2984×1660 | D101: 1 | E101: カ所
C102: 引違い窓（2枚建）
B103: AD-9 | C103: 2400×2300 | D103: 1 | E103: カ所
C104: 上段2連排煙外倒し窓付 下段2連FIX窓
B105: AD-9-1 | C105: 2500×1660 | D105: 1 | E105: カ所
C106: 引違い窓（2枚建） 防火設備
B107: AD-10Z | C107: 1800×2000 | D107: 2 | E107: カ所
C108: 排煙外倒し窓 防火設備
B109: AD-10-1Z | C109: 1800×460 | D109: 2 | E109: カ所
C110: 引違い窓（2枚建）
B111: AD-11 | C111: 1600×2000 | D111: 1 | E111: カ所
C112: 片開き框ドア 指はさみ防止仕様
B113: AD-12 | C113: 800×2000 | D113: 1 | E113: カ所
C114: ランマ2連排煙外倒し窓付 引違い窓（2枚建）
B115: AD-13 | C115: 1600×2560 | D115: 2 | E115: カ所
C116: 片開きフラッシュドア
B117: AD-14 | C117: 700×2000 | D117: 1 | E117: カ所
C118: ランマ排煙外倒し窓付 親子開きフラッシュドア（額窓付）
B119: AD-15 | C119: 1200×2560 | D119: 1 | E119: カ所
C120: ランマ2連排煙外倒し窓付 引違い窓（2枚建）
B121: AD-16 | C121: 1600×2660 | D121: 1 | E121: カ所
B123: 取付調整費 | D123: 1 | E123: 式
A131: （細目別内訳）
A132: 名 称 | C132: 規 格・寸 法 | D132: 数 量 | E132: 単位 | F132: 単 価 | G132: 金 額 | H132: 備 考
...

Sheet 塗装
A2: （細目別内訳）
A3: 名 称 | C3: 規 格・寸 法 | D3: 数 量 | E3: 単位 | F3: 単 価 | G3: 金 額 | H3: 備 考
A5: ｏ. | B5: 塗装
A7: (1) | B7: 外部
B9: 素地ごしらえ | C9: ｹｲｶﾙ板面 B種 | D9: 104 | E9: ㎡
B11: 素地ごしらえ | C11: 鉄鋼面 C種 | D11: 33.3 | E11: ㎡
B13: 素地ごしらえ | C13: 木部 B種 | D13: 1343 | E13: ㎡
B14: 軒天
B15: EP-Si塗 | C15: ｹｲｶﾙ板面 B種 | D15: 104 | E15: ㎡
B16: 鉄骨
B17: DP塗 | C17: 鉄鋼面 上塗り1級 2回 | D17: 33.3 | E17: ㎡
B18: 軒天
B19: WP塗 | C19: 木部 B種 | D19: 520 | E19: ㎡
B20: 面戸板
B21: WP塗 | C21: 木部 B種 | D21: 32.2 | E21: ㎡
B22: 見切り材
B23: WP塗 | C23: 木部 B種 | D23: 6 | E23: ㎡
B24: 化粧垂木･梁
B25: WP塗 | C25: 木部 B種 | D25: 785 | E25: ㎡
B41: 計
A45: （細目別内訳）
A46: 名 称 | C46: 規 格・寸 法 | D46: 数 量 | E46: 単位 | F46: 単 価 | G46: 金 額 | H46: 備 考
A48: ｏ. | B48: 塗装
A50: (2) | B50: 内部
B52: 素地ごしらえ | C52: 鉄鋼建具面 C種 | D52: =D60 -> 19.2 | E52: ㎡
B54: 素地ごしらえ | C54: ﾎﾞｰﾄﾞ面 B種 | D54: =D62 -> 22.5 | E54: ㎡
B56: 素地ごしらえ | C56: ｹｲｶﾙ板面 B種 | D56: =D64+D66 -> 87.9 | E56: ㎡
B58: 素地ごしらえ | C58: 木部 B種 | D58: =SUM(D67:D74) -> 76.1 | E58: ㎡
B59: 建具
B60: DP塗 | C60: 鋼製建具面 | D60: 19.2 | E60: ㎡
B61: 天井
B62: EP-Si塗 | C62: ﾎﾞｰﾄﾞ面 工程B種 | D62: 22.5 | E62: ㎡
B63: 天井 | C63: けい酸ｶﾙｼｳﾑ面
B64: EP-Si塗 | C64: 工程B種 | D64: 86.7 | E64: ㎡
B65: 下り壁 | C65: けい酸ｶﾙｼｳﾑ面
B66: EP-Si塗 | C66: 工程B種 | D66: 1.2 | E66: ㎡
B67: K-27 ｶｳﾝﾀｰ
B68: UC塗 | C68: 木部 B種 | D68: 4.7 | E68: ㎡
B70: WP塗 | C70: 木部 B種 | D70: 19 | E70: ㎡
B71: 化粧柱
B72: WP塗 | C72: 木部 B種 | D72: 11.6 | E72: ㎡
B73: 化粧梁
B74: WP塗 | C74: 木部 B種 | D74: 40.8 | E74: ㎡
B75: 建具
B76: OSCL塗 | C76: 木部 B種 素地B種共 | D76: 147 | E76: ㎡
B78: OSCL塗 | C78: 木部 B種 素地B種共 | D78: 15 | E78: ㎡
B80: 素地ごしらえ(糸幅300㎜以下) | C80: 木部 A種 | D80: 23 | E80: ｍ
A88: （細目別内訳）
A89: 名 称 | C89: 規 格・寸 法 | D89: 数 量 | E89: 単位 | F89: 単 価 | G89: 金 額 | H89: 備 考
A91: ｏ. | B91: 塗装
A93: (2) | B93: 内部（続き）
B94: 上り框
B95: UC塗(糸幅300㎜以下) | C95: 木部 B種 | D95: 10.7 | E95: ｍ
B96: 上り框
B97: WP塗(糸幅300㎜以下) | C97: 木部 B種 | D97: 8.6 | E97: ｍ
B98: 腰壁天板
B99: WP塗(糸幅300㎜以下) | C99: 木部 B種 | D99: 3.7 | E99: ｍ
B100: 額縁
B101: OSCL塗(糸幅300㎜以下) | C101: 木部 B種 素地B種共 | D101: 267 | E101: ｍ
B102: 開口枠
B103: OSCL塗(糸幅300㎜以下) | C103: 木部 B種 素地B種共 | D103: 20.8 | E103: ｍ
B127: 計

Sheet 内外装
A2: （細目別内訳）
A3: 名 称 | C3: 規 格・寸 法 | D3: 数 量 | E3: 単位 | F3: 単 価 | G3: 金 額 | H3: 備 考
A5: ｐ. | B5: 内外装
A7: (1) | B7: 外部 | G7: 0
B9: 屋根 押出法ﾎﾟﾘｽﾁﾚﾝﾌｫｰﾑ保温板 | C9: t80(40+40) 3種bA | D9: 1966 | E9: ㎡
C10: 通気金具止め共
B11: 外壁 窯業系ｻｲﾃﾞｨﾝｸﾞ | C11: t18 縦張り 木目調塗装品 | D11: 444 | E11: ㎡
B12: 同上
B13: 出隅役物 | D13: 26 | E13: ｍ
B14: 同上
B15: 入隅役物 | D15: 10.3 | E15: ｍ
B17: 外壁 透湿防水ｼｰﾄ | C17: 窯業系ｻｲﾃﾞｨﾝｸﾞ下 | D17: 444 | E17: ㎡
B19: 無地ｻｲﾃﾞｨﾝｸﾞ | D19: 134 | E19: ㎡
B21: 外壁 透湿防水ｼｰﾄ | C21: 無地ｻｲﾃﾞｨﾝｸﾞ下 | D21: 134 | E21: ㎡
B23: 耐火壁 強化石膏ﾎﾞｰﾄﾞ | C23: t21+21(Z-WR) 下地張り | D23: 14.5 | E23: ㎡
B25: 準耐火壁 石膏ﾎﾞｰﾄﾞ | C25: t12.5+9.5(Z-WR) 下地張り | D25: 89 | E25: ㎡
B26: 軒天 ﾊﾟﾙﾌﾟ系繊維混入
B27: けい酸ｶﾙｼｳﾑ化合物板 | C27: t30 | D27: 94 | E27: ㎡
B29: 軒天 けい酸ｶﾙｼｳﾑ板 | C29: t8 目透し | D29: 10.1 | E29: ㎡
B30: こども園テラス
B31: 床防滑性ビニル床シート | C31: t=5.0 発砲塩ビ層裏打 | D31: 95.4 | E31: ㎡
B32: こども園テラス
B33: 床防滑性ビニル床シート | C33: t=5.0 発砲塩ビ層裏打 | D33: 17.7 | E33: ㎡
B34: こども園テラス
B35: 同上段鼻ステップ | D35: 78.7 | E35: ｍ
B36: こども園テラス
B37: 同上 シーリング | D37: 220 | E37: ｍ
B41: 計
A45: （細目別内訳）
A46: 名 称 | C46: 規 格・寸 法 | D46: 数 量 | E46: 単位 | F46: 単 価 | G46: 金 額 | H46: 備 考
A50: (2) | B50: 内部
B52: 防塵塗装 | C52: 表面強化剤 | D52: 17.8 | E52: ㎡
B54: 床塗料塗り | C54: 水性型無機系 | D54: 141 | E54: ㎡
B56: ﾋﾞﾆﾙ床ｼｰﾄ | C56: t2.0 FS 無地 一般部 | D56: 137 | E56: ㎡
B58: ﾋﾞﾆﾙ床ｼｰﾄ | C58: t2.0 FS 無地 一般部 抗菌 | D58: 11.6 | E58: ㎡
B60: ﾋﾞﾆﾙ床ｼｰﾄ | C60: t2.0 FS 無地 多湿部 抗菌 | D60: 128 | E60: ㎡
B62: 防滑性ﾋﾞﾆﾙ床ｼｰﾄ | C62: t2.5 FS 無地 一般部 | D62: 6.8 | E62: ㎡
B63: ｽﾛｰﾌﾟ
B64: 防滑性ﾋﾞﾆﾙ床ｼｰﾄ | C64: t2.5 FS 無地 一般部 | D64: 10.6 | E64: ㎡
B66: 厨房用防滑性ﾋﾞﾆﾙ床ｼｰﾄ | C66: t2.5 FS 無地 多湿部 | D66: 87.3 | E66: ㎡
C67: t2.0 半硬質 KT 一般 300角
B68: ﾋﾞﾆﾙ床ﾀｲﾙ | C68: 木目調 帯電防止 防滑性 | D68: 138 | E68: ㎡
B70: 床ﾀｲﾙｶｰﾍﾟｯﾄ | C70: 厚6.5 500角 | D70: 5.6 | E70: ㎡
B72: 床 複合ﾌﾛｰﾘﾝｸﾞ | C72: なら t12 塗装品 | D72: 937 | E72: ㎡
B74: 床 複合ﾌﾛｰﾘﾝｸﾞ | C74: なら t12 床暖房用 | D74: 92.7 | E74: ㎡
B75: 踏面
B76: 床 複合ﾌﾛｰﾘﾝｸﾞ | C76: なら t12 | D76: 0.9 | E76: ㎡
B77: 蹴込
B78: 床 複合ﾌﾛｰﾘﾝｸﾞ | C78: なら t12 | D78: 1 | E78: ㎡
A88: （細目別内訳）
A89: 名 称 | C89: 規 格・寸 法 | D89: 数 量 | E89: 単位 | F89: 単 価 | G89: 金 額 | H89: 備 考
B93: 内部（続き） | G93: 0
B95: 畳 | C95: D種 半畳 t55 KT-Ⅲ | D95: 12 | E95: 枚
C96: 押出法ﾎﾟﾘｽﾁﾚﾝﾌｫｰﾑ 保温板3種bA
B97: 床下断熱材敷き | C97: t=50 | D97: 1419 | E97: ㎡
B99: ﾋﾞﾆﾙ幅木 | C99: H40 | D99: 713 | E99: ｍ
B101: ﾋﾞﾆﾙ床ｼｰﾄ巻き上げ | C101: H100 t2.0 FS 無地 多湿部 抗菌 | D101: 12.5 | E101: ｍ
B102: 巾木
B103: 床塗料立上り | C103: H100 表面強化剤 | D103: 7.7 | E103: ｍ
B104: 巾木
B105: 床塗料立上り | C105: H100 水性型無機系 | D105: 36.1 | E105: ｍ
B106: 巾木
B107: 厨房用防滑性ﾋﾞﾆﾙ床ｼｰﾄ立上り | C107: H100 t2.5 FS 無地 多湿部 | D107: 86.6 | E107: ｍ
B109: 壁 ﾛｯｸｳｰﾙ化粧吸音板 | C109: t9.0 ﾌﾗｯﾄ 不燃 ﾎﾞｰﾄﾞ面 | D109: 109 | E109: ㎡
B111: 壁 ﾒﾗﾐﾝ不燃化粧板 | C111: t=3.0 抗菌 ﾎﾞｰﾄﾞ面 | D111: 191 | E111: ㎡
A131: （細目別内訳）
A132: 名 称 | C132: 規 格・寸 法 | D132: 数 量 | E132: 単位 | F132: 単 価 | G132: 金 額 | H132: 備 考
B136: 内部（続き）
B138: 壁 ﾋﾞﾆﾙｸﾛｽ | C138: 準不燃 ﾎﾞｰﾄﾞ面 | D138: 1353 | E138: ㎡
B140: 壁 ﾋﾞﾆﾙｸﾛｽ | C140: 不燃 ﾎﾞｰﾄﾞ面 | D140: 961 | E140: ㎡
B142: 掲示ｸﾛｽ貼り | C142: 合板面 | D142: 24.3 | E142: ㎡
B144: 壁 石膏ﾎﾞｰﾄﾞ | C144: t12.5 継目処理 GL工法 | D144: 44.9 | E144: ㎡
B146: 壁 石膏ﾎﾞｰﾄﾞ | C146: t12.5 継目処理 木軸面 | D146: 1137 | E146: ㎡
B148: 壁 石膏ﾎﾞｰﾄﾞ | C148: t12.5 下地張り 木軸面 | D148: 112 | E148: ㎡
B149: 配膳棚
B150: 壁 石膏ﾎﾞｰﾄﾞ | C150: t12.5 下地張り 木軸面 | D150: 1.6 | E150: ㎡
B152: 壁 石膏ﾎﾞｰﾄﾞ | C152: t12.5+9.5 突付け 木軸面 | D152: 373 | E152: ㎡
B154: 壁 石膏ﾎﾞｰﾄﾞ | C154: t12.5+9.5 継目処理 木軸面 | D154: 954 | E154: ㎡
B156: 壁 石膏ﾎﾞｰﾄﾞ | C156: t12.5+9.5 下地張り 木軸面 | D156: 46.3 | E156: ㎡
B158: 壁 耐水石膏ﾎﾞｰﾄﾞ | C158: t12.5 継目処理 GL工法 | D158: 8.1 | E158: ㎡
B160: 壁 耐水石膏ﾎﾞｰﾄﾞ | C160: t12.5 継目処理 木軸面 | D160: 347 | E160: ㎡
B162: 壁 耐水石膏ﾎﾞｰﾄﾞ | C162: t12.5 下地張り 木軸面 | D162: 167 | E162: ㎡
B163: ﾗｲﾆﾝｸﾞ
B164: 壁 耐水石膏ﾎﾞｰﾄﾞ | C164: t12.5 下地張り 木軸面 | D164: 52 | E164: ㎡
B166: 壁 耐水石膏ﾎﾞｰﾄﾞ | C166: t12.5+9.5 継目処理 木軸面 | D166: 130 | E166: ㎡
A174: （細目別内訳）
A175: 名 称 | C175: 規 格・寸 法 | D175: 数 量 | E175: 単位 | F175: 単 価 | G175: 金 額 | H175: 備 考
B179: 内部（続き）
B181: 壁 耐水石膏ﾎﾞｰﾄﾞ | C181: t12.5+9.5 下地張り 木軸面 | D181: 11 | E181: ㎡
B183: 壁 強化石膏ﾎﾞｰﾄﾞ | C183: t21+21 突付け 木軸面 | D183: 96 | E183: ㎡
B185: 壁 強化石膏ﾎﾞｰﾄﾞ | C185: t21+21 継目処理 木軸面 | D185: 74 | E185: ㎡
B187: 壁 強化石膏ﾎﾞｰﾄﾞ | C187: t21+21 下地張り 木軸面 | D187: 26.6 | E187: ㎡
B188: ﾗｲﾆﾝｸﾞ
B189: 壁 化粧けい酸ｶﾙｼｳﾑ板 | C189: t6.0 ﾎﾞｰﾄﾞ面 | D189: 51.4 | E189: ㎡
B190: 配膳棚
B191: 壁 ﾒﾗﾐﾝ不燃化粧板 | C191: t3.0 ﾎﾞｰﾄﾞ面 | D191: 1.6 | E191: ㎡
B193: 壁 押出法ﾎﾟﾘｽﾁﾚﾝ | C193: t50 3種bA | D193: 38.2 | E193: ㎡
B195: 壁 ﾛｯｸｳｰﾙ充填 | C195: t75 30㎏/m3以上 | D195: 770 | E195: ㎡
B197: 壁 ﾛｯｸｳｰﾙ充填 | C197: t100 30㎏/m3以上 | D197: 13.9 | E197: ㎡
B199: 天井 ﾋﾞﾆﾙｸﾛｽ | C199: 準不燃 ﾎﾞｰﾄﾞ面 | D199: 1223 | E199: ㎡
...

Sheet ユニット他
A2: （細目別内訳）
A3: 名 称 | C3: 規 格・寸 法 | D3: 数 量 | E3: 単位 | F3: 単 価 | G3: 金 額 | H3: 備 考
A5: ｑ. | B5: ユニット及びその他
A7: (1) | B7: 外部 | G7: 0
G9: =IF(OR(D9="",F9=""),"",TRUNC(D9*F9,0))
B11: 人工木材ﾃﾞｯｷ材張り | C11: 材工共 | D11: 19.7 | E11: ㎡
C12: ｱｰｽﾃﾞｯｷｿﾘｯﾄﾞｸﾞﾚｲﾝ 板材25×145
C13: 樹脂束,鋼製根太,幕板１段共
C14: D1050×W18,678 H245
B17: 未満時テラス用フェンス | C17: 人工木 扉(両開き)H=650 | D17: 11.8 | E17: ｍ
B21: 計
A25: (2) | B25: 内部
B26: 調乳室
B27: 流し台 | C27: W1600×D550×H900 | D27: 1 | E27: か所
B28: 事務室2
B29: ﾐﾆｷｯﾁﾝ | C29: ｽﾃﾝﾚｽ製 W1050×D500×H850 | D29: 1 | E29: か所
B30: 0・1歳ｽﾍﾟｰｽ
B31: 流し台 | C31: W1200×D650ｺﾝﾛなし | D31: 1 | E31: カ所
B33: ﾕﾆｯﾄｼｬﾜｰ | C33: US0808 | D33: 2 | E33: カ所
B35: ｼｽﾃﾑｷｯﾁﾝ 貸ｽﾍﾟｰｽ | C35: 壁付Ⅰ型ｺﾝﾛなし ﾚﾝｼﾞﾌｰﾄﾞ上棚付 W2100 D650 | D35: 1 | E35: カ所
B36: 多目的ﾄｲﾚ2前通路
B37: 洗面ｶｳﾝﾀｰ | C37: W3850×D600 | D37: 1 | E37: か所
A45: （細目別内訳）
A46: 名 称 | C46: 規 格・寸 法 | D46: 数 量 | E46: 単位 | F46: 単 価 | G46: 金 額 | H46: 備 考
B50: 内部（続き）
B51: 2～5歳児室
B52: ﾎﾜｲﾄﾎﾞｰﾄﾞ | C52: W3600×H1200 | D52: 4 | E52: か所
C53: 壁埋込型
B54: 消火器ﾎﾞｯｸｽ | C54: ｽﾁｰﾙ製 W300×H900程度 焼付塗装 | D54: 5 | E54: か所
B55: 2～5歳児室 | C55: ｽﾗｲﾄﾞﾀﾗｯﾌﾟ
B56: 天井収納はしご | C56: ｽﾃﾝﾚｽ製 641×1252 | D56: 4 | E56: か所
B58: ｷｯｽﾞ洗面 0歳児室 | C58: W800×D450×H400 | D58: 1 | E58: カ所
B60: ｷｯｽﾞ洗面 1歳児室 | C60: W1185×D450×H400 | D60: 1 | E60: カ所
B62: ｷｯｽﾞ洗面 一時預かり室 | C62: W1185×D450×H400 | D62: 1 | E62: カ所
B64: ｷｯｽﾞ洗面 2歳児室 | C64: W1570×D450×H400 | D64: 1 | E64: カ所
B66: ｷｯｽﾞ洗面 3歳児室 | C66: W1570×D450×H450 | D66: 1 | E66: カ所
B68: ｷｯｽﾞ洗面 4歳児室 | C68: W1570×D450×H500 | D68: 1 | E68: カ所
B70: ｷｯｽﾞ洗面 5歳児室 | C70: W1570×D450×H550 | D70: 1 | E70: カ所
B72: ｽﾃｰｼﾞﾊﾞﾄﾝ | C72: L6000 手動巻取り器式 | D72: 2 | E72: 基
B74: 一文字幕 3寸ﾌﾚﾝｼﾞ付 | C74: W10500*H450 | D74: 1 | E74: 枚
B76: 袖幕 3寸ﾌﾚﾝｼﾞ付 | C76: W800*H3000 | D76: 2 | E76: 枚
B78: 本幕 3寸ﾌﾚﾝｼﾞ付 | C78: W10500*H3000 | D78: 1 | E78: 式
B80: 園章 | D80: 1 | E80: 章
A88: （細目別内訳）
A89: 名 称 | C89: 規 格・寸 法 | D89: 数 量 | E89: 単位 | F89: 単 価 | G89: 金 額 | H89: 備 考
B93: 内部（続き）
B95: 袖幕文字 | D95: 11 | E95: 文字
B96: MWC1
B97: 汚垂石 | C97: W1740×D600 | D97: 1 | E97: か所
B98: 0歳児室
B99: 鏡 | C99: 800×400 | D99: 1 | E99: か所
B100: 1歳児室、一時預かり室
B101: 鏡 | C101: 1185×400 | D101: 2 | E101: か所
B102: 2～5歳児室
B103: 鏡 | C103: 1570×500 | D103: 4 | E103: か所
B105: 鍵箱 | C105: 60本用 | D105: 1 | E105: か所
B106: 鏡
B107: 運搬・諸経費 | D107: 1 | E107: 式
B109: 厨房機器 | C109: NO1～34 | D109: 1 | E109: 式 | F109: =別Ⅰ!G211 -> 0 | H109: 別紙明細Ⅰ-3
B111: ﾌﾞﾗｲﾝﾄﾞ | D111: 1 | E111: 式 | F111: =別Ⅰ!G254 -> 0 | H111: 別紙明細Ⅰ-4
B113: 造作家具 | D113: 1 | E113: 式 | F113: =別Ⅰ!G340 -> 0 | H113: 別紙明細Ⅰ-5
B115: ﾎﾟｽﾄﾌｫｰﾑ面台 | D115: 1 | E115: 式 | F115: =別Ⅰ!G383 -> 0 | H115: 別紙明細Ⅰ-6
B117: ｻｲﾝ工事 | D117: 1 | E117: 式 | F117: =別Ⅰ!G426 -> 0 | H117: 別紙明細Ⅰ-7
B119: 屋内遊具 | D119: 1 | E119: 式 | F119: =別Ⅰ!G598 -> 0 | H119: 別紙明細Ⅰ-9
B127: 計

Sheet 屋外
A2: （科目別内訳）
A3: 名 称 | C3: 規 格・寸 法 | D3: 数 量 | E3: 単位 | F3: 単 価 | G3: 金 額 | H3: 備 考
A7: Ⅱ | B7: 屋外附帯工事 | G7: 0
A9: 1. | B9: 外構撤去 | D9: 1 | E9: 式 | F9: =G84 -> 0
A11: 2. | B11: 造成 | D11: 1 | E11: 式
A13: 3. | B13: 屋外施設 | D13: 1 | E13: 式 | F13: =G342 -> 0
A15: 4. | B15: 囲障 | D15: 1 | E15: 式
A17: 5. | B17: 構内舗装 | D17: 1 | E17: 式
A19: 6. | B19: 屋外排水 | D19: 1 | E19: 式
A21: 7. | B21: 植栽 | D21: 1 | E21: 式
B41: 計
A45: （細目別内訳）
A46: 名 称 | C46: 規 格・寸 法 | D46: 数 量 | E46: 単位 | F46: 単 価 | G46: 金 額 | H46: 備 考
A50: 1. | B50: 外構撤去 | G50: 0
A52: ａ. | B52: 工作物撤去 | D52: 1 | E52: 式 | F52: =G127 -> 0
A54: ｂ. | B54: 樹木撤去 | D54: 1 | E54: 式 | F54: =G213 -> 0
A56: ｃ. | B56: 発生材処理 | D56: 1 | E56: 式 | F56: =G256 -> 0
B84: 計
A88: （細目別内訳）
A89: 名 称 | C89: 規 格・寸 法 | D89: 数 量 | E89: 単位 | F89: 単 価 | G89: 金 額 | H89: 備 考
A93: ａ. | B93: 工作物撤去
B95: ｱｽﾌｧﾙﾄ舗装撤去 | C95: 表層 t=50 | D95: =ROUNDUP(1848.9,0) -> 1849 | E95: ㎡ | I95: 見積27
B97: 落蓋式側溝撤去 | C97: 400×400 | D97: =ROUND(45.58,1) -> 45.6 | E97: ｍ | I97: 見積27
B99: 土留め擁壁撤去 | C99: W200×H1170 | D99: =ROUND(28.83,1) -> 28.8 | E99: ｍ | I99: 見積27
B101: 土留め擁壁撤去 | C101: W100×H1270 | D101: 25.5 | E101: ｍ | I101: 見積27
B103: 土留め擁壁撤去 | C103: W200×H530 | D103: 35.9 | E103: ｍ | I103: 見積27
B105: 土留め擁壁撤去 | C105: W200×H400 | D105: =ROUND(8.52,1) -> 8.5 | E105: ｍ | I105: 見積27
B107: 土留め擁壁撤去 | C107: W50×H440 | D107: =ROUND(9.84,1) -> 9.8 | E107: ｍ | I107: 見積27
B109: ｺﾝｸﾘｰﾄﾌﾞﾛｯｸ撤去 | C109: W100×H570 | D109: =ROUND(15.77,1) -> 15.8 | E109: ｍ | I109: 見積27
B111: 地先境界ﾌﾞﾛｯｸ撤去 | C111: W120 | D111: =ROUND(34.88+49.08,1) -> 84 | E111: ｍ | I111: 見積27
B113: 集水桝撤去 | C113: 450×450×800H | D113: 1 | E113: カ所 | I113: 見積27
B115: 埋設排水管撤去 | C115: VU φ300 | D115: =ROUND(19.08,1) -> 19.1 | E115: ｍ | I115: 見積27
B117: 小屋（木造）撤去 | C117: W2500xD1555xH1200 | D117: 1 | E117: カ所 | I117: 見積27
B119: 木製ﾍﾞﾝﾁ撤去 | C119: W1800xD350xH400 | D119: 2 | E119: カ所 | I119: 見積27
B127: 計
A131: （細目別内訳）
A132: 名 称 | C132: 規 格・寸 法 | D132: 数 量 | E132: 単位 | F132: 単 価 | G132: 金 額 | H132: 備 考
A136: ｂ. | B136: 樹木撤去
B138: 高木伐採・伐根 | C138: C=3.45 | D138: 1 | E138: 本 | I138: 見積27
B140: 高木伐採・伐根 | C140: C=2.2 | D140: 1 | E140: 本 | I140: 見積27
B142: 高木伐採・伐根 | C142: C=2.1 | D142: 1 | E142: 本 | I142: 見積27
B144: 高木伐採・伐根 | C144: C=2.0 | D144: 2 | E144: 本 | I144: 見積27
B146: 高木伐採・伐根 | C146: C=1.9 | D146: 1 | E146: 本 | I146: 見積27
B148: 高木伐採・伐根 | C148: C=1.75 | D148: 1 | E148: 本 | I148: 見積27
B150: 高木伐採・伐根 | C150: C=1.7 | D150: 3 | E150: 本 | I150: 見積27
B152: 高木伐採・伐根 | C152: C=1.65 | D152: 1 | E152: 本 | I152: 見積27
B154: 高木伐採・伐根 | C154: C=1.5 | D154: 4 | E154: 本 | I154: 見積27
B156: 高木伐採・伐根 | C156: C=1.42 | D156: 1 | E156: 本 | I156: 見積27
B158: 高木伐採・伐根 | C158: C=1.35 | D158: 1 | E158: 本 | I158: 見積27
B160: 高木伐採・伐根 | C160: C=1.15 | D160: 3 | E160: 本 | I160: 見積27
B162: 高木伐採・伐根 | C162: C=1.1 | D162: 1 | E162: 本 | I162: 見積27
B164: 高木伐採・伐根 | C164: C=1.0 | D164: 4 | E164: 本
B166: 高木伐採・伐根 | C166: C=0.9 | D166: 3 | E166: 本
A174: （細目別内訳）
A175: 名 称 | C175: 規 格・寸 法 | D175: 数 量 | E175: 単位 | F175: 単 価 | G175: 金 額 | H175: 備 考
B179: 樹木撤去（続き）
B181: 高木伐採・伐根 | C181: C=0.8 | D181: 1 | E181: 本 | I181: 見積27
B183: 高木伐採・伐根 | C183: C=0.5 | D183: 9 | E183: 本 | I183: 見積27
B185: 高木伐採・伐根 | C185: C=0.4 | D185: 1 | E185: 本 | I185: 見積27
B187: 高木伐採・伐根 | C187: C=0.2 | D187: 1 | E187: 本 | I187: 見積27
B189: 低木伐採・伐根 | C189: H=1.0～1.6m程度 | D189: =ROUND(298.07,0) -> 298 | E189: ㎡ | I189: 見積27
I191: 見積27
I195: 見積27
B213: 計
A217: （細目別内訳）
A218: 名 称 | C218: 規 格・寸 法 | D218: 数 量 | E218: 単位 | F218: 単 価 | G218: 金 額 | H218: 備 考
A222: ｃ. | B222: 発生材処理
B224: 発生材積込み・運搬
B226: 発生材積込み・運搬 | C226: 廃プラ類 | D226: 1.4 | E226: m3 | I226: 見積27
B228: 発生材積込み・運搬 | C228: ｺﾝｸﾘｰﾄ屑 有筋 | D228: 16.6 | E228: m3 | I228: 見積27
B230: 発生材積込み・運搬 | C230: がれき屑 | D230: 8.5 | E230: m3 | I230: 見積27
B232: 発生材積込み・運搬 | C232: ｱｽﾌｧﾙﾄ舗装くず | D232: 92.5 | E232: m3 | I232: 見積27
B234: 発生材積込み・運搬 | C234: 木くず | D234: 0.6 | E234: m3 | I234: 見積27
B236: 発生材積込み・運搬 | C236: 木くず（樹木撤去） | D236: 1 | E236: 式 | I236: 見積27
B238: 小 計
B242: 発生材処分 | C242: 廃プラ類 | D242: 0.3 | E242: t | I242: 見積27
B244: 発生材処分 | C244: ｺﾝｸﾘｰﾄ屑 有筋 | D244: 37.2 | E244: t | I244: 見積27
B246: 発生材処分 | C246: がれき屑 | D246: 16.1 | E246: t | I246: 見積27
B248: 発生材処分 | C248: ｱｽﾌｧﾙﾄ舗装くず | D248: 137 | E248: t | I248: 見積27
B250: 発生材処分 | C250: 木くず | D250: 0.3 | E250: t | I250: 見積27
B252: 発生材処分 | C252: 木くず（樹木撤去） | D252: 1 | E252: 式 | I252: 見積27
B254: 小 計
B256: 計
A260: （細目別内訳）
A261: 名 称 | C261: 規 格・寸 法 | D261: 数 量 | E261: 単位 | F261: 単 価 | G261: 金 額 | H261: 備 考
A265: 2. | B265: 造成
B267: 土工 | D267: 1 | E267: 式 | H267: 別紙明細Ⅱ-8
B269: 擁壁工 | D269: 1 | E269: 式 | H269: 別紙明細Ⅱ-9
B271: 法面工 | C271: 張芝工 | D271: 168.5 | E271: ㎡
F275: =K275 -> 0 | G275: =IF(OR(D275="",F275=""),"",TRUNC(D275*F275,0))
F277: =K277 -> 0 | G277: =IF(OR(D277="",F277=""),"",TRUNC(D277*F277,0))
F279: =K279 -> 0 | G279: =IF(OR(D279="",F279=""),"",TRUNC(D279*F279,0))
G281: 0
G287: =IF(OR(D287="",F287=""),"",TRUNC(D287*F287,0))
B299: 計
A303: （細目別内訳）
A304: 名 称 | C304: 規 格・寸 法 | D304: 数 量 | E304: 単位 | F304: 単 価 | G304: 金 額 | H304: 備 考
A308: 3. | B308: 屋外施設 | G308: =IF(OR(D308="",F308=""),"",TRUNC(D308*F308,0))
B312: 花壇 | D312: 2 | E312: 箇所
B314: ｺﾞﾐｽﾄｯｶｰ | C314: W1000×D750×H1160 基礎共 | D314: 3 | E314: 箇所
...

Sheet 別Ⅰ
A2: （別紙明細）
A3: 名 称 | C3: 規 格・寸 法 | D3: 数 量 | E3: 単位 | F3: 単 価 | G3: 金 額 | H3: 備 考
B5: 別紙明細Ⅰ-1
B7: 土留め工事
B9: （材料費） | C9: ｾﾞﾛｸﾘｱﾗﾝｽ工法（単独圧入・引抜）
B11: 賃貸料 | C11: SP-J型 L=10.5 ｍ×87.3ｋｇ/ｍ×48枚 | D11: 44 | E11: t/日
B13: 整備料･出庫料･入庫料 | D13: 44 | E13: t
B15: 残土処分費 | D15: 44 | E15: t
B17: 納入運賃 | C17: 大型12t積トラック 対象重量 43.999ｔ | D17: 4 | E17: 車
B19: 引取運賃 | C19: 大型12t積トラック 対象重量 43.999ｔ | D19: 4 | E19: 車
B21: 整備切断見込費 | C21: 賃貸数量×115％ 対象枚数 48枚 | D21: 55 | E21: 箇所
B23: 特別損耗見込費 | C23: 賃貸数量× 8％ 対象枚数 43.999ｔ | D23: 3.52 | E23: ｔ
B25: （工事費） | C25: 鋼矢板
B27: 油圧圧入引抜工 | C27: ゼロ矢板圧入 | D27: 48 | E27: 枚
C29: ゼロ矢板引抜 | D29: 48 | E29: 枚
C31: ゼロパイラー設置・撤去（単独圧入） | D31: 1 | E31: 回
C33: ゼロパイラー設置・撤去（引抜き） | D33: 1 | E33: 回
C35: ゼロクランプクレーン設置・撤去 | D35: 1 | E35: 回
C37: 自走装置 取付・取り外し | D37: 1 | E37: 回
C39: ゼロパイラー自走 | D39: 48 | E39: 枚
B41: 運搬工 | D41: 1 | E41: 式
B43: 諸経費 | D43: 1 | E43: 式
B45: 計
A49: （別紙明細）
A50: 名 称 | C50: 規 格・寸 法 | D50: 数 量 | E50: 単位 | F50: 単 価 | G50: 金 額 | H50: 備 考
B52: 別紙明細Ⅰ-2
B54: 軽量鉄骨天井下地開口部補強
B56: 軽量鉄骨天井下地開口部補強 | C56: 19形 320角 制気口類 | D56: 69 | E56: か所
B58: 軽量鉄骨天井下地開口部補強 | C58: 19形 450角 天井点検口 | D58: 95 | E58: か所
B60: 軽量鉄骨天井下地開口部補強 | C60: 19形 910角 4方向室内機 | D60: 5 | E60: か所
B62: 軽量鉄骨天井下地開口部補強 | C62: 19形 1235×150 | D62: 32 | E62: か所
B64: 軽量鉄骨天井下地開口部補強 | C64: 19形 617×150 | D64: 2 | E64: か所
B66: 軽量鉄骨天井下地開口部補強 | C66: 19形 670×200 | D66: 3 | E66: か所
B68: 軽量鉄骨天井下地開口部補強 | C68: 19形 700角 | D68: 2 | E68: か所
B70: 軽量鉄骨天井下地開口部補強 | C70: 19形 400角 | D70: 1 | E70: か所
B72: 軽量鉄骨天井下地開口部補強 | C72: 19形 1550×550 | D72: 1 | E72: か所
B74: 軽量鉄骨天井下地開口部補強 | C74: 19形 760×400 | D74: 4 | E74: か所
B76: 軽量鉄骨天井下地開口部補強 | C76: 19形 1200×750 | D76: 26 | E76: か所
B78: 軽量鉄骨天井下地開口部補強 | C78: 19形 1450×650 | D78: 5 | E78: か所
B80: 軽量鉄骨天井下地開口部補強 | C80: 19形 690×300 | D80: 1 | E80: か所
B88: 計
A92: （別紙明細）
A93: 名 称 | C93: 規 格・寸 法 | D93: 数 量 | E93: 単位 | F93: 単 価 | G93: 金 額 | H93: 備 考
B95: 別紙明細Ⅰ-3
B97: 厨房機器
B98: 1
B99: 引出戸棚付検収台 | C99: W750×D550×H850 | D99: 1 | E99: か所
B100: 2
B101: 移動台 | C101: W750×D500×H850 | D101: 1 | E101: か所
B102: 3
B103: 水切付2槽ｼﾝｸ | C103: W1670×D600×H850 | D103: 1 | E103: か所
B104: 4
B105: 器具消毒保管庫 | C105: W580×D600×H1900 | D105: 1 | E105: か所
B106: 5
B107: 検食用冷凍庫 | C107: W625×D650×H1960 | D107: 1 | E107: か所
B108: 6
B109: ﾊﾟｽｽﾙｰ冷凍冷蔵庫 | C109: W1800×D850×H1960 | D109: 1 | E109: か所
B110: 7
B111: 電解水生成装置 | C111: W285×D145×H335 | D111: 1 | E111: か所
B112: 8
B113: 乾燥機付き包丁ﾏﾅ板殺菌庫 | C113: W450×D500×H1600 | D113: 1 | E113: か所
B114: 9
B115: 2槽ｼﾝｸ | C115: W1500×D750×H850 | D115: 1 | E115: か所
B116: 10
B117: 引出戸棚付台 | C117: W1200×D750×H850 | D117: 1 | E117: か所
B118: 11
B119: 戸棚付台 | C119: W1200×D750×H850 | D119: 2 | E119: か所
B120: 12
B121: 2段棚 | C121: W1800×D500×H800 | D121: 1 | E121: か所
B122: 13
B123: 台下冷蔵庫 | C123: W1200×D750×H850 | D123: 1 | E123: か所
B124: 14
B125: ﾗﾋﾞｯﾄﾁﾗｰ | C125: W780×D750×H1000 | D125: 1 | E125: か所
B126: 15
B127: ｱｲｺﾝﾋﾞﾌﾟﾛ | C127: W850×D842×H1453 | D127: 1 | E127: か所
A135: （別紙明細）
A136: 名 称 | C136: 規 格・寸 法 | D136: 数 量 | E136: 単位 | F136: 単 価 | G136: 金 額 | H136: 備 考
B140: 厨房機器（続き）
B141: 16
B142: ｱｲﾊﾞﾘｵ | C142: W1100×D938×H1080 | D142: 1 | E142: か所
B143: 17
B144: 作業台 | C144: W1200×D600×H650 | D144: 1 | E144: か所
B145: 18
B146: IH調理器 | C146: W600×D600×H850 | D146: 1 | E146: か所
B147: 19
B148: 作業台 | C148: W600×D600×H850 | D148: 1 | E148: か所
B149: 20
B150: 戸棚付台 | C150: W1200×D600×H850 | D150: 1 | E150: か所
B151: 21
B152: 引出戸棚付台 | C152: W1200×D600×H850 | D152: 1 | E152: か所
B153: 22
B154: 製氷機 | C154: W395×D450×H770 | D154: 1 | E154: か所
B155: 23
B156: 台下冷蔵庫 | C156: W1200×D600×H850 | D156: 1 | E156: か所
B157: 24
B158: ﾊﾟｽｽﾙｰ冷蔵庫 | C158: W625×D850×H1960 | D158: 1 | E158: か所
B159: 25
B160: 1槽ｿｲﾙﾄﾞﾃｰﾌﾞﾙ | C160: W1600×D700×H850 | D160: 1 | E160: か所
B161: 26
B162: 食器洗浄機 | C162: W871×D650×H1448 | D162: 1 | E162: か所
...

Sheet 別Ⅱ
A2: （別紙明細）
A3: 名 称 | C3: 規 格・寸 法 | D3: 数 量 | E3: 単位 | F3: 単 価 | G3: 金 額 | H3: 備 考
B5: 別紙明細Ⅱ-1
B7: 屋外階段 | D7: 1 | E7: 式
B9: 根切り | D9: 4.62 | E9: m3
B11: 埋戻し | D11: 1.23 | E11: m3
B13: 砕石地業 | C13: 再生クラッシャラン | D13: 0.71 | E13: m3
B15: コンクリート | C15: Fc=18-15-20N | D15: 0.36 | E15: m3
B17: コンクリート | C17: Fc=18＋3-15-20N | D17: 1.9 | E17: m3
C18: 公共建築工事積算研究会参考歩掛り
B19: ｺﾝｸﾘｰﾄ打設手間(小型工作物) | C19: 表RA-5-8【市】
B21: 特殊作業員 | D21: =0.65*(D15+D17) -> 1.469 | E21: 人
B23: 諸経費 | C23: 労×47% + 労以外×11% | D23: 1 | E23: 式
B25: 異形鉄筋 | C25: SD295A D13（小口） | D25: 56.88 | E25: kg
B27: 異形鉄筋 | C27: SD295A D10（小口） | D27: 17.65 | E27: kg
B29: 鉄筋加工組立・運搬 | C29: 小型車 | D29: 74.53 | E29: kg
B31: 普通合板型枠 | C31: 基礎部 | D31: 15.42 | E31: ㎡
B33: 残土処分 | C33: 場内敷均し | D33: 3.39 | E33: m3
B35: 床ｺﾝｸﾘｰﾄ鏝押え | C35: 金ごて 仕上 | D35: 13.38 | E35: ㎡
B41: 計
A45: （別紙明細）
A46: 名 称 | C46: 規 格・寸 法 | D46: 数 量 | E46: 単位 | F46: 単 価 | G46: 金 額 | H46: 備 考
B48: 別紙明細Ⅱ-2
B50: 屋外遊具 | D50: 1 | E50: 式
B54: もふもふの砂場 | D54: 1 | E54: 箇所
B56: まきばのおうち | D56: 1 | E56: 箇所
B58: らせんﾃﾞｯｷ | D58: 1 | E58: 箇所
B60: 山形うんてい | C60: CP10207 | D60: 1 | E60: 箇所
B62: 鉄棒３連 | C62: CP00615 ﾏｯﾄﾋﾟﾝ固定式3枚 | D62: 1 | E62: 箇所
B64: 2連ｺﾝﾋﾞﾌﾞﾗﾝｺ | C64: AM1525 ﾏｯﾄﾋﾟﾝ固定式2枚 | D64: 1 | E64: 箇所
B66: 砂場3000*3000 | C66: ｻﾝﾋﾟｯﾄﾞ枠 | D66: 1 | E66: 箇所
B68: 築山 黒山・芝張り | C68: 材工共 | D68: 1 | E68: 箇所
B70: 諸経費 | D70: 1 | E70: 式
B84: 計
A88: （別紙明細）
A89: 名 称 | C89: 規 格・寸 法 | D89: 数 量 | E89: 単位 | F89: 単 価 | G89: 金 額 | H89: 備 考
B91: 別紙明細Ⅱ-3
B93: ﾊﾟｰｺﾞﾗ移設 | C93: 材工共 | D93: 1 | E93: 式
B95: 諸経費 | D95: 1 | E95: 式
B127: 計
A131: （別紙明細）
A132: 名 称 | C132: 規 格・寸 法 | D132: 数 量 | E132: 単位 | F132: 単 価 | G132: 金 額 | H132: 備 考
B134: 別紙明細Ⅱ-4
B138: 片持ちｵｰﾆﾝｸﾞ | C138: 自立型ゆらぎ3相当 開口4000 出幅3000 | D138: 2 | E138: カ所
B140: ﾁｬｰﾀｰ便送料 | D140: 1 | E140: 式
B144: すきとり | D144: 0.27 | E144: m3
B146: 砕石地業 | C146: 再生クラッシャラン | D146: 0.1 | E146: m3
B148: コンクリート | C148: Fc=18＋3-15-20N | D148: 0.59 | E148: m3
B150: 特殊作業員 | D150: 0.2537 | E150: 人
B152: 諸経費 | C152: 労×47% + 労以外×11% | D152: 1 | E152: 式
B154: 普通合板型枠 | C154: 基礎部 | D154: 3.36 | E154: ㎡
B156: 埋戻し | D156: 0.08 | E156: m3
B158: 残土処分 | C158: 場内敷均し | D158: 0.19 | E158: m3
B170: 計
A174: （別紙明細）
A175: 名 称 | C175: 規 格・寸 法 | D175: 数 量 | E175: 単位 | F175: 単 価 | G175: 金 額 | H175: 備 考
B177: 別紙明細Ⅱ-5
B181: 残土処分
B183: 建設発生土 積込・運搬 | C183: 4t積級 35km以内 | D183: 361 | E183: m3
B185: 建設発生土 処分費 | D185: 361 | E185: m3
B213: 計
A217: （別紙明細）
A218: 名 称 | C218: 規 格・寸 法 | D218: 数 量 | E218: 単位 | F218: 単 価 | G218: 金 額 | H218: 備 考
B220: 別紙明細Ⅱ-6
B221: 園庭
B222: ｸﾚｲ舗装 | D222: 1 | E222: 式
B224: 路床工 | C224: 不陸整正 | D224: 1047 | E224: ㎡
B226: 路盤工 | C226: t100 再生ｸﾗｯｼｬﾗﾝRC-40 | D226: 1047 | E226: ㎡
B228: 表層工 ﾓｽﾄｸﾚｲ舗装 | C228: t100 7割：良質真砂土 3割：ﾓｽﾄｸﾚｲ舗装素地 | D228: 1047 | E228: ㎡
B230: 仕上工 | D230: 1047 | E230: ㎡
C231: 化粧砂0.003m3/m2
B232: 表面処理工 | C232: ｽﾎﾟｰﾂ用ﾊﾞｲﾝﾀﾞｰ1.2kg/m2 | D232: 1047 | E232: ㎡
B256: 計
A260: （別紙明細）
A261: 名 称 | C261: 規 格・寸 法 | D261: 数 量 | E261: 単位 | F261: 単 価 | G261: 金 額 | H261: 備 考
B263: 別紙明細Ⅱ-7
B267: 路面標示
B269: 路面標示用塗料 | C269: 区画線 | D269: 93.2 | E269: ｍ
B271: 路面標示用塗料 | C271: 文字「軽」 | D271: 5.2 | E271: ｍ
B273: 路面標示用塗料 | C273: ﾏｰｸ「自転車」ﾋﾟｸﾄｸﾞﾗﾑ | D273: 5.8 | E273: ｍ
B299: 計
A303: （別紙明細）
A304: 名 称 | C304: 規 格・寸 法 | D304: 数 量 | E304: 単位 | F304: 単 価 | G304: 金 額 | H304: 備 考
B306: 別紙明細Ⅱ-8
B310: 土工
B312: 掘削 | D312: 668.7 | E312: m3
B314: 床掘 | D314: 747.2 | E314: m3
B316: 盛土 | D316: 714 | E316: m3
B318: 埋戻し | D318: 608.8 | E318: m3
B320: 搬入盛土 | D320: 64.7 | E320: m3
B322: 土工機運搬 | C322: ※建築工事の土工に計上
B342: 計
A346: （別紙明細）
A347: 名 称 | C347: 規 格・寸 法 | D347: 数 量 | E347: 単位 | F347: 単 価 | G347: 金 額 | H347: 備 考
B349: 別紙明細Ⅱ-9
B353: 擁壁工
B355: ブロック積擁壁 | D355: 83.8 | E355: ㎡
B357: L型擁壁 | C357: H=1.20m | D357: 9.6 | E357: ｍ
B359: L型擁壁 | C359: H=1.40m | D359: 11 | E359: ｍ
B361: L型擁壁 | C361: H=1.50m | D361: 4 | E361: ｍ
...

Sheet 電気設備工事
A2: （細目別内訳）
A3: 名 称 | C3: 規 格・寸 法 | D3: 数 量 | E3: 単位 | F3: 単 価 | G3: 金 額 | H3: 備 考
A5: Ⅲ | B5: 電気設備工事
A7: Ａ | B7: 電気設備工事 | D7: 1 | E7: 式
A9: Ｂ | B9: 産業廃棄物処理費 | D9: 1 | E9: 式
B39: 計

Sheet 科目・中科目
A2: （細目別内訳）
A3: 名 称 | C3: 規 格・寸 法 | D3: 数 量 | E3: 単位 | F3: 単 価 | G3: 金 額 | H3: 備 考
A5: Ａ | B5: 電気設備工事
A7: 1 | B7: 受変電設備 | D7: 1 | E7: 式
A9: 2 | B9: 幹線設備 | D9: 1 | E9: 式
A11: 3 | B11: 動力設備 | D11: 1 | E11: 式
A13: 4 | B13: 電灯設備 | D13: 1 | E13: 式
A15: 5 | B15: コンセント設備 | D15: 1 | E15: 式
A17: 6 | B17: 非常灯・誘導灯設備 | D17: 1 | E17: 式
A19: 7 | B19: 通信設備 | D19: 1 | E19: 式
A21: 8 | B21: 情報設備 | D21: 1 | E21: 式
A23: 9 | B23: テレビ共聴視設備 | D23: 1 | E23: 式
A25: 10 | B25: インターホン設備 | D25: 1 | E25: 式
A27: 11 | B27: トイレ呼出設備 | D27: 1 | E27: 式
A29: 12 | B29: 放送設備 | D29: 1 | E29: 式
... A37: 16 | B37: 外灯設備 | D37: 1 | E37: 式
A45: （細目別内訳）
A46: 名 称 | C46: 規 格・寸 法 | D46: 数 量 | E46: 単位 | F46: 単 価 | G46: 金 額 | H46: 備 考
A50: 17 | B50: 撤去工事 | D50: 1 | E50: 式
B54: 計
A58: Ｂ | B58: 産業廃棄物処理費
A60: 1 | B60: 産業廃棄物処理費 | D60: 1 | E60: 式
B64: 計

Sheet 細目（1.受変電設備）
A2: （細目別内訳）
A3: 名 称 | C3: 規 格・寸 法 | D3: 数 量 | E3: 単位 | F3: 単 価 | G3: 金 額 | H3: 備 考
A5: Ａ | B5: 電気設備工事
A7: 1 | B7: 受変電設備
B11: 引込柱 | D11: 1 | E11: 式 | H11: 別紙明細-1
B13: 屋外キュービクル | C13: 4面体 | D13: 1 | E13: 式
B14: 6kv 架橋ポリエチレン絶縁ケーブル
B15: EM-CET38sq | C15: FEP管内 | D15: 38 | E15: ｍ
B16: 波付硬質ポリエチレン管
B17: FEP80 | D17: 76 | E17: ｍ
B18: ハンドホール
B19: H1-9 | C19: R20K-60 | D19: 1 | E19: 基
B21: 接地工事 | D21: 1 | E21: 式 | H21: 別紙明細-2
B25: 【土工事】
B27: 根切り | D27: 13.3 | E27: ㎥
B29: 山砂 | D29: 7.6 | E29: ㎥
B31: 埋め戻し | D31: 5.7 | E31: ㎥
B33: 残土処理 | D33: 7.6 | E33: ㎥
B35: 埋設表示シート | C35: ダブル | D35: 38 | E35: ｍ
B39: 小 計

Sheet 細目 (2.幹線設備)
A2: （細目別内訳）
A3: 名 称 | C3: 規 格・寸 法 | D3: 数 量 | E3: 単位 | F3: 単 価 | G3: 金 額 | H3: 備 考
A5: Ａ | B5: 電気設備工事
A7: 2 | B7: 幹線設備工事
B10: 電灯動力弱電盤
B11: LPT-1 | C11: 屋内自立鋼板製 | D11: 1 | E11: 面
B12: 電灯動力弱電盤
B13: LPT-2 | C13: 屋内自立鋼板製 | D13: 1 | E13: 面
B14: 電灯動力弱電盤
B15: LPT-3 | C15: 屋内自立鋼板製 | D15: 1 | E15: 面
B16: 電灯動力弱電盤
B17: LPT-4 | C17: 屋内自立鋼板製 | D17: 1 | E17: 面
B20: ハンドホール
B21: H1-9 | C21: R2K-60 | D21: 5 | E21: 基
B26: 防火区画貫通処理
B27: φ104 | D27: 27 | E27: 箇所
B30: 波付硬質ポリエチレン管
B31: FEP100 | C31: 地中埋設 | D31: 121 | E31: ｍ
B32: 波付硬質ポリエチレン管
B33: FEP80 | C33: 地中埋設 | D33: 347 | E33: ｍ
B34: 波付硬質ポリエチレン管
B35: FEP65 | C35: 地中埋設 | D35: 64 | E35: ｍ
B36: 波付硬質ポリエチレン管
B37: FEP50 | C37: 地中埋設 | D37: 16 | E37: ｍ
A45: （細目別内訳）
A46: 名 称 | C46: 規 格・寸 法 | D46: 数 量 | E46: 単位 | F46: 単 価 | G46: 金 額 | H46: 備 考
B47: 子メーター
B48: 単相150A | D48: 1 | E48: 個
B49: 子メーター
B50: 三相100A | D50: 1 | E50: 個
B53: 600V架橋ポリエチレン絶縁ケーブル
B54: EM-CET200sq | C54: 天井転がし | D54: 68 | E54: ｍ
B55: 600V架橋ポリエチレン絶縁ケーブル
B56: EM-CET200sq | C56: FEP管内 | D56: 121 | E56: ｍ
B57: 600V架橋ポリエチレン絶縁ケーブル
B58: EM-CET100sq | C58: FEP管内 | D58: 105 | E58: ｍ
B59: 600V架橋ポリエチレン絶縁ケーブル
B60: EM-CET60sq | C60: 天井転がし | D60: 148 | E60: ｍ
B61: 600V架橋ポリエチレン絶縁ケーブル
B62: EM-CET60sq | C62: FEP管内 | D62: 48 | E62: ｍ
B63: 600V架橋ポリエチレン絶縁ケーブル
B64: EM-CET38sq | C64: FEP管内 | D64: 16 | E64: ｍ
B65: 600V架橋ポリエチレン絶縁ケーブル
B66: EM-CET22sq | C66: FEP管内 | D66: 16 | E66: ｍ
B71: 600V耐燃性ポリエチレン絶縁電線
B72: EM-IE 14sq | C72: 天井転がし | D72: 68 | E72: ｍ
B73: 600V耐燃性ポリエチレン絶縁電線
B74: EM-IE 14sq | C74: FEP管内 | D74: 226 | E74: ｍ
B75: 600V耐燃性ポリエチレン絶縁電線
B76: EM-IE 8sq | C76: 天井転がし | D76: 148 | E76: ｍ
B77: 600V耐燃性ポリエチレン絶縁電線
B78: EM-IE 8sq | C78: FEP管内 | D78: 64 | E78: ｍ
B79: 600V耐燃性ポリエチレン絶縁電線
B80: EM-IE 5.5sq | C80: FEP管内 | D80: 16 | E80: ｍ
A88: （細目別内訳）
A89: 名 称 | C89: 規 格・寸 法 | D89: 数 量 | E89: 単位 | F89: 単 価 | G89: 金 額 | H89: 備 考
B91: 【土工事】
B93: 根切り | D93: 49 | E93: ㎥
B95: 山砂 | D95: 28 | E95: ㎥
B97: 埋め戻し | D97: 21 | E97: ㎥
B99: 残土処理 | D99: 28 | E99: ㎥
B101: 埋設表示シート | C101: ダブル | D101: 117 | E101: ｍ
G123: =D123*F123 -> 0
B125: 小 計

Sheet 細目 (3.動力設備)
A2: （細目別内訳）
A3: 名 称 | C3: 規 格・寸 法 | D3: 数 量 | E3: 単位 | F3: 単 価 | G3: 金 額 | H3: 備 考
A5: Ａ | B5: 電気設備工事
A7: 3 | B7: 動力設備
B10: 埋込コンセント
B11: 3P15A | D11: 9 | E11: 組
B14: スイッチボックス
B15: 1個用 | D15: 9 | E15: 個
B16: プルボックス
B17: 150*150*150 | C17: SUSwp | D17: 2 | E17: 個
B20: 防火区画貫通処理
B21: φ104 | D21: 6 | E21: 箇所
B24: 厚鋼電線管
B25: G22 | C25: 露出 | D25: 5 | E25: ｍ
B26: 合成樹脂製可とう電線管
B27: PF28 | C27: 隠蔽 | D27: 40 | E27: ｍ
B30: 600V架橋ポリエチレン絶縁ケーブル
B31: EM-CE8sq-3C | C31: 天井転がし | D31: 95 | E31: ｍ
C33: 管内 | D33: 20 | E33: ｍ
B34: 600V架橋ポリエチレン絶縁ケーブル
B35: EM-CE5.5sq-3C | C35: 天井転がし | D35: 287 | E35: ｍ
C37: 管内 | D37: 71 | E37: ｍ
B38: 600V架橋ポリエチレン絶縁ケーブル
B39: EM-CE3.5sq-3C | C39: 天井転がし | D39: 135 | E39: ｍ
A45: （細目別内訳）
A46: 名 称 | C46: 規 格・寸 法 | D46: 数 量 | E46: 単位 | F46: 単 価 | G46: 金 額 | H46: 備 考
B47: 600V架橋ポリエチレン絶縁ケーブル
B48: EM-CE3.5sq-3C | C48: 管内 | D48: 27 | E48: ｍ
C50: PF管内 | D50: 40 | E50: ｍ
B51: 600V耐燃性ポリエチレン絶縁電線
B52: EM-IE2.0 | C52: 天井転がし | D52: 517 | E52: ｍ
C54: 管内 | D54: 118 | E54: ｍ
C56: PF管内 | D56: 40 | E56: ｍ
B82: 小 計

Sheet 細目（4.電灯設備）
A2: （細目別内訳）
A3: 名 称 | C3: 規 格・寸 法 | D3: 数 量 | E3: 単位 | F3: 単 価 | G3: 金 額 | H3: 備 考
A5: Ａ | B5: 電気設備工事
A7: 4 | B7: 電灯設備
B10: A-LED
B11: ダウンライト | C11: LRS1-33 | D11: 17 | E11: 台
B12: B-LED
B13: ダウンライト | C13: LRS14-12-40K | D13: 54 | E13: 台
B14: C-LED
B15: ダウンライト | C15: LRS14-21-40K | D15: 54 | E15: 台
B16: D-LED
B17: ダウンライト | C17: 2335lm | D17: 2 | E17: 台
B18: E-LED
B19: ダウンライト | C19: 3930lm,調光 | D19: 8 | E19: 台
B20: F-LED
B21: ダウンライト | C21: 4000lm | D21: 18 | E21: 台
B22: G-LED
B23: ユニバーサルダウンライト | C23: 4250lm | D23: 7 | E23: 台
B24: H-LED
B25: 傾斜天井用ダウンライト | C25: 3605lm | D25: 36 | E25: 台
B26: I-LED
B27: 傾斜天井用ダウンライト | C27: 4790lm,調光 | D27: 76 | E27: 台
B28: J-LED
B29: 軒下用ダウンライト | C29: 3450lm | D29: 1 | E29: 台
B30: K-LED
B31: ダクトレール用スポットライト | C31: 985lm | D31: 7 | E31: 台
B32: L-LED
B33: ペンダントライト | C33: 1442lm | D33: 5 | E33: 台
B34: M-LED
B35: LEDベースライト | C35: LRS6-2-15 | D35: 2 | E35: 台
B36: N-LED
B37: LEDベースライト | C37: LRS6-4-23 | D37: 19 | E37: 台
B38: O-LED
B39: LEDベースライト | C39: LRS6-4-48 | D39: 6 | E39: 台
A45: （細目別内訳）
A46: 名 称 | C46: 規 格・寸 法 | D46: 数 量 | E46: 単位 | F46: 単 価 | G46: 金 額 | H46: 備 考
B47: P-LED
B48: LEDベースライト | C48: LRS6-4-65 | D48: 7 | E48: 台
B49: Q-LED
B50: LEDベースライト | C50: 3040lm 直付型・防湿防雨型 | D50: 2 | E50: 台
B51: R-LED
B52: LEDベースライト | C52: 6560lm 直付型・防湿防雨型 | D52: 15 | E52: 台
B53: S-LED
B54: ブラケットライト | C54: 515lm 防湿防雨型 | D54: 8 | E54: 台
B57: ワイドスイッチ
B58: 1P15A*1 | D58: 25 | E58: 組
B59: ワイドスイッチ
B60: 1P15A*2 | D60: 2 | E60: 組
B61: ワイドスイッチ
B62: 1P15A*3 | D62: 7 | E62: 組
B63: ワイドスイッチ
B64: 1P15A*4 | D64: 1 | E64: 組
B65: ワイドスイッチ
B66: 1P15A*5 | D66: 1 | E66: 組
B67: ワイドスイッチ
B68: 1P15A*1+ON表示 | D68: 2 | E68: 組
B69: ワイドスイッチ
B70: 1P15A*2+ON表示 | D70: 2 | E70: 組
B71: ワイドスイッチ
B72: 1P15A*1+ON表示*2 | D72: 1 | E72: 組
B73: ワイドスイッチ
B74: 3W15A*1 | D74: 8 | E74: 組
B75: ワイドスイッチ
B76: 3W15A*2 | D76: 1 | E76: 組
B77: ワイドスイッチ
B78: 3W15A*1+ON表示 | D78: 1 | E78: 組
B79: ワイドスイッチ
B80: 1P15A*3+3W15A*2 | D80: 1 | E80: 組
B82: 24時間換気スイッチ | C82: 取付手間のみ | D82: 9 | E82: 箇所
A88: （細目別内訳）
A89: 名 称 | C89: 規 格・寸 法 | D89: 数 量 | E89: 単位 | F89: 単 価 | G89: 金 額 | H89: 備 考
B91: 調光機能付スイッチ | D91: 4 | E91: 組
B93: 自動点滅器 | D93: 2 | E93: 個
B97: 人感センサー | C97: 親機 | D97: 15 | E97: 個
B99: 人感センサー | C99: 子機 | D99: 8 | E99: 個
B102: スイッチボックス
B103: 1個用 | D103: 51 | E103: 個
B104: スイッチボックス
B105: 2個用 | D105: 54 | E105: 個
B106: スイッチボックス
B107: 3個用 | D107: 1 | E107: 個
B108: アウトレットボックス
B109: 中浅 | D109: 108 | E109: 個
B113: ライティングダクト | D113: 10 | E113: ｍ
B116: 合成樹脂製可とう電線管
B117: PF28 | C117: 隠蔽 | D117: 42 | E117: ｍ
B118: 合成樹脂製可とう電線管
B119: PF22 | C119: 隠蔽 | D119: 100 | E119: ｍ
B120: 合成樹脂製可とう電線管
B121: PF16 | C121: 隠蔽 | D121: 66 | E121: ｍ
A131: （細目別内訳）
A132: 名 称 | C132: 規 格・寸 法 | D132: 数 量 | E132: 単位 | F132: 単 価 | G132: 金 額 | H132: 備 考
B133: 600Vポリエチレン絶縁 耐燃ポリエチレンシースケーブル
B134: EM-EEF2.0-3C | C134: 天井転がし | D134: 1459 | E134: ｍ
C136: PF管内 | D136: 49 | E136: ｍ
B137: 600Vポリエチレン絶縁 耐燃ポリエチレンシースケーブル
B138: EM-EEF2.0-2C | C138: 天井転がし | D138: 342 | E138: ｍ
C140: PF管内 | D140: 136 | E140: ｍ
B143: 着色識別ポリエチレン絶縁耐燃性ポリエチレンシースケーブル
B144: EM-FCPEE1.2-2P | C144: 天井転がし | D144: 9 | E144: ｍ
...

Sheet 細目（5.コンセント設備）
A2: （細目別内訳）
A3: 名 称 | C3: 規 格・寸 法 | D3: 数 量 | E3: 単位 | F3: 単 価 | G3: 金 額 | H3: 備 考
A5: Ａ | B5: 電気設備工事
A7: 5 | B7: コンセント設備
B10: 埋込コンセント
B11: 2P15A*1ET | D11: 50 | E11: 組
B12: 埋込コンセント
B13: 2P15A*1EET | D13: 11 | E13: 組
B14: 埋込コンセント
B15: 2P15A*2 | D15: 78 | E15: 組
B16: 埋込コンセント
B17: 2P15A*2ET | D17: 6 | E17: 組
B18: 埋込コンセント
B19: 2P15A*2EET | D19: 6 | E19: 組
B20: 引掛コンセント
B21: 2P15A*2E | D21: 2 | E21: 組
B22: フロアコンセント
B23: 2P15A*2 | D23: 9 | E23: 組
B24: 防水コンセント
B25: 2P15A*2EET | D25: 5 | E25: 組
B26: 埋込コンセント
B27: 2P20A250V*1EET | D27: 10 | E27: 組
B28: リーラーコンセント
B29: 2P15A*2E | D29: 2 | E29: 個
B30: 子メーター
B31: 単相30A | D31: 2 | E31: 個
B34: スイッチボックス
B35: 1個用 | D35: 163 | E35: 個
B36: スイッチボックス
B37: 2個用 | D37: 7 | E37: 個
B38: アウトレットボックス
B39: 中浅 | D39: 11 | E39: 個
A45: （細目別内訳）
A46: 名 称 | C46: 規 格・寸 法 | D46: 数 量 | E46: 単位 | F46: 単 価 | G46: 金 額 | H46: 備 考
B47: 合成樹脂製可とう電線管
B48: PF28 | C48: 隠蔽 | D48: 32 | E48: ｍ
B49: 合成樹脂製可とう電線管
B50: PF22 | C50: 隠蔽 | D50: 799 | E50: ｍ
B51: 合成樹脂製可とう電線管
B52: PF16 | C52: 隠蔽 | D52: 115 | E52: ｍ
B55: 600Vポリエチレン絶縁 耐燃ポリエチレンシースケーブル
B56: EM-EEF2.0-3C | C56: 天井転がし | D56: 994 | E56: ｍ
C58: PF管内 | D58: 333 | E58: ｍ
B59: 600Vポリエチレン絶縁 耐燃ポリエチレンシースケーブル
B60: EM-EEF2.0-2C | C60: 天井転がし | D60: 763 | E60: ｍ
C62: PF管内 | D62: 466 | E62: ｍ
B63: 600Vポリエチレン絶縁 耐燃ポリエチレンシースケーブル
B64: EM-CE3.5sq-3C | C64: 天井転がし | D64: 77 | E64: ｍ
C66: PF管内 | D66: 32 | E66: ｍ
B82: 小 計

Sheet 細目（6.非常灯・誘導灯設備）
A2: （細目別内訳）
A3: 名 称 | C3: 規 格・寸 法 | D3: 数 量 | E3: 単位 | F3: 単 価 | G3: 金 額 | H3: 備 考
A5: Ａ | B5: 電気設備工事
A7: 6 | B7: 非常灯・誘導灯設備
B10: a-LED
B11: 非常灯 | C11: K1-LRS11-1 | D11: 20 | E11: 台
B12: b-LED
B13: 非常灯 | C13: K1-LRS11-3 | D13: 15 | E13: 台
B14: c-LED
B15: 非常灯 | C15: LALE-007 防湿防雨型 | D15: 4 | E15: 台
B18: α-LED
B19: 誘導灯 | C19: SH1-FBF20-BL | D19: 1 | E19: 組
B20: β-LED
B21: 誘導灯 | C21: SH1-FBF20-C | D21: 2 | E21: 組
B22: γ-LED
B23: 誘導灯 | C23: ST1-FBF22-A | D23: 3 | E23: 組
B24: Δ-LED
B25: 誘導灯 | C25: ST1-FBF22-BH | D25: 1 | E25: 組
B28: アウトレットボックス
B29: 中浅 | D29: 7 | E29: 個
B32: 合成樹脂製可とう電線管
B33: PF22 | C33: 隠蔽 | D33: 5 | E33: ｍ
B36: 600Vポリエチレン絶縁 耐燃ポリエチレンシースケーブル
B37: EM-EEF2.0-3C | C37: 天井転がし | D37: 356 | E37: ｍ
C39: PF管内 | D39: 5 | E39: ｍ
A45: （細目別内訳）
A46: 名 称 | C46: 規 格・寸 法 | D46: 数 量 | E46: 単位 | F46: 単 価 | G46: 金 額 | H46: 備 考
B82: 小 計

Sheet 細目（7.通信設備）
A2: （細目別内訳）
A3: 名 称 | C3: 規 格・寸 法 | D3: 数 量 | E3: 単位 | F3: 単 価 | G3: 金 額 | H3: 備 考
A5: Ａ | B5: 電気設備工事
A7: 7 | B7: 通信設備
B11: 通信用アウトレット | C11: 壁付 | D11: 15 | E11: 組
B13: 通信用アウトレット | C13: 床付 | D13: 4 | E13: 組
B16: スイッチボックス
B17: 1個用 | D17: 15 | E17: 個
B18: アウトレットボックス
B19: 中浅 | D19: 4 | E19: 個
B22: 電子ボタン電話ケーブル
B23: EM-EBT0.5-1P | C23: 天井転がし | D23: 211 | E23: ｍ
C25: PF管内 | D25: 57 | E25: ｍ
B26: 電子ボタン電話ケーブル
B27: EM-EBT0.5-5P | C27: 天井転がし | D27: 35 | E27: ｍ
B28: 電子ボタン電話ケーブル
B29: EM-EBT0.5-20P | C29: 天井転がし | D29: 57 | E29: ｍ
B30: 600V架橋ポリエチレン絶縁耐燃性ポリエチレンシースケーブル
B31: EM-CE2.0-2C | C31: FEP管内 | D31: 52 | E31: ｍ
B34: 合成樹脂製可とう電線管
B35: PF16 | C35: 隠蔽 | D35: 57 | E35: ｍ
B36: 波付硬質ポリエチレン管
B37: FEP40 | C37: 地中埋設 | D37: 448 | E37: ｍ
B38: 波付硬質ポリエチレン管
B39: FEP30 | C39: 地中埋設 | D39: 271 | E39: ｍ
A45: （細目別内訳）
A46: 名 称 | C46: 規 格・寸 法 | D46: 数 量 | E46: 単位 | F46: 単 価 | G46: 金 額 | H46: 備 考
B47: ハンドホール
B48: H1-9 | C48: R2K-60 | D48: 3 | E48: 基
B49: ハンドホール
B50: H1-9 | C50: R20K-60 | D50: 2 | E50: 基
B56: 【土工事】
B58: 根切り | D58: 52.3 | E58: ㎥
B60: 山砂 | D60: 29.9 | E60: ㎥
B62: 埋め戻し | D62: 22.4 | E62: ㎥
B64: 残土処理 | D64: 29.9 | E64: ㎥
B66: 埋設表示シート | C66: ダブル | D66: 149 | E66: ｍ
B82: 小 計

Sheet 細目（8.情報設備）
A2: （細目別内訳）
A3: 名 称 | C3: 規 格・寸 法 | D3: 数 量 | E3: 単位 | F3: 単 価 | G3: 金 額 | H3: 備 考
A5: Ａ | B5: 電気設備工事
A7: 8 | B7: 情報設備
B11: 情報用アウトレット | C11: 壁付 | D11: 17 | E11: 組
B13: 情報用アウトレット | C13: 床付 | D13: 8 | E13: 組
B14: スイッチングハブ
B15: 16ポート | C15: PoE給電対応 | D15: 2 | E15: 個
B16: スイッチングハブ
B17: 12ポート | C17: PoE給電対応 | D17: 1 | E17: 個
B18: スイッチングハブ
B19: 8ポート | C19: PoE給電対応 | D19: 1 | E19: 個
B22: スイッチボックス
B23: 1個用 | D23: 17 | E23: 個
B24: アウトレットボックス
B25: 中浅 | D25: 8 | E25: 個
B28: LAN配線ケーブル
B29: EM-UTP CAT6-4P | C29: 天井転がし | D29: 344 | E29: ｍ
C31: PF管内 | D31: 104 | E31: ｍ
B34: 合成樹脂製可とう電線管
B35: PF16 | C35: 隠蔽 | D35: 104 | E35: ｍ
B39: 小 計

Sheet 細目（9.テレビ共聴視設備）
A2: （細目別内訳）
A3: 名 称 | C3: 規 格・寸 法 | D3: 数 量 | E3: 単位 | F3: 単 価 | G3: 金 額 | H3: 備 考
A5: Ａ | B5: 電気設備工事
A7: 9 | B7: テレビ共聴視設備
B10: UHFアンテナ
B11: ステンレス製 | D11: 1 | E11: 本 | F11: =163000+151000 -> 314000
B13: 直列ユニット | C13: 壁付 | D13: 4 | E13: 組 | F13: 10300
B15: 防雨入線カバー | D15: 1 | E15: 個 | F15: 1250
B16: 分配器
B17: 4分配 | D17: 1 | E17: 個 | F17: 16400
B18: 増幅器
B19: SH-1 | D19: 1 | E19: 個 | F19: 263000
B22: スイッチボックス
B23: 1個用 | D23: 5 | E23: 個 | F23: 4800
B24: スイッチボックス
B25: 2個用 | D25: 1 | E25: 個 | F25: 5130
B28: 同軸ケーブル
B29: S-7C-FB | C29: 天井転がし | D29: 17 | E29: ｍ | F29: 1070
B30: 同軸ケーブル
B31: S-5C-FB | C31: 天井転がし | D31: 75 | E31: ｍ | F31: 710
C33: PF管内 | D33: 132 | E33: ｍ | F33: 1170
B36: 合成樹脂製可とう電線管
B37: PF16 | C37: 隠蔽 | D37: 23 | E37: ｍ | F37: 1320
A45: （細目別内訳）
A46: 名 称 | C46: 規 格・寸 法 | D46: 数 量 | E46: 単位 | F46: 単 価 | G46: 金 額 | H46: 備 考
B82: 小 計

Sheet 細目（10.インターホン設備）)
A2: （細目別内訳）
A3: 名 称 | C3: 規 格・寸 法 | D3: 数 量 | E3: 単位 | F3: 単 価 | G3: 金 額 | H3: 備 考
A5: Ａ | B5: 電気設備工事
A7: 10 | B7: インターホン設備
B10: テレビドアホン
B11: 親機+子機 | C11: 録画機能付 | D11: 3 | E11: 組
B12: 電気錠操作ユニット
B13: 親機 | C13: 停電バックアップ電源、変換アダプター | D13: 1 | E13: 組
B14: 電気錠操作ユニット
B15: 子機 | C15: 防雨型 | D15: 1 | E15: 個
B19: ブランクプレート | D19: 2 | E19: 枚
B20: スイッチボックス
B21: 3個用 | D21: 1 | E21: 個
B22: スイッチボックス
B23: 2個用 | D23: 1 | E23: 個
B24: スイッチボックス
B25: 1個用 | D25: 8 | E25: 個
B28: 警報用ポリエチレン絶縁ケーブル
B29: EM-AE0.9-2C | C29: 天井転がし | D29: 53 | E29: ｍ
C31: PF管内 | D31: 26 | E31: ｍ
B34: 合成樹脂製可とう電線管
B35: PF16 | C35: 隠蔽 | D35: 26 | E35: ｍ
B39: 小 計

Sheet 細目（11.トイレ呼出設備）
A2: （細目別内訳）
A3: 名 称 | C3: 規 格・寸 法 | D3: 数 量 | E3: 単位 | F3: 単 価 | G3: 金 額 | H3: 備 考
A5: Ａ | B5: 電気設備工事
A7: 11 | B7: トイレ呼出設備
B10: トイレ呼出主装置
B11: 5窓 | C11: 壁付 | D11: 2 | E11: 台
B13: トイレ呼出押釦 | C13: 引き紐付 | D13: 4 | E13: 個
B15: トイレ呼出復旧ボタン | D15: 2 | E15: 個
B17: トイレ呼出表示灯 | C17: ブザー付 | D17: 2 | E17: 個
B20: スイッチボックス
B21: 1個用 | D21: 6 | E21: 個
B22: スイッチボックス
B23: 2個用 | D23: 2 | E23: 個
B26: 合成樹脂製可とう電線管
B27: PF16 | C27: 隠蔽 | D27: 21 | E27: ｍ
B30: 警報用ポリエチレン絶縁ケーブル
B31: EM-AE1.2-3C | C31: 天井転がし | D31: 13 | E31: ｍ
C33: PF管内 | D33: 16 | E33: ｍ
B34: 警報用ポリエチレン絶縁ケーブル
B35: EM-AE1.2-2C | C35: 天井転がし | D35: 74 | E35: ｍ
C37: PF管内 | D37: 5 | E37: ｍ
B39: 小 計

Sheet 細目（12.放送設備）
A2: （細目別内訳）
A3: 名 称 | C3: 規 格・寸 法 | D3: 数 量 | E3: 単位 | F3: 単 価 | G3: 金 額 | H3: 備 考
A5: Ａ | B5: 電気設備工事
A7: 12 | B7: 放送設備
B11: 放送アンプ | C11: 盤組込型 事務室1 | D11: 1 | E11: 台
B13: 放送アンプ | C13: 盤組込型 事務室2 | D13: 1 | E13: 台
B17: 天井埋込スピーカー | D17: 23 | E17: 個
B19: ワイドホーンスピーカー | D19: 3 | E19: 個
B21: アッテネーター | D21: 21 | E21: 個
B24: スイッチボックス
B25: 1個用 | D25: 24 | E25: 個
B26: アウトレットボックス
B27: 中浅 | D27: 14 | E27: 個
B30: 合成樹脂製可とう電線管
B31: PF16 | C31: 隠蔽 | D31: 48 | E31: ｍ
B34: 警報用ポリエチレン絶縁ケーブル
B35: EM-AE0.9-3C | C35: 天井転がし | D35: 382 | E35: ｍ
C37: PF管内 | D37: 48 | E37: ｍ
B38: 警報用ポリエチレン絶縁ケーブル
B39: EM-AE0.9-5P | C39: 天井転がし | D39: 92 | E39: ｍ
A45: （細目別内訳）
A46: 名 称 | C46: 規 格・寸 法 | D46: 数 量 | E46: 単位 | F46: 単 価 | G46: 金 額 | H46: 備 考
B82: 小 計

Sheet 細目（13.音響設備）
A2: （細目別内訳）
A3: 名 称 | C3: 規 格・寸 法 | D3: 数 量 | E3: 単位 | F3: 単 価 | G3: 金 額 | H3: 備 考
A5: Ａ | B5: 電気設備工事
A7: 13 | B7: 音響設備
B11: ワゴンアンプ | D11: 1 | E11: 台
B13: ワゴン接続プレート | D13: 1 | E13: 面
B15: メインスピーカー | D15: 2 | E15: 個
B17: はね返りスピーカー | D17: 1 | E17: 個
B19: ワイヤレスアンテナ | C19: 壁付 | D19: 2 | E19: 個
B21: ワイヤレスマイク | C21: ハンド型 | D21: 4 | E21: 個
B23: ワイヤレスマイク用充電器 | D23: 2 | E23: 個
B25: 卓上型マイクスタンド | D25: 1 | E25: 個
B27: マイクスタンド | D27: 1 | E27: 個
B31: ノズルプレート | D31: 3 | E31: 個
B32: スイッチボックス
B33: 1個用 | D33: 5 | E33: 個
B34: スイッチボックス
B35: 3個用 | D35: 1 | E35: 個
A45: （細目別内訳）
A46: 名 称 | C46: 規 格・寸 法 | D46: 数 量 | E46: 単位 | F46: 単 価 | G46: 金 額 | H46: 備 考
B47: 合成樹脂製可とう電線管
B48: PF22 | C48: 隠蔽 | D48: 12 | E48: ｍ
B49: 合成樹脂製可とう電線管
B50: PF16 | C50: 隠蔽 | D50: 8 | E50: ｍ
B53: スピーカーケーブル
B54: EM-4S6 | C54: 天井転がし | D54: 27 | E54: ｍ
C56: PF管内 | D56: 12 | E56: ｍ
B57: 同軸ケーブル
B58: S-5C-FB | C58: 天井転がし | D58: 34 | E58: ｍ
C60: PF管内 | D60: 8 | E60: ｍ
B82: 小 計

Sheet 細目（14.自動火災報知設備）
A2: （細目別内訳）
A3: 名 称 | C3: 規 格・寸 法 | D3: 数 量 | E3: 単位 | F3: 単 価 | G3: 金 額 | H3: 備 考
A5: Ａ | B5: 電気設備工事
A7: 14 | B7: 自動火災報知設備
B10: 自火報受信機
B11: P型1級15回線 | C11: 壁付型 | D11: 1 | E11: 台
B12: 自火報副受信機
B13: P型1級5回線 | C13: 壁付型 | D13: 1 | E13: 台
B15: 直流電源装置 | D15: 2 | E15: 台
B17: 火災通報装置 | C17: 壁付型 | D17: 2 | E17: 台
B19: 火災通報専用電話 | D19: 2 | E19: 台
B20: 発信機
B21: P型1級 | C21: 表示灯付 | D21: 5 | E21: 個
B23: ブザー | D23: 5 | E23: 個
B26: 光電式スポット型感知器
B27: 2種 | D27: 21 | E27: 個
B28: 差動式スポット型感知器
B29: 2種 | D29: 78 | E29: 個
B30: 定温式スポット型感知器
B31: 特種・防水型 | D31: 13 | E31: 個
B32: 光電式スポット型感知器
B33: 3種 | D33: 2 | E33: 個
A45: （細目別内訳）
A46: 名 称 | C46: 規 格・寸 法 | D46: 数 量 | E46: 単位 | F46: 単 価 | G46: 金 額 | H46: 備 考
B47: 合成樹脂製可とう電線管
B48: PF28 | C48: 隠蔽 | D48: 120 | E48: ｍ
B49: 合成樹脂製可とう電線管
B50: PF22 | C50: 隠蔽 | D50: 12 | E50: ｍ
B51: 合成樹脂製可とう電線管
B52: PF16 | C52: 隠蔽 | D52: 29 | E52: ｍ
B55: 消防用耐熱電線
B56: EM-HP1.2-10P | C56: 天井転がし | D56: 39 | E56: ｍ
C58: PF管内 | D58: 120 | E58: ｍ
B59: 消防用耐熱電線
B60: EM-HP1.2-5P | C60: 天井転がし | D60: 58 | E60: ｍ
C62: PF管内 | D62: 12 | E62: ｍ
B63: 消防用耐熱電線
B64: EM-HP1.2-3C | C64: 天井転がし | D64: 64 | E64: ｍ
C66: PF管内 | D66: 3 | E66: ｍ
B67: 警報用ポリエチレン絶縁ケーブル
B68: EM-AE0.9-4C | C68: 天井転がし | D68: 91 | E68: ｍ
B69: 警報用ポリエチレン絶縁ケーブル
B70: EM-AE0.9-2C | C70: 天井転がし | D70: 604 | E70: ｍ
C72: PF管内 | D72: 26 | E72: ｍ
B82: 小 計

Sheet 細目（15.警備・防犯カメラ予備配管）
A2: （細目別内訳）
A3: 名 称 | C3: 規 格・寸 法 | D3: 数 量 | E3: 単位 | F3: 単 価 | G3: 金 額 | H3: 備 考
A5: Ａ | B5: 電気設備工事
A7: 15 | B7: 警備・防犯カメラ予備配管
B11: ブランクプレート | D11: 20 | E11: 個
B14: スイッチボックス
B15: 1個用 | D15: 20 | E15: 個
B16: ジョイントボックス
B17: 中 | D17: 19 | E17: 個
B20: 合成樹脂製可とう電線管
B21: PF22 | C21: 隠蔽 | D21: 630 | E21: ｍ
B39: 小 計

Sheet 細目（16.外灯設備）
A2: （細目別内訳）
A3: 名 称 | C3: 規 格・寸 法 | D3: 数 量 | E3: 単位 | F3: 単 価 | G3: 金 額 | H3: 備 考
A5: Ａ | B5: 電気設備工事
A7: 16 | B7: 外灯設備
B10: 防犯灯
B11: 2240lm | C11: ポール取付 防雨型 | D11: 3 | E11: 台
B13: 既設ポール外灯 移設 | D13: 2 | E13: 本
B15: 既設鋼管ポール中継柱 移設 | D15: 1 | E15: 本
B18: 引込用ビニル絶縁電線
B19: DV14-2C | C19: 架空 | D19: 79 | E19: ｍ
B21: 同上労務費 | C21: 径間 | D21: 5 | E21: 径間
B39: 小 計

Sheet 細目（17.撤去工事）
A2: （細目別内訳）
A3: 名 称 | C3: 規 格・寸 法 | D3: 数 量 | E3: 単位 | F3: 単 価 | G3: 金 額 | H3: 備 考
A5: Ａ | B5: 電気設備工事
A7: 17 | B7: 撤去工事
B10: 引込用ビニル絶縁電線
B11: DV14-2C | C11: 撤去 | D11: 3 | E11: 径間
B12: 引込用ビニル絶縁電線
B13: DV3.2-2C | C13: 撤去 | D13: 2 | E13: 径間
B39: 小 計

Sheet 産業廃棄物処分費
A2: （細目別内訳）
A3: 名 称 | C3: 規 格・寸 法 | D3: 数 量 | E3: 単位 | F3: 単 価 | G3: 金 額 | H3: 備 考
A5: Ｂ | B5: 産業廃棄物処理費
A7: 1 | B7: 産業廃棄物処理費
B11: 鉄くず処分費 | D11: 17.7 | E11: ㎏
B13: 同上運搬費 | C13: 2tトラック | D13: 1 | E13: 台
B15: 廃プラ処分費 | D15: 4.4 | E15: ㎏
B17: 同上運搬費 | C17: 2tトラック | D17: 1 | E17: 台
B39: 小 計

Sheet 別紙明細
A3: 名 称 | C3: 規 格・寸 法 | D3: 数 量 | E3: 単位 | F3: 単 価 | G3: 金 額 | H3: 備 考
B5: 別紙明細-1
B9: 引込柱 | D9: 1 | E9: 式
B12: 厚鋼電線管
B13: G22 | C13: 露出 | D13: 8 | E13: ｍ
B14: 端末処理
B15: 6kV EM-CET38 | C15: 屋外用 | D15: 1 | E15: 箇所
C16: LA,VT内蔵、GR付 方向性
B17: 高圧気中開閉器 | C17: ﾓｰﾙﾄﾞｺｰﾝ | D17: 1 | E17: 台
C18: 13-19-50
B19: ｺﾝｸﾘｰﾄ柱 | C19: (根枷、ﾊﾞﾝﾄﾞ、支線共) | D19: 1 | E19: 本
B39: 小 計
A46: 名 称 | C46: 規 格・寸 法 | D46: 数 量 | E46: 単位 | F46: 単 価 | G46: 金 額 | H46: 備 考
B48: 別紙明細-2
B52: 接地工事 | D52: 1 | E52: 式
B56: EA | C56: φ14×1500 | D56: 6 | E56: 本
B58: EB | C58: φ14×1500 | D58: 2 | E58: 本
B60: ED | C60: φ14×1500 | D60: 1 | E60: 本
B62: Et | C62: φ10×1000 | D62: 2 | E62: 本
B64: 接地極埋設標 | C64: 黄銅製 測定共 | D64: 2 | E64: 本
B82: 小 計
A89: 名 称 | C89: 規 格・寸 法 | D89: 数 量 | E89: 単位 | F89: 単 価 | G89: 金 額 | H89: 備 考
B91: 別紙明細-3
C94: 3相3線 90kva
B95: 屋外キュービクル型発電機 | C95: 屋外キュービクル型油庫 950L | D95: 1 | E95: 式
B98: 非常用自家発電装置 | H98: 見積り比較表
B99: 屋外設置型 | C99: 90KVA | D99: 1 | E99: 台 | F99: =J99*0.5 -> 8495000 | G99: =D99*F99 -> 8495000 | H99: ×0.50 | J99: =16990000 -> 16990000
B100: 油庫 | H100: 見積り比較表
B101: 屋外キュービクル型 | C101: 950L | D101: 1 | E101: 台 | F101: =J101*0.5 -> 7000000 | G101: =D101*F101 -> 7000000 | H101: ×0.50 | J101: 14000000
H102: 見積り比較表
B103: 燃料満油費 | D103: 1 | E103: 式 | F103: =J103*0.8 -> 480000 | G103: =D103*F103 -> 480000 | H103: ×0.80 | J103: 600000
H104: 見積り比較表
B105: 試運転調整費 | D105: 1 | E105: 式 | F105: =J105*0.8 -> 480000 | G105: =D105*F105 -> 480000 | H105: ×0.80 | J105: 600000
H106: 見積り比較表
B107: 現地模擬負荷試験費 | D107: 1 | E107: 式 | F107: =J107*0.8 -> 800000 | G107: =D107*F107 -> 800000 | H107: ×0.80 | J107: 1000000
H108: 見積り比較表
B109: 搬入据付費 | D109: 1 | E109: 式 | F109: =J109*0.8 -> 960000 | G109: =D109*F109 -> 960000 | H109: ×0.80 | J109: 1200000
H110: 見積り比較表
B111: 燃料配管工事費 | D111: 1 | E111: 式 | F111: =J111*0.8 -> 960000 | G111: =D111*F111 -> 960000 | H111: ×0.80 | J111: 1200000
B125: 小 計 | G125: =SUM(G94:G123) -> 19175000
H129: =CONCATENATE("No. ",INT(ROW()/43)+163) -> No. 166

Sheet 機械設備工事
A2: （細目別内訳）
A3: 名 称 | C3: 規 格・寸 法 | D3: 数 量 | E3: 単位 | F3: 単 価 | G3: 金 額 | H3: 備 考
A5: Ⅳ | B5: 機械設備工事
A7: Ａ | B7: 機械設備工事 | D7: 1 | E7: 式
A9: Ｂ | B9: 産業廃棄物処理費 | D9: 1 | E9: 式
B39: 計

Sheet 科目
A2: （科目別内訳）
A3: 名 称 | C3: 規 格・寸 法 | D3: 数 量 | E3: 単位 | F3: 単 価 | G3: 金 額 | H3: 備 考
A5: Ａ | B5: 機械設備工事
A7: 1 | B7: 給水設備工事 | D7: 1 | E7: 式
A9: 2 | B9: 排水設備工事 | D9: 1 | E9: 式
A11: 3 | B11: 衛生器具設備工事 | D11: 1 | E11: 式
A13: 4 | B13: 給湯設備工事 | D13: 1 | E13: 式
A15: 5 | B15: 床暖房設備工事 | D15: 1 | E15: 式
A17: 6 | B17: 消火設備工事 | D17: 1 | E17: 式
A19: 7 | B19: 空気調和設備工事 | D19: 1 | E19: 式
A21: 8 | B21: 換気設備工事 | D21: 1 | E21: 式
A23: 9 | B23: 撤去工事 | D23: 1 | E23: 式
B25: 計
A29: Ｂ | B29: 産業廃棄物処理費
A31: 1 | B31: 産業廃棄物処理費 | D31: 1 | E31: 式
B33: 計
G41: =SUM(G36:G37) -> 0

Sheet 中科目
A2: （中科目別内訳）
A3: 名 称 | C3: 規 格・寸 法 | D3: 数 量 | E3: 単位 | F3: 単 価 | G3: 金 額 | H3: 備 考
A5: Ａ | B5: 機械設備工事
A7: 1 | B7: 給水設備工事 | C7: 屋外給水設備工事 | D7: 1 | E7: 式
C9: 屋内給水設備工事 | D9: 1 | E9: 式
B11: 計
A15: 2 | B15: 排水設備工事 | C15: 屋外排水設備工事 | D15: 1 | E15: 式
C17: 屋内排水設備工事 | D17: 1 | E17: 式
B19: 計
A23: 3 | B23: 衛生器具設備工事 | C23: 衛生器具設備工事 | D23: 1 | E23: 式
B25: 計
A29: 4 | B29: 給湯設備工事 | C29: 機器設備工事 | D29: 1 | E29: 式
C31: 配管設備工事 | D31: 1 | E31: 式
B33: 計
A37: 5 | B37: 床暖房設備工事 | C37: 床暖房設備工事 | D37: 1 | E37: 式
B39: 計
A45: （中科目別内訳）
A46: 名 称 | C46: 規 格・寸 法 | D46: 数 量 | E46: 単位 | F46: 単 価 | G46: 金 額 | H46: 備 考
A48: 6 | B48: 消火設備工事 | C48: 機器設備工事 | D48: 1 | E48: 式
B50: 計
A54: 7 | B54: 空気調和設備工事 | C54: 機器設備工事 | D54: 1 | E54: 式
C56: 配管設備工事 | D56: 1 | E56: 式
C58: ダクト設備工事 | D58: 1 | E58: 式
B60: 計
A64: 8 | B64: 換気設備工事 | C64: 機器設備工事 | D64: 1 | E64: 式
C66: ダクト設備工事 | D66: 1 | E66: 式
B68: 計
A72: 9 | B72: 撤去工事 | C72: 配管類撤去工事 | D72: 1 | E72: 式
B74: 計
A78: Ｂ | B78: 産業廃棄物処理費
A80: 1 | B80: 産業廃棄物処理費 | D80: 1 | E80: 式
B82: 計

Sheet 細目
A2: （細目別内訳）
A3: 名 称 | C3: 規 格・寸 法 | D3: 数 量 | E3: 単位 | F3: 単 価 | G3: 金 額 | H3: 備 考
A5: Ａ | B5: 機械設備工事
A6: 1 | B6: 給水設備工事
B7: 屋外給水設備工事
B9: PE 電気融着継手 | C9: 地中埋設 50A | D9: 24 | E9: ｍ
B11: 〃 | C11: 地中埋設 40A | D11: 141 | E11: ｍ
B13: 〃 | C13: 地中埋設 25A | D13: 169 | E13: ｍ
B15: 〃 | C15: 地中埋設 20A | D15: 61 | E15: ｍ
B17: SGP-VD | C17: 屋内一般 25A | D17: 3 | E17: ｍ
B19: 〃 | C19: 屋内一般 20A | D19: 13 | E19: ｍ
B21: 〃 | C21: 地中埋設 50A | D21: 1 | E21: ｍ
B23: 〃 | C23: 地中埋設 40A | D23: 2 | E23: ｍ
B25: 〃 | C25: 地中埋設 25A | D25: 9 | E25: ｍ
B27: 〃 | C27: 地中埋設 20A | D27: 11 | E27: ｍ
B29: 埋設用仕切弁 | C29: JIS10K 50A | D29: 1 | E29: 個
B31: 〃 | C31: JIS10K 40A | D31: 2 | E31: 個
... B41: 〃 | C41: VC-P | D41: 20 | E41: 個
A45: （細目別内訳）
A46: 名 称 | C46: 規 格・寸 法 | D46: 数 量 | E46: 単位 | F46: 単 価 | G46: 金 額 | H46: 備 考
B48: ｻﾄﾞﾙ分水栓 | C48: 75A×50A | D48: 1 | E48: 個
B50: 量水器 | C50: 40mm 手間のみ | D50: 1 | E50: 個
B52: 〃 | C52: 25mm 再取付 | D52: 1 | E52: 個
B54: ﾘﾝｸﾞﾊﾞﾙﾌﾞ | C54: 40A | D54: 1 | E54: 個
B56: 量水器ﾎﾞｯｸｽ | C56: 40mm | D56: 1 | E56: 個
B58: 〃 | C58: 25mm | D58: 1 | E58: 個
B60: Y型ｽﾄﾚｰﾅｰ | C60: 25A | D60: 1 | E60: 個
B62: 減圧弁 | C62: 25A | D62: 1 | E62: 個
B64: CV | C64: 25A | D64: 1 | E64: 個
B66: BAV | C66: 25A | D66: 2 | E66: 個
B68: ｶﾑﾛｯｸ | C68: めねじ 25A | D68: 1 | E68: 個
B70: ﾀﾞｽﾄｷｬｯﾌﾟ | C70: 25A | D70: 1 | E70: 個
... B76: ﾎｰｽﾊﾞﾝﾄﾞ | C76: SUS | D76: 1 | E76: 個
B78: 埋設標 | D78: 1 | E78: 式 | H78: 別紙明細-1
B80: 土工事 | D80: 1 | E80: 式 | H80: 別紙明細-2
B82: 斫り補修 | D82: 1 | E82: 式 | H82: 別紙明細-3
A88: （細目別内訳）
A89: 名 称 | C89: 規 格・寸 法 | D89: 数 量 | E89: 単位 | F89: 単 価 | G89: 金 額 | H89: 備 考
B91: 既設管接続 | D91: 1 | E91: 式 | H91: 別紙明細-4
B93: 保温工事 | D93: 1 | E93: 式 | H93: 別紙明細-5
G97: =D97*F97 -> 0
G99: =D99*F99 -> 0
G101: =D101*F101 -> 0
G103: =D103*F103 -> 0
G105: =D105*F105 -> 0
G107: =D107*F107 -> 0
G109: =D109*F109 -> 0
G111: =D111*F111 -> 0
G113: =D113*F113 -> 0
G115: =D115*F115 -> 0
G117: =D117*F117 -> 0
G119: =D119*F119 -> 0
... G125: =D125*F125 -> 0
B127: 小計
A131: （細目別内訳）
A132: 名 称 | C132: 規 格・寸 法 | D132: 数 量 | E132: 単位 | F132: 単 価 | G132: 金 額 | H132: 備 考
G134: =D134*F134 -> 0
A135: 1 | B135: 給水設備工事
B136: 屋内給水設備工事
B138: SGP-VB | C138: 機械室便所 40A | D138: 3 | E138: ｍ
B140: 〃 | C140: 機械室便所 25A | D140: 45 | E140: ｍ
B142: 〃 | C142: 機械室便所 20A | D142: 195 | E142: ｍ
B144: 〃 | C144: 機械室便所 15A | D144: 4 | E144: ｍ
B146: 〃 | C146: 屋内一般 20A | D146: 21 | E146: ｍ
B148: PE 電気融着継手 | C148: 屋内一般 20A | D148: 20 | E148: ｍ
B150: GV | C150: 15A | D150: 4 | E150: 個
B152: 保温工事 | D152: 1 | E152: 式 | H152: 別紙明細-6
B154: 土工事 | D154: 1 | E154: 式 | H154: 別紙明細-7
B156: ｽﾘｰﾌﾞ工事費 | D156: 1 | E156: 式 | H156: 別紙明細-8
G162: =D162*F162 -> 0
B170: 小計
A174: （細目別内訳）
A175: 名 称 | C175: 規 格・寸 法 | D175: 数 量 | E175: 単位 | F175: 単 価 | G175: 金 額 | H175: 備 考
A178: 2 | B178: 排水設備工事
B179: 屋外排水設備工事
C180: 地中埋設用ｽﾃﾝﾚｽ製 ﾊﾟｲﾌﾟ流入式
B181: GT-1 ｸﾞﾘｰｽﾄﾗｯﾌﾟ | C181: ﾊﾞｹｯﾄ、蓋、嵩上げ、ﾊﾞｹｯﾄﾌｯｸ | D181: 1 | E181: 基
B183: ｸﾞﾘｰｽﾄﾗｯﾌﾟ用保護ｺﾝｸﾘｰﾄ工事 | D183: 1 | E183: 式 | H183: 別紙明細-9
B185: VU | C185: 地中埋設 150A | D185: 53 | E185: ｍ
B187: VP | C187: 地中埋設 100A | D187: 177 | E187: ｍ
B189: 自在支管 | C189: HP管用 200A×150A | D189: 1 | E189: 個
B191: 排水桝 | D191: 1 | E191: 式 | H191: 別紙明細-10
B193: 土工事 | D193: 1 | E193: 式 | H193: 別紙明細-11
B195: 土留め工事 | D195: 1 | E195: 式 | H195: 別紙明細-12
G199: =D199*F199 -> 0
G201: =D201*F201 -> 0
G203: =D203*F203 -> 0
G205: =D205*F205 -> 0
B213: 小計
A217: （細目別内訳）
A218: 名 称 | C218: 規 格・寸 法 | D218: 数 量 | E218: 単位 | F218: 単 価 | G218: 金 額 | H218: 備 考
A221: 2 | B221: 排水設備工事
B222: 屋内排水設備工事
B224: VP | C224: 機械室便所 100A | D224: 140 | E224: ｍ
B226: 〃 | C226: 機械室便所 75A | D226: 32 | E226: ｍ
B228: 〃 | C228: 機械室便所 65A | D228: 17 | E228: ｍ
B230: 〃 | C230: 機械室便所 50A | D230: 58 | E230: ｍ
B232: 〃 | C232: 機械室便所 40A | D232: 55 | E232: ｍ
B234: 〃 | C234: 屋内一般 100A | D234: 11 | E234: ｍ
B236: 〃 | C236: 屋内一般 75A | D236: 6 | E236: ｍ
...

Sheet 別紙
A2: （別紙明細）
A3: 名 称 | C3: 規 格・寸 法 | D3: 数 量 | E3: 単位 | F3: 単 価 | G3: 金 額 | H3: 備 考
B4: 別紙明細-1
B5: 埋設標
B7: 埋設ﾃｰﾌﾟ | D7: 418 | E7: ｍ
B9: 埋設標 | C9: ﾋﾟﾝ | D9: 15 | E9: 個
B11: 〃 | C11: 杭 | D11: 12 | E11: 個
B13: 計
B16: 別紙明細-2
B17: 土工事
B19: 根切り | C19: 機械 | D19: 123.4 | E19: ｍ3
B21: 山砂 | D21: 63.9 | E21: ｍ3
B23: 埋戻し | C23: 機械 | D23: 59.5 | E23: ｍ3
B25: 残土処分 | D25: 63.9 | E25: ｍ3
B27: 計
B30: 別紙明細-3
B31: 斫り補修
B33: ｶｯﾀｰ入れ | C33: ｱｽﾌｧﾙﾄ | D33: 83 | E33: ｍ
B35: ｱｽﾌｧﾙﾄ撤去 | D35: 9.2 | E35: ｍ3
B37: ｱｽﾌｧﾙﾄ舗装 | C37: 車道 | D37: 184.6 | E37: ｍ2
B39: 計
A45: =A2 -> （別紙明細）
A46: 名 称 | C46: 規 格・寸 法 | D46: 数 量 | E46: 単位 | F46: 単 価 | G46: 金 額 | H46: 備 考
B47: 別紙明細-4
B48: 既設管接続
B50: 樹脂管保温無 | C50: 40A | D50: 1 | E50: 箇所
C52: 20A | D52: 1 | E52: 箇所
B54: 計
B57: 別紙明細-5
B58: 保温工事
B60: 給水管保温 | C60: 屋外露出 ｶﾞﾙﾊﾞ PO 25A | D60: 2 | E60: ｍ
B62: 計
B65: 別紙明細-6
B66: 保温工事
B68: 給水管保温 | C68: 暗渠内 PO 40A | D68: 3 | E68: ｍ
C70: 暗渠内 PO 25A | D70: 45 | E70: ｍ
C72: 暗渠内 PO 20A | D72: 149 | E72: ｍ
C74: 暗渠内 PO 15A | D74: 1 | E74: ｍ
C76: 空隙内 GW 20A | D76: 67 | E76: ｍ
C78: 空隙内 GW 15A | D78: 1 | E78: ｍ
C80: 屋内露出 GW 15A | D80: 2 | E80: ｍ
B82: 計
A88: =A45 -> （別紙明細）
A89: 名 称 | C89: 規 格・寸 法 | D89: 数 量 | E89: 単位 | F89: 単 価 | G89: 金 額 | H89: 備 考
B90: 別紙明細-7
B91: 土工事
B93: 根切り | C93: 人力 | D93: 1.8 | E93: ｍ3
B95: 埋戻し | C95: 人力 | D95: 1.8 | E95: ｍ3
B97: 計
B100: 別紙明細-8
B101: ｽﾘｰﾌﾞ工事費
B103: ｽﾘｰﾌﾞ工事費 | C103: 給水配管工事費 | D103: 10 | E103: ％
B105: 計
B108: 別紙明細-9
B109: ｸﾞﾘｰｽﾄﾗｯﾌﾟ用保護ｺﾝｸﾘｰﾄ工事
B111: 根切り | C111: 機械 | D111: 1 | E111: ｍ3
B113: 砕石 | D113: 0.1 | E113: ｍ3
B115: ｺﾝｸﾘｰﾄ | C115: ｺﾝｸﾘｰﾄ打設共 | D115: 0.5 | E115: ｍ3
B117: 鉄筋 | C117: D10 | D117: 15.9 | E117: ｋｇ
B119: 鉄筋加工組立費 | D119: 0.02 | E119: ｔ
B121: 鉄筋運搬費 | D121: 0.02 | E121: ｔ
B123: 埋戻し | C123: 機械 | D123: 0.4 | E123: ｍ3
B125: 残土処分 | D125: 0.6 | E125: ｍ3
B127: 計
A131: （別紙明細）
A132: 名 称 | C132: 規 格・寸 法 | D132: 数 量 | E132: 単位 | F132: 単 価 | G132: 金 額 | H132: 備 考
B133: 別紙明細-10
B134: 排水桝 | G134: =D134*F134 -> 0
B136: 塩ビ製小口径桝 | C136: 100-150 Ａﾀｲﾌﾟ 1000Ｈ | D136: 4 | E136: 組
B138: 〃 | C138: 100-150 Ｂﾀｲﾌﾟ 1000Ｈ | D138: 1 | E138: 組
B140: 〃 | C140: 100-150 Ａﾀｲﾌﾟ 1200Ｈ | D140: 2 | E140: 組
B142: 〃 | C142: 100-150 Ａﾀｲﾌﾟ 1300Ｈ | D142: 3 | E142: 組
B144: 〃 | C144: 100-150 Ａﾀｲﾌﾟ 1400Ｈ | D144: 3 | E144: 組
B146: 〃 | C146: 100-150 Ａﾀｲﾌﾟ 1500Ｈ～ | D146: 19 | E146: 組
B148: 〃 | C148: 100-150 Ｂﾀｲﾌﾟ 1500Ｈ～ | D148: 2 | E148: 組
B150: 〃 | C150: 150-200 Ａﾀｲﾌﾟ 1500Ｈ～ | D150: 7 | E150: 組
B152: 〃 | C152: 150-200 Ｂﾀｲﾌﾟ 1500Ｈ～ | D152: 1 | E152: 組
B154: 化粧蓋 | C154: φ150 | D154: 15 | E154: 個
B156: 防護蓋 | C156: φ200 | D156: 6 | E156: 個
B158: 〃 | C158: φ150 | D158: 1 | E158: 個
B160: 計
G162: =D162*F162 -> 0
A174: （別紙明細）
A175: 名 称 | C175: 規 格・寸 法 | D175: 数 量 | E175: 単位 | F175: 単 価 | G175: 金 額 | H175: 備 考
B176: 別紙明細-11
B177: 土工事
B179: 根切り | C179: 機械 | D179: 237.5 | E179: ｍ3
B181: 砕石 | D181: 11.5 | E181: ｍ3
B183: 山砂 | D183: 34.5 | E183: ｍ3
B185: 埋戻し | C185: 機械 | D185: 191.5 | E185: ｍ3
B187: 残土処分 | D187: 46 | E187: ｍ3
B189: 計
B192: 別紙明細-12
B193: 土留め工事
B195: 親杭鋼矢板 | C195: 切り張り1段 | D195: 824.3 | E195: ｍ2
B197: 計
G203: =D203*F203 -> 0
G205: =D205*F205 -> 0
A217: （別紙明細）
A218: 名 称 | C218: 規 格・寸 法 | D218: 数 量 | E218: 単位 | F218: 単 価 | G218: 金 額 | H218: 備 考
...
