Workbook
Name _: #REF!
Name _______________________________a1: #REF!
Name _____________________________a1: #REF!
Name ______________________A1: #REF!
Name _____________________A1: #REF!
Name ____________________A1: #REF!
Name ___________________Ａ１: #REF!
Name ___________________Ａ１: '[1]代価表 '!$A$1
Name ___________________C300200: [2]資材単価!$G$9
Name ___________________C303800: [2]資材単価!$G$25
Name ___________________C370003: [2]資材単価!$G$46
Name ___________________C370135: [2]資材単価!$G$47
Name ___________________C370240: [2]資材単価!$G$48
Name ___________________C370500: [2]資材単価!$G$51
Name ___________________C370600: [2]資材単価!$G$52
Name ___________________C371625: [2]資材単価!$G$57
Name ___________________C371630: [2]資材単価!$G$58
Name ___________________C371640: [2]資材単価!$G$59
Name ___________________C371650: [2]資材単価!$G$60
Name ___________________C371725: [2]資材単価!$G$61
Name ___________________C371730: [2]資材単価!$G$62
Name ___________________C371740: [2]資材単価!$G$63
Name ___________________C371750: [2]資材単価!$G$64
Name ___________________C460211: [2]資材単価!$G$107
Name ___________________C480900: [2]資材単価!$G$114
Name ___________________C481000: [2]資材単価!$G$115
Name __________________Ａ１: #REF!
Name __________________Ａ１: '[1]代価表 '!$A$1
Name __________________C300200: [2]資材単価!$G$9
Name __________________C303800: [2]資材単価!$G$25
Name __________________C370003: [2]資材単価!$G$46
Name __________________C370135: [2]資材単価!$G$47
Name __________________C370240: [2]資材単価!$G$48
Name __________________C370500: [2]資材単価!$G$51
Name __________________C370600: [2]資材単価!$G$52
Name __________________C371625: [2]資材単価!$G$57
Name __________________C371630: [2]資材単価!$G$58
Name __________________C371640: [2]資材単価!$G$59
Name __________________C371650: [2]資材単価!$G$60
Name __________________C371725: [2]資材単価!$G$61
Name __________________C371730: [2]資材単価!$G$62
Name __________________C371740: [2]資材単価!$G$63
Name __________________C371750: [2]資材単価!$G$64
Name __________________C460211: [2]資材単価!$G$107
Name __________________C480900: [2]資材単価!$G$114
Name __________________C481000: [2]資材単価!$G$115
Name _________________Ａ１: #REF!
Name _________________Ａ１: '[1]代価表 '!$A$1
Name _________________C300200: [2]資材単価!$G$9
Name _________________C303800: [2]資材単価!$G$25
Name _________________C370003: [2]資材単価!$G$46
Name _________________C370135: [2]資材単価!$G$47
Name _________________C370240: [2]資材単価!$G$48
Name _________________C370500: [2]資材単価!$G$51
Name _________________C370600: [2]資材単価!$G$52
Name _________________C371625: [2]資材単価!$G$57
Name _________________C371630: [2]資材単価!$G$58
Name _________________C371640: [2]資材単価!$G$59
Name _________________C371650: [2]資材単価!$G$60
Name _________________C371725: [2]資材単価!$G$61

Sheet 全体大項目
L8: 令和 年 月 日
G10: 工 事 費 内 訳 書
J14: 住所
J16: 商号又は名称
J18: 代表者 ㊞
D22: １ 工事番号 子育て支援工事第10号
D24: ２ 工事名 （仮称）公立認定こども園建設工事
D26: ３ 工事場所 熊本県菊池郡大津町大字室地内
C31: 注意事項 ①記載にあたっては、工事区分・工種・種別・細別までを必ず記載し、数量、単位、単価、金額を明らかにすること。また数量及び単位の表現は、設計図書に準じ、諸経費部分及び設計図書において一式表示としている部分を除いて「一式」での表示は認めない。なお、設計図書に示した項目以外の項目(端数処理を除く)は認めない。 ②工事区分・工種・種別・細別が多い場合は、本様式に行を追加すること。この時枚数が複数になっても構わない。 ③この様式により難い場合は、設計担当課に書面により協議すること。
B42: 記号 | D42: 名 称 | I42: 単 位 | J42: 金 額 | O42: 備 考
B45: Ⅰ
D46: 建築工事 | I46: 一式
B47: Ⅱ
D48: 屋外付帯工事 | I48: 一式
B49: Ⅲ
D50: 電気設備工事 | I50: 一式
B51: Ⅳ
D52: 機械設備工事 | I52: 一式
D54: 共通仮設費 | I54: 一式
D56: 積上げ共通仮設費 | I56: 一式
D58: 現場管理費 | I58: 一式
D60: 一般管理費 | I60: 一式
D62: 合計 | I62: 一式
D66: 消費税 | I66: 一式 | O66: 0.1
D70: 総合計 | I70: 一式
B78: 記号 | D78: 名 称 | I78: 単 位 | J78: 金 額 | O78: 備 考

Sheet 建築工事
A2: （種目別内訳）
A3: 名 称 | C3: 規 格・寸 法 | D3: 数 量 | E3: 単位 | F3: 単 価 | G3: 金 額 | H3: 備 考
G5: 0
B7: 直 接 工 事 費 | G7: 0
A9: Ⅰ | B9: 建築工事 | D9: 1 | E9: 式 | F9: =G84 -> 0
A11: Ⅱ | B11: 屋外附帯工事 | D11: 1 | E11: 式 | F11: =屋外!G41 -> 0
A13: Ⅲ | B13: 電気設備工事 | D13: 1 | E13: 式
A15: Ⅳ | B15: 機械設備工事 | D15: 1 | E15: 式
A45: （科目別内訳）
A46: 名 称 | C46: 規 格・寸 法 | D46: 数 量 | E46: 単位 | F46: 単 価 | G46: 金 額 | H46: 備 考
A48: Ⅰ | B48: 建築工事
A50: ａ. | B50: 直接仮設 | D50: 1 | E50: 式 | F50: =仮設!G41 -> 0
A52: ｂ. | B52: 土工 | D52: 1 | E52: 式 | F52: =土工!G41 -> 0
A54: ｃ. | B54: 地業 | D54: 1 | E54: 式 | F54: =地業!G41 -> 0
A56: ｄ. | B56: 鉄筋 | D56: 1 | E56: 式 | F56: =G117 -> 0
A58: ｅ. | B58: コンクリート | D58: 1 | E58: 式 | F58: =G140 -> 0
A60: ｆ. | B60: 型枠 | D60: 1 | E60: 式 | F60: =G150 -> 0
A62: ｇ. | B62: 鉄骨 | D62: 1 | E62: 式 | F62: =G158 -> 0
A64: ｈ. | B64: 防水 | D64: 1 | E64: 式 | F64: =G166 -> 0
A66: ｉ. | B66: タイル | D66: 1 | E66: 式 | F66: =G183 -> 0
A68: ｊ. | B68: 木 | D68: 1 | E68: 式 | F68: =木!G1030+木!G1073+木!G1288 -> 0
A70: ｋ. | B70: 屋根及びとい | D70: 1 | E70: 式 | F70: =G201 -> 0
A72: ｌ. | B72: 金属 | D72: 1 | E72: 式 | F72: =G209 -> 0
A74: ｍ. | B74: 左官 | D74: 1 | E74: 式 | F74: =G226 -> 0
A76: ｎ. | B76: 建具 | D76: 1 | E76: 式 | F76: =建具!G170+建具!G299+建具!G314+建具!G342+建具!G385+建具!G428 -> 0
A78: ｏ. | B78: 塗装 | D78: 1 | E78: 式 | F78: =G250 -> 0
A80: ｐ. | B80: 内外装 | D80: 1 | E80: 式 | F80: =G269 -> 0
A82: ｑ. | B82: ユニット及びその他 | D82: 1 | E82: 式 | F82: =G277 -> 0
B84: 計
A88: （中科目別内訳）
A89: 名 称 | C89: 規 格・寸 法 | D89: 数 量 | E89: 単位 | F89: 単 価 | G89: 金 額 | H89: 備 考
A91: Ⅰ | B91: 建築工事
A93: ａ. | B93: 直接仮設 | D93: 1 | E93: 式 | F93: =仮設!G41 -> 0
B95: 計
A99: ｂ. | B99: 土工 | D99: 1 | E99: 式 | F99: =土工!G41 -> 0
B101: 計
A105: ｃ. | B105: 地業 | D105: 1 | E105: 式 | F105: =地業!G41 -> 0
B107: 計
A111: ｄ. | B111: 鉄筋 | C111: (1) 躯体 | D111: 1 | E111: 式 | F111: =鉄筋・ｺﾝ・型枠・鉄骨!G41 -> 0
C113: (2) その他 | D113: 1 | E113: 式 | F113: =鉄筋・ｺﾝ・型枠・鉄骨!G84 -> 0
...

Sheet 仮設
A2: （細目別内訳）
A3: 名 称 | C3: 規 格・寸 法 | D3: 数 量 | E3: 単位 | F3: 単 価 | G3: 金 額 | H3: 備 考
A5: ａ. | B5: 直接仮設
B7: 遣り方 | D7: 1929 | E7: ㎡
B9: 墨出し | C9: 躯体・仕上 | D9: 1929 | E9: ㎡
B11: 養生 | C11: 躯体・仕上 | D11: 1929 | E11: ㎡
B13: 整理清掃後片付け | D13: 1929 | E13: ㎡
B17: 外部足場
C18: 最上部安全手すりを含む
B19: 枠組本足場手摺先行方式 | C19: 建地幅900mm 存置6ヶ月 | D19: 1470 | E19: ㎡
C20: 最上部安全手すりを含む
B21: 枠組本足場手摺先行方式 | C21: 建地幅600mm 存置6ヶ月 | D21: 615 | E21: ㎡
B23: 単管一足足場 | C23: 存置6ヶ月 | D23: 262 | E23: ㎡
B25: 安全手すり | C25: 単管本足場用 | D25: 32.2 | E25: ｍ
B29: 内部足場
B31: 脚立足場 | C31: 4ヶ月 | D31: 1091 | E31: ㎡
B33: 内部枠組仕上足場 | C33: 存置4ヶ月 | D33: 838 | E33: ㎡
B35: 災害防止
B37: 垂直養生 | C37: 防炎シートⅠ類 6ヶ月 | D37: 1470 | E37: ㎡
B39: 垂直養生 | C39: 防音シート張り 6ヶ月 | D39: 872 | E39: ㎡
B41: 計
A45: （共通仮設費）
A46: 名 称 | C46: 規 格・寸 法 | D46: 数 量 | E46: 単位 | F46: 単 価 | G46: 金 額 | H46: 備 考
B48: 共通仮設費積み上げ分
B50: 単管防炎シート張り | C50: H=2m | D50: =159 -> 159 | E50: ｍ
B52: 万能鋼板 | C52: H=2m | D52: =134 -> 134 | E52: ｍ
B54: ｸﾛｽｹﾞｰﾄ | C54: W=6.0×H=1.8 | D54: 1 | E54: カ所
B56: 交通誘導員 | D56: 120 | E56: 日
B84: 計

Sheet 土工
A2: （細目別内訳）
A3: 名 称 | C3: 規 格・寸 法 | D3: 数 量 | E3: 単位 | F3: 単 価 | G3: 金 額 | H3: 備 考
A5: ｂ. | B5: 土工
B9: 根切り | D9: 2278 | E9: m3
B11: 埋戻し | D11: 771 | E11: m3
B13: 建設発生土 積込・運搬 | C13: 4t積級 35km以内 | D13: =D9-D11 -> 1507 | E13: m3
B15: 建設発生土 処分費 | D15: =D13 -> 1507 | E15: m3
B17: 土工機運搬 | D17: 1 | E17: 式
B19: 土留め工事 | D19: 1 | E19: 式 | H19: 別紙明細Ⅰ-1
G29: =IF(OR(D29="",F29=""),"",TRUNC(D29*F29,0))
B41: 計

Sheet 地業
A2: （細目別内訳）
A3: 名 称 | C3: 規 格・寸 法 | D3: 数 量 | E3: 単位 | F3: 単 価 | G3: 金 額 | H3: 備 考
A5: ｃ. | B5: 地業
B7: 地盤改良 | G7: =IF(OR(D7="",F7=""),"",TRUNC(D7*F7,0))
B9: 地盤改良工 | D9: 1 | E9: 式 | H9: 別紙明細Ⅰ-8
B13: 一般地業
C14: 土間下
B15: 砕石地業 | C15: 再生クラッシャラン | D15: 227 | E15: m3
B17: 土間下防湿シート | C17: ﾎﾟﾘｴﾁﾚﾝﾌｨﾙﾑ t=0.15 | D17: 1611 | E17: ㎡
B41: 計

Sheet 鉄筋・ｺﾝ・型枠・鉄骨
A2: （細目別内訳）
A3: 名 称 | C3: 規 格・寸 法 | D3: 数 量 | E3: 単位 | F3: 単 価 | G3: 金 額 | H3: 備 考
A5: ｄ. | B5: 鉄筋
A7: (1) | B7: 躯体 | G7: 0
B9: 異形鉄筋 | C9: SD295A D10 | D9: 9.1 | E9: t
B11: 異形鉄筋 | C11: SD295A D13 | D11: 39.5 | E11: t
B13: 異形鉄筋 | C13: SD295A D16 | D13: 5.2 | E13: t
B15: 異形鉄筋 | C15: SD345 D19 | D15: 12.4 | E15: t
B17: スクラップ控除 | C17: H2 | D17: 1.8 | E17: t
B19: 鉄筋加工組立・運搬 | D19: 63.7 | E19: t
B41: 計
A45: （細目別内訳）
A46: 名 称 | C46: 規 格・寸 法 | D46: 数 量 | E46: 単位 | F46: 単 価 | G46: 金 額 | H46: 備 考
A50: (2) | B50: その他
B52: 異形鉄筋 | C52: SD295A D10 | D52: 0.7 | E52: t
B54: 異形鉄筋 | C54: SD295A D13 | D54: 0.2 | E54: t
B56: 鉄筋加工組立・運搬 | D56: 0.9 | E56: t
G60: 0
G62: =IF(OR(D62="",F62=""),"",TRUNC(D62*F62,0))
G66: 0
G68: =IF(OR(D68="",F68=""),"",TRUNC(D68*F68,0))
G70: =IF(OR(D70="",F70=""),"",TRUNC(D70*F70,0))
B84: 計
A88: （細目別内訳）
A89: 名 称 | C89: 規 格・寸 法 | D89: 数 量 | E89: 単位 | F89: 単 価 | G89: 金 額 | H89: 備 考
A91: ｅ. | B91: コンクリート
A93: (1) | B93: 躯体 | G93: 0
B97: 普通コンクリート 基礎部 | C97: Fc=24＋3-15-20N | D97: 590 | E97: m3
B99: 普通コンクリート 土間 | C99: Fc=18＋3-15-20N | D99: 226 | E99: m3
B101: コンクリート打設手間 | C101: 基礎ｺﾝｸﾘｰﾄ | D101: 590 | E101: m3
B103: コンクリート打設手間 | C103: 土間ｺﾝｸﾘｰﾄ | D103: 226 | E103: m3
B105: ポンプ圧送 | C105: 基本料金 | D105: =ROUND((D97+D99)/150,0) -> 5 | E105: 回
B107: ポンプ圧送 | C107: 圧送料金 | D107: =(D97+D99) -> 816 | E107: m3
G111: =IF(OR(D111="",F111=""),"",TRUNC(D111*F111,0))
B127: 計
A131: （細目別内訳）
A132: 名 称 | C132: 規 格・寸 法 | D132: 数 量 | E132: 単位 | F132: 単 価 | G132: 金 額 | H132: 備 考
A136: (2) | B136: その他 | G136: 0
B138: 捨てコンクリート | C138: Fc=18＋3-15-20N | D138: 1.1 | E138: m3
B140: 普通コンクリート 雑 | C140: Fc=18＋3-15-20N | D140: 18.6 | E140: m3
...

Sheet 防水
A2: （細目別内訳）
A3: 名 称 | C3: 規 格・寸 法 | D3: 数 量 | E3: 単位 | F3: 単 価 | G3: 金 額 | H3: 備 考
A5: ｈ. | B5: 防水
A7: (1) | B7: 外部 | G7: 0
B8: 地下外壁
B9: ﾎﾟﾘﾏｰｾﾒﾝﾄ系塗膜防水 | C9: 耐水圧用･一般保護仕上 | D9: 85.1 | E9: ㎡
B10: 打継目地
B11: ｼｰﾘﾝｸﾞ | C11: ﾎﾟﾘｳﾚﾀﾝ系(PU-2) 20×10 | D11: 17.7 | E11: ｍ
B12: ｻｲﾃﾞｨﾝｸﾞ出隅用見切り材取合
B13: ｼｰﾘﾝｸﾞ | C13: 変成ｼﾘｺｰﾝ系(MS-2) 10×10 | D13: 29.9 | E13: ｍ
B14: 建具廻り
B15: ｼｰﾘﾝｸﾞ | C15: 変成ｼﾘｺｰﾝ系(MS-2) 10×10 | D15: 503 | E15: ｍ
B17: 計
A21: (2) | B21: 内部
B22: ﾗｲﾆﾝｸﾞ面台取合
B23: ｼｰﾘﾝｸﾞ | C23: ｼﾘｺｰﾝ系(SR-1) 10×10 | D23: 44.8 | E23: ｍ
B24: 汚垂石取合
B25: ｼｰﾘﾝｸﾞ | C25: ｼﾘｺｰﾝ系(SR-1) 10×10 | D25: 2.3 | E25: ｍ
B26: 洗面ｶｳﾝﾀｰ取合
B27: ｼｰﾘﾝｸﾞ | C27: ｼﾘｺｰﾝ系(SR-1) 10×10 | D27: 4.5 | E27: ｍ
B29: 計

Sheet タイル
A2: （細目別内訳）
A3: 名 称 | C3: 規 格・寸 法 | D3: 数 量 | E3: 単位 | F3: 単 価 | G3: 金 額 | H3: 備 考
A5: ｉ. | B5: タイル
A7: (1) | B7: 外部
B8: 玄関ﾎﾟｰﾁ
B9: 床ﾀｲﾙ張り | C9: 磁器質 300角 t3.0 ﾉﾝｽﾘｯﾌﾟ系 | D9: 4.8 | E9: ㎡
B11: 計
A15: (2) | B15: 内部
B17: 床 ﾀｲﾙ張り | C17: 磁器質 300角 Ⅰ類 滑り抵抗性 | D17: 15.9 | E17: ㎡
B19: 幅木 ﾀｲﾙ張り | C19: 磁器質 300角 Ⅰ類 滑り抵抗性 | D19: 12.1 | E19: ｍ
B21: 計

Sheet 木
A2: （細目別内訳）
A3: 名 称 | C3: 規 格・寸 法 | D3: 数 量 | E3: 単位 | F3: 単 価 | G3: 金 額 | H3: 備 考
A5: ｊ. | B5: 木
A7: (1) | B7: 躯体 | G7: 0
B9: 【遊戯室】
B11: 製材
B12: 土台 桧 120×120
B13: KDM 甲種2級 | C13: 4000×120×120 | D13: 23 | E13: 本
B14: 土台 桧 120×120
B15: KDM 甲種2級 | C15: 3000×120×120 | D15: 5 | E15: 本
B16: 土台 桧 120×120
B17: KDM 甲種2級 | C17: 2000×120×120 | D17: 1 | E17: 本
B18: 大引 杉 105×105
B19: KDM 無等級 | C19: 4000×105×105 | D19: 117 | E19: 本
B20: 大引 杉 105×105
B21: KDM 無等級 | C21: 3000×105×105 | D21: 29 | E21: 本
B22: 土台桁・梁 120×180
B23: KDM 甲種2級 | C23: 4000×120×180 | D23: 6 | E23: 本
B24: 土台桁・梁 120×150
B25: KDM 甲種2級 | C25: 4000×120×150 | D25: 3 | E25: 本
B26: 1F桁・梁 杉 120×300
B27: KDM 甲種2級 | C27: 5000×120×300 | D27: 4 | E27: 本
B28: 1F桁・梁 杉 120×300
B29: KDM 甲種2級 | C29: 4000×120×300 | D29: 4 | E29: 本
B30: 1F桁・梁 杉 120×240
B31: KDM 甲種2級 | C31: 5000×120×240 | D31: 4 | E31: 本
B32: 1F桁・梁 杉 120×240
B33: KDM 甲種2級 | C33: 4000×120×240 | D33: 2 | E33: 本
B34: 1F桁・梁 杉 120×210
B35: KDM 甲種2級 | C35: 5000×120×210 | D35: 2 | E35: 本
B36: 1F桁・梁 杉 120×210
B37: KDM 甲種2級 | C37: 4000×120×210 | D37: 4 | E37: 本
A45: （細目別内訳）
A46: 名 称 | C46: 規 格・寸 法 | D46: 数 量 | E46: 単位 | F46: 単 価 | G46: 金 額 | H46: 備 考
B50: 躯体（続き）
B51: 1F桁・梁 杉 120×210
B52: KDM 甲種2級 | C52: 3000×120×210 | D52: 4 | E52: 本
B53: 1F桁・梁 杉 120×180
B54: KDM 甲種2級 | C54: 4000×120×180 | D54: 11 | E54: 本
B55: 1F桁・梁 杉 120×150
...

Sheet 屋根
A2: （細目別内訳）
A3: 名 称 | C3: 規 格・寸 法 | D3: 数 量 | E3: 単位 | F3: 単 価 | G3: 金 額 | H3: 備 考
A5: ｋ. | B5: 屋根及びとい
A7: (1) | B7: 屋根 | G7: 0
B9: 屋根4.0寸
C10: 製品名:TRX-4型相当
B11: 嵌合吊子式立平葺き 働き幅455 | C11: GLｶﾗｰ鋼板 t=0.5 裏貼りt=2.0 | D11: 923 | E11: ㎡
B13: 部分吊子 | C13: ｱﾙﾐ押型材 | D13: 923 | E13: ㎡
B15: 改質ｱｽﾌｧﾙﾄﾙｰﾌｨﾝｸﾞ | C15: ﾀｯｸ付き t=1.0 | D15: 923 | E15: ㎡
B17: 換気棟包み | C17: GLｶﾗｰ鋼板 棟金具,棟下地共 | D17: 75.7 | E17: ｍ
B19: 下り棟 | C19: GLｶﾗｰ鋼板 棟下地共 | D19: 15.1 | E19: ｍ
B21: 谷納 | C21: GLｶﾗｰ鋼板 t=0.5 | D21: 12.7 | E21: ｍ
B23: 軒先水切 | C23: GLｶﾗｰ鋼板 t=0.5 | D23: 121 | E23: ｍ
B25: 軒先唐草 | C25: GLｶﾗｰ鋼板 t=0.5 | D25: 121 | E25: ｍ
B27: 軒先幕板 | C27: GLｶﾗｰ鋼板 t=0.5 見切り共 | D27: 121 | E27: ｍ
B29: ｹﾗﾊﾞ水切 | C29: GLｶﾗｰ鋼板 t=0.5 | D29: 24.6 | E29: ｍ
B31: ｹﾗﾊﾞ幕板 | C31: GLｶﾗｰ鋼板 t=0.5 見切り共 | D31: 24.6 | E31: ｍ
B33: 壁立上り | C33: GLｶﾗｰ鋼板 t=0.5 | D33: 25.3 | E33: ｍ
... B37: 軒樋 | C37: GLｶﾗｰ鋼板 W165 | D37: 137 | E37: ｍ
A45: （細目別内訳）
A46: 名 称 | C46: 規 格・寸 法 | D46: 数 量 | E46: 単位 | F46: 単 価 | G46: 金 額 | H46: 備 考
B50: 屋根（続き）
B52: 落とし口 | C52: 100φ | D52: 4 | E52: カ所
B54: ｴﾙﾎﾞ | C54: 100φ | D54: 8 | E54: カ所
B56: 竪樋 | C56: 塩ビ製 100φ 掴み金物共 | D56: 24.4 | E56: ｍ
B58: 鎖樋 | C58: ｽﾃﾝﾚｽ製 | D58: 36 | E58: ｍ
B60: 鎖樋落とし口 | C60: ｽﾃﾝﾚｽ製 | D60: 12 | E60: カ所
B64: 屋根1.9寸
C65: 製品名:TRX-4型相当
B66: 嵌合吊子式立平葺き 働き幅455 | C66: GLｶﾗｰ鋼板 t=0.5 裏貼りt=2.0 | D66: 699 | E66: ㎡
B68: 部分吊子 | C68: ｱﾙﾐ押型材 | D68: 699 | E68: ㎡
B70: 改質ｱｽﾌｧﾙﾄﾙｰﾌｨﾝｸﾞ | C70: ﾀｯｸ付き t=1.0 | D70: 699 | E70: ㎡
B72: 換気棟包み | C72: GLｶﾗｰ鋼板 棟金具,棟下地共 | D72: 15.2 | E72: ｍ
B74: 軒先水切 | C74: GLｶﾗｰ鋼板 t=0.5 | D74: 57.2 | E74: ｍ
B76: 軒先唐草 | C76: GLｶﾗｰ鋼板 t=0.5 | D76: 57.2 | E76: ｍ
B78: 軒先幕板 | C78: GLｶﾗｰ鋼板 t=0.5 見切り共 | D78: 57.2 | E78: ｍ
B80: ｹﾗﾊﾞ水切 | C80: GLｶﾗｰ鋼板 t=0.5 | D80: 22.5 | E80: ｍ
A88: （細目別内訳）
A89: 名 称 | C89: 規 格・寸 法 | D89: 数 量 | E89: 単位 | F89: 単 価 | G89: 金 額 | H89: 備 考
B93: 屋根（続き） | G93: 0
...

Sheet 金属
A2: （細目別内訳）
A3: 名 称 | C3: 規 格・寸 法 | D3: 数 量 | E3: 単位 | F3: 単 価 | G3: 金 額 | H3: 備 考
A5: ｌ. | B5: 金属
A7: (1) | B7: 外部 | G7: 0
C8: 屋根-外壁 ｱﾙﾐ製 ｸﾘｱﾗﾝｽ150
B9: EXP.Jｶﾊﾞｰ | C9: EVｼｰﾄ､断熱帯t10､耐火帯t12.5共 | D9: 10.6 | E9: ｍ
B11: 同上 90度ｺｰﾅｰ | C11: ｱﾙﾐ ｼﾙﾊﾞｰ | D11: 1 | E11: カ所
B13: 同上可動小口ﾌﾀ | C13: ｱﾙﾐ ｼﾙﾊﾞｰ | D13: 2 | E13: カ所
C14: 外壁ｺｰﾅｰ 熱可塑性ｴﾗｽﾄﾏｰ製
B15: EXP.Jｶﾊﾞｰ | C15: ｸﾘｱﾗﾝｽ150 | D15: 9 | E15: ｍ
B17: 同上溶着ｺｰﾅｰ | C17: ｱﾙﾐ ｼﾙﾊﾞｰ | D17: 2 | E17: カ所
B19: 下部ﾛｾﾞｯﾀｸｯｼｮﾝ | C19: ｱﾙﾐ ｼﾙﾊﾞｰ | D19: 2 | E19: カ所
B21: ｽﾛｰﾌﾟ手摺 | C21: φ34 L8000 H900(2段) | D21: 1 | E21: カ所
B23: 土台水切 | C23: ｶﾗｰｶﾞﾙﾊﾞﾘｳﾑ鋼板 t0.35 | D23: 123 | E23: ｍ
B24: 無塗装ｻｲﾃﾞｨﾝｸﾞ+窯業ｻｲﾃﾞｨﾝｸﾞ
B25: 出隅用見切り材 | C25: ｱﾙﾐ製 t3.0 | D25: 15 | E25: ｍ
B26: 外壁-軒天
B27: 通気見切 | C27: ｶﾗｰｶﾞﾙﾊﾞﾘｳﾑ鋼板 t0.35 | D27: 300 | E27: ｍ
B29: 壁固定物干し | C29: ｱﾙﾐ製 D500 2箇所/組 | D29: 2 | E29: 組
B30: 手洗い足洗い場
B31: 排水目皿 | C31: ｽﾃﾝﾚｽ製 φ50 | D31: 6 | E31: カ所
B33: 衝突防止表示 | C33: SUS製 φ30 (両面) | D33: 12 | E33: カ所
B41: 計
A45: （細目別内訳）
A46: 名 称 | C46: 規 格・寸 法 | D46: 数 量 | E46: 単位 | F46: 単 価 | G46: 金 額 | H46: 備 考
A50: (2) | B50: 内部
C51: 熱可塑性ｴﾗｽﾄﾏｰ製 床-床
B52: EXP.Jｶﾊﾞｰ | C52: ｸﾘｱﾗﾝｽ幅150 | D52: 3 | E52: ｍ
C53: 熱可塑性ｴﾗｽﾄﾏｰ製 天井-天井
B54: EXP.Jｶﾊﾞｰ | C54: ｸﾘｱﾗﾝｽ幅150 | D54: 3.1 | E54: ｍ
C55: 熱可塑性ｴﾗｽﾄﾏｰ製 内壁-内壁
B56: EXP.Jｶﾊﾞｰ | C56: ｸﾘｱﾗﾝｽ幅150 | D56: 4.8 | E56: ｍ
B58: 同上溶着ｺｰﾅｰ | D58: 2 | E58: カ所
B59: 調理室 | C59: HACCAPﾋﾟｯﾄ 溝350角 H350
B60: 集水桝 | D60: 5 | E60: カ所
B62: 床点検口 | C62: ｱﾙﾐ製 600角 | D62: 8 | E62: か所
B64: 床見切り | C64: ｽﾃﾝﾚｽ製 W40×t2.0 | D64: 71.6 | E64: ｍ
B66: 上り框 | C66: ｽﾃﾝﾚｽ製 W50×t40 | D66: 3.5 | E66: ｍ
B68: 上り框 | C68: ｽﾃﾝﾚｽ製 W100×t40 | D68: 8 | E68: ｍ
B70: 段鼻ﾉﾝｽﾘｯﾌﾟ | C70: ｽﾃﾝﾚｽ製 W35 ﾋﾞﾆﾙﾀｲﾔ入 | D70: 4.8 | E70: ｍ
...

Sheet 左官
A2: （細目別内訳）
A3: 名 称 | C3: 規 格・寸 法 | D3: 数 量 | E3: 単位 | F3: 単 価 | G3: 金 額 | H3: 備 考
A5: ｍ. | B5: 左官
A7: (1) | B7: 外部
B8: ﾃﾗｽ
B9: 床ｺﾝｸﾘｰﾄ鏝押え | C9: 金ごて ﾋﾞﾆﾙ床ｼｰﾄ下地 | D9: 95.4 | E9: ㎡
B10: ﾃﾗｽ段部
B11: 床ｺﾝｸﾘｰﾄ鏝押え | C11: 金ごて ﾋﾞﾆﾙ床ｼｰﾄ下地 | D11: 17.7 | E11: ㎡
B12: 玄関ﾎﾟｰﾁ
B13: 床ﾓﾙﾀﾙ塗り | C13: 木ごて ﾀｲﾙ下地 | D13: 4.8 | E13: ㎡
B14: 外壁
B15: ｱｸﾘﾙ樹脂系多意匠装飾仕上塗材 | C15: ｻｲﾃﾞｨﾝｸﾞ面 | D15: 134 | E15: ㎡
B17: 同上目地処理 | D17: 134 | E17: ㎡
B18: 靴箱用腰壁天端
B19: 床ｺﾝｸﾘｰﾄ鏝押え | C19: 金ごて 吹付下地 | D19: 6.4 | E19: ㎡
B20: 手洗い足洗い場笠木天端
B21: ｺﾝｸﾘｰﾄ鏝押え | C21: 金ごて W=120 | D21: 6 | E21: ｍ
B22: 手洗い足洗い場笠木天端
B23: ｺﾝｸﾘｰﾄ鏝押え | C23: 金ごて W=200 | D23: 4.2 | E23: ｍ
B24: 手洗い足洗い場底
B25: 床ﾓﾙﾀﾙ塗り | C25: 金ごて 仕上 | D25: 3.4 | E25: ㎡
B26: 手洗い足洗い場立上り
B27: ﾓﾙﾀﾙ塗り | C27: 金ごて 仕上 | D27: 1.8 | E27: ㎡
B28: 手洗い足洗い場笠木天端
B29: ﾓﾙﾀﾙ塗り | C29: 金ごて W=120 | D29: 8.3 | E29: ｍ
B30: 手洗い足洗い場壁 | C30: ｺﾝｸﾘｰﾄ面 ゆず肌状 ﾛｰﾗｰ塗り
B31: 複層塗材E | C31: 下地調整C-1種共 | D31: 11.1 | E31: ㎡
B32: 手洗い足洗い場笠木天端 | C32: ｺﾝｸﾘｰﾄ面 ゆず肌状 ﾛｰﾗｰ塗り
B33: 複層塗材E | C33: 下地調整C-1種共 | D33: 1.6 | E33: ㎡
B34: 靴箱用腰壁天端 | C34: ｺﾝｸﾘｰﾄ面 ゆず肌状 ﾛｰﾗｰ塗り
B35: 複層塗材E | C35: 下地調整C-1種共 | D35: 6.4 | E35: ㎡
B36: 靴箱用腰壁 | C36: ｺﾝｸﾘｰﾄ面 ゆず肌状 ﾛｰﾗｰ塗り
B37: 複層塗材E | C37: 下地調整C-1種共 | D37: 20.7 | E37: ㎡
B41: 計
A45: （細目別内訳）
A46: 名 称 | C46: 規 格・寸 法 | D46: 数 量 | E46: 単位 | F46: 単 価 | G46: 金 額 | H46: 備 考
A50: (2) | B50: 内部
B53: 土間天(地下ﾋﾟｯﾄ含)
B54: 床ｺﾝｸﾘｰﾄ鏝押え | C54: 金ごて 仕上 | D54: 1492 | E54: ㎡
B56: 床ｺﾝｸﾘｰﾄ鏝押え | C56: 金ごて ﾋﾞﾆﾙ床ｼｰﾄ下地 | D56: 101 | E56: ㎡
...

Sheet 建具
A2: （細目別内訳）
A3: 名 称 | C3: 規 格・寸 法 | D3: 数 量 | E3: 単位 | F3: 単 価 | G3: 金 額 | H3: 備 考
A5: ｎ. | B5: 建具
A7: (1) | B7: アルミニウム建具
C8: 引違い窓（2枚建）
B9: AW-1 | C9: 2000×1000 | D9: 1 | E9: カ所
C10: 引違い窓（2枚建）
B11: AW-2 | C11: 2000×1660 | D11: 2 | E11: カ所
C12: 2連排煙突出し窓
B13: AW-3 | C13: 1600×750 | D13: 3 | E13: カ所
C14: 引違い窓（2枚建）
B15: AW-4 | C15: 1500×1360 | D15: 1 | E15: カ所
C16: 引違い窓（2枚建）防火設備
B17: AW-5Z | C17: 1500×1360 | D17: 2 | E17: カ所
C18: 引違い窓（2枚建）
B19: AW-6 | C19: 1600×1200 | D19: 2 | E19: カ所
C20: 排煙外倒し窓
B21: AW-7 | C21: 1500×560 | D21: 5 | E21: カ所
C22: FIX窓
B23: AW-8 | C23: 1500×600 | D23: 4 | E23: カ所
C24: FIX窓
B25: AW-9 | C25: 2000×1000 | D25: 1 | E25: カ所
C26: 排煙外倒し窓
B27: AW-10 | C27: 1200×1100 | D27: 2 | E27: カ所
C28: FIX窓
B29: AW-11 | C29: 1200×1100 | D29: 7 | E29: カ所
C30: 3連3段FIX窓（上部変形）
B31: AW-12 | C31: 2800×4550 | D31: 1 | E31: カ所
C32: 引違い窓（2枚建）
B33: AW-14 | C33: 1500×1360 | D33: 1 | E33: カ所
C34: 排煙外倒し窓
B35: AW-15 | C35: 1100×750 | D35: 1 | E35: カ所
C36: 排煙外倒し窓
B37: AW-16 | C37: 1600×750 | D37: 1 | E37: カ所
A45: （細目別内訳）
A46: 名 称 | C46: 規 格・寸 法 | D46: 数 量 | E46: 単位 | F46: 単 価 | G46: 金 額 | H46: 備 考
B50: アルミニウム建具（続き）
C51: 排煙外倒し窓
B52: AW-17 | C52: 900×560 | D52: 1 | E52: カ所
C53: アルミ四方枠
...

Sheet 塗装
A2: （細目別内訳）
A3: 名 称 | C3: 規 格・寸 法 | D3: 数 量 | E3: 単位 | F3: 単 価 | G3: 金 額 | H3: 備 考
A5: ｏ. | B5: 塗装
A7: (1) | B7: 外部
B9: 素地ごしらえ | C9: ｹｲｶﾙ板面 B種 | D9: 104 | E9: ㎡
B11: 素地ごしらえ | C11: 鉄鋼面 C種 | D11: 33.3 | E11: ㎡
B13: 素地ごしらえ | C13: 木部 B種 | D13: 1343 | E13: ㎡
B14: 軒天
B15: EP-Si塗 | C15: ｹｲｶﾙ板面 B種 | D15: 104 | E15: ㎡
B16: 鉄骨
B17: DP塗 | C17: 鉄鋼面 上塗り1級 2回 | D17: 33.3 | E17: ㎡
B18: 軒天
B19: WP塗 | C19: 木部 B種 | D19: 520 | E19: ㎡
B20: 面戸板
B21: WP塗 | C21: 木部 B種 | D21: 32.2 | E21: ㎡
B22: 見切り材
B23: WP塗 | C23: 木部 B種 | D23: 6 | E23: ㎡
B24: 化粧垂木･梁
B25: WP塗 | C25: 木部 B種 | D25: 785 | E25: ㎡
B41: 計
A45: （細目別内訳）
A46: 名 称 | C46: 規 格・寸 法 | D46: 数 量 | E46: 単位 | F46: 単 価 | G46: 金 額 | H46: 備 考
A48: ｏ. | B48: 塗装
A50: (2) | B50: 内部
B52: 素地ごしらえ | C52: 鉄鋼建具面 C種 | D52: =D60 -> 19.2 | E52: ㎡
B54: 素地ごしらえ | C54: ﾎﾞｰﾄﾞ面 B種 | D54: =D62 -> 22.5 | E54: ㎡
B56: 素地ごしらえ | C56: ｹｲｶﾙ板面 B種 | D56: =D64+D66 -> 87.9 | E56: ㎡
B58: 素地ごしらえ | C58: 木部 B種 | D58: =SUM(D67:D74) -> 76.1 | E58: ㎡
B59: 建具
B60: DP塗 | C60: 鋼製建具面 | D60: 19.2 | E60: ㎡
B61: 天井
B62: EP-Si塗 | C62: ﾎﾞｰﾄﾞ面 工程B種 | D62: 22.5 | E62: ㎡
B63: 天井 | C63: けい酸ｶﾙｼｳﾑ面
B64: EP-Si塗 | C64: 工程B種 | D64: 86.7 | E64: ㎡
B65: 下り壁 | C65: けい酸ｶﾙｼｳﾑ面
B66: EP-Si塗 | C66: 工程B種 | D66: 1.2 | E66: ㎡
B67: K-27 ｶｳﾝﾀｰ
B68: UC塗 | C68: 木部 B種 | D68: 4.7 | E68: ㎡
B70: WP塗 | C70: 木部 B種 | D70: 19 | E70: ㎡
B71: 化粧柱
...

Sheet 内外装
A2: （細目別内訳）
A3: 名 称 | C3: 規 格・寸 法 | D3: 数 量 | E3: 単位 | F3: 単 価 | G3: 金 額 | H3: 備 考
A5: ｐ. | B5: 内外装
A7: (1) | B7: 外部 | G7: 0
B9: 屋根 押出法ﾎﾟﾘｽﾁﾚﾝﾌｫｰﾑ保温板 | C9: t80(40+40) 3種bA | D9: 1966 | E9: ㎡
C10: 通気金具止め共
B11: 外壁 窯業系ｻｲﾃﾞｨﾝｸﾞ | C11: t18 縦張り 木目調塗装品 | D11: 444 | E11: ㎡
B12: 同上
B13: 出隅役物 | D13: 26 | E13: ｍ
B14: 同上
B15: 入隅役物 | D15: 10.3 | E15: ｍ
B17: 外壁 透湿防水ｼｰﾄ | C17: 窯業系ｻｲﾃﾞｨﾝｸﾞ下 | D17: 444 | E17: ㎡
B19: 無地ｻｲﾃﾞｨﾝｸﾞ | D19: 134 | E19: ㎡
B21: 外壁 透湿防水ｼｰﾄ | C21: 無地ｻｲﾃﾞｨﾝｸﾞ下 | D21: 134 | E21: ㎡
B23: 耐火壁 強化石膏ﾎﾞｰﾄﾞ | C23: t21+21(Z-WR) 下地張り | D23: 14.5 | E23: ㎡
B25: 準耐火壁 石膏ﾎﾞｰﾄﾞ | C25: t12.5+9.5(Z-WR) 下地張り | D25: 89 | E25: ㎡
B26: 軒天 ﾊﾟﾙﾌﾟ系繊維混入
B27: けい酸ｶﾙｼｳﾑ化合物板 | C27: t30 | D27: 94 | E27: ㎡
B29: 軒天 けい酸ｶﾙｼｳﾑ板 | C29: t8 目透し | D29: 10.1 | E29: ㎡
B30: こども園テラス
B31: 床防滑性ビニル床シート | C31: t=5.0 発砲塩ビ層裏打 | D31: 95.4 | E31: ㎡
B32: こども園テラス
B33: 床防滑性ビニル床シート | C33: t=5.0 発砲塩ビ層裏打 | D33: 17.7 | E33: ㎡
B34: こども園テラス
B35: 同上段鼻ステップ | D35: 78.7 | E35: ｍ
B36: こども園テラス
B37: 同上 シーリング | D37: 220 | E37: ｍ
B41: 計
A45: （細目別内訳）
A46: 名 称 | C46: 規 格・寸 法 | D46: 数 量 | E46: 単位 | F46: 単 価 | G46: 金 額 | H46: 備 考
A50: (2) | B50: 内部
B52: 防塵塗装 | C52: 表面強化剤 | D52: 17.8 | E52: ㎡
B54: 床塗料塗り | C54: 水性型無機系 | D54: 141 | E54: ㎡
B56: ﾋﾞﾆﾙ床ｼｰﾄ | C56: t2.0 FS 無地 一般部 | D56: 137 | E56: ㎡
B58: ﾋﾞﾆﾙ床ｼｰﾄ | C58: t2.0 FS 無地 一般部 抗菌 | D58: 11.6 | E58: ㎡
B60: ﾋﾞﾆﾙ床ｼｰﾄ | C60: t2.0 FS 無地 多湿部 抗菌 | D60: 128 | E60: ㎡
B62: 防滑性ﾋﾞﾆﾙ床ｼｰﾄ | C62: t2.5 FS 無地 一般部 | D62: 6.8 | E62: ㎡
B63: ｽﾛｰﾌﾟ
B64: 防滑性ﾋﾞﾆﾙ床ｼｰﾄ | C64: t2.5 FS 無地 一般部 | D64: 10.6 | E64: ㎡
B66: 厨房用防滑性ﾋﾞﾆﾙ床ｼｰﾄ | C66: t2.5 FS 無地 多湿部 | D66: 87.3 | E66: ㎡
...

Sheet ユニット他
A2: （細目別内訳）
A3: 名 称 | C3: 規 格・寸 法 | D3: 数 量 | E3: 単位 | F3: 単 価 | G3: 金 額 | H3: 備 考
A5: ｑ. | B5: ユニット及びその他
A7: (1) | B7: 外部 | G7: 0
G9: =IF(OR(D9="",F9=""),"",TRUNC(D9*F9,0))
B11: 人工木材ﾃﾞｯｷ材張り | C11: 材工共 | D11: 19.7 | E11: ㎡
C12: ｱｰｽﾃﾞｯｷｿﾘｯﾄﾞｸﾞﾚｲﾝ 板材25×145
C13: 樹脂束,鋼製根太,幕板１段共
C14: D1050×W18,678 H245
B17: 未満時テラス用フェンス | C17: 人工木 扉(両開き)H=650 | D17: 11.8 | E17: ｍ
B21: 計
A25: (2) | B25: 内部
B26: 調乳室
B27: 流し台 | C27: W1600×D550×H900 | D27: 1 | E27: か所
B28: 事務室2
B29: ﾐﾆｷｯﾁﾝ | C29: ｽﾃﾝﾚｽ製 W1050×D500×H850 | D29: 1 | E29: か所
B30: 0・1歳ｽﾍﾟｰｽ
B31: 流し台 | C31: W1200×D650ｺﾝﾛなし | D31: 1 | E31: カ所
B33: ﾕﾆｯﾄｼｬﾜｰ | C33: US0808 | D33: 2 | E33: カ所
B35: ｼｽﾃﾑｷｯﾁﾝ 貸ｽﾍﾟｰｽ | C35: 壁付Ⅰ型ｺﾝﾛなし ﾚﾝｼﾞﾌｰﾄﾞ上棚付 W2100 D650 | D35: 1 | E35: カ所
B36: 多目的ﾄｲﾚ2前通路
B37: 洗面ｶｳﾝﾀｰ | C37: W3850×D600 | D37: 1 | E37: か所
A45: （細目別内訳）
A46: 名 称 | C46: 規 格・寸 法 | D46: 数 量 | E46: 単位 | F46: 単 価 | G46: 金 額 | H46: 備 考
B50: 内部（続き）
B51: 2～5歳児室
B52: ﾎﾜｲﾄﾎﾞｰﾄﾞ | C52: W3600×H1200 | D52: 4 | E52: か所
C53: 壁埋込型
B54: 消火器ﾎﾞｯｸｽ | C54: ｽﾁｰﾙ製 W300×H900程度 焼付塗装 | D54: 5 | E54: か所
B55: 2～5歳児室 | C55: ｽﾗｲﾄﾞﾀﾗｯﾌﾟ
B56: 天井収納はしご | C56: ｽﾃﾝﾚｽ製 641×1252 | D56: 4 | E56: か所
B58: ｷｯｽﾞ洗面 0歳児室 | C58: W800×D450×H400 | D58: 1 | E58: カ所
B60: ｷｯｽﾞ洗面 1歳児室 | C60: W1185×D450×H400 | D60: 1 | E60: カ所
B62: ｷｯｽﾞ洗面 一時預かり室 | C62: W1185×D450×H400 | D62: 1 | E62: カ所
B64: ｷｯｽﾞ洗面 2歳児室 | C64: W1570×D450×H400 | D64: 1 | E64: カ所
B66: ｷｯｽﾞ洗面 3歳児室 | C66: W1570×D450×H450 | D66: 1 | E66: カ所
B68: ｷｯｽﾞ洗面 4歳児室 | C68: W1570×D450×H500 | D68: 1 | E68: カ所
B70: ｷｯｽﾞ洗面 5歳児室 | C70: W1570×D450×H550 | D70: 1 | E70: カ所
B72: ｽﾃｰｼﾞﾊﾞﾄﾝ | C72: L6000 手動巻取り器式 | D72: 2 | E72: 基
B74: 一文字幕 3寸ﾌﾚﾝｼﾞ付 | C74: W10500*H450 | D74: 1 | E74: 枚
...

Sheet 屋外
A2: （科目別内訳）
A3: 名 称 | C3: 規 格・寸 法 | D3: 数 量 | E3: 単位 | F3: 単 価 | G3: 金 額 | H3: 備 考
A7: Ⅱ | B7: 屋外附帯工事 | G7: 0
A9: 1. | B9: 外構撤去 | D9: 1 | E9: 式 | F9: =G84 -> 0
A11: 2. | B11: 造成 | D11: 1 | E11: 式
A13: 3. | B13: 屋外施設 | D13: 1 | E13: 式 | F13: =G342 -> 0
A15: 4. | B15: 囲障 | D15: 1 | E15: 式
A17: 5. | B17: 構内舗装 | D17: 1 | E17: 式
A19: 6. | B19: 屋外排水 | D19: 1 | E19: 式
A21: 7. | B21: 植栽 | D21: 1 | E21: 式
B41: 計
A45: （細目別内訳）
A46: 名 称 | C46: 規 格・寸 法 | D46: 数 量 | E46: 単位 | F46: 単 価 | G46: 金 額 | H46: 備 考
A50: 1. | B50: 外構撤去 | G50: 0
A52: ａ. | B52: 工作物撤去 | D52: 1 | E52: 式 | F52: =G127 -> 0
A54: ｂ. | B54: 樹木撤去 | D54: 1 | E54: 式 | F54: =G213 -> 0
A56: ｃ. | B56: 発生材処理 | D56: 1 | E56: 式 | F56: =G256 -> 0
B84: 計
A88: （細目別内訳）
A89: 名 称 | C89: 規 格・寸 法 | D89: 数 量 | E89: 単位 | F89: 単 価 | G89: 金 額 | H89: 備 考
A93: ａ. | B93: 工作物撤去
B95: ｱｽﾌｧﾙﾄ舗装撤去 | C95: 表層 t=50 | D95: =ROUNDUP(1848.9,0) -> 1849 | E95: ㎡ | I95: 見積27
B97: 落蓋式側溝撤去 | C97: 400×400 | D97: =ROUND(45.58,1) -> 45.6 | E97: ｍ | I97: 見積27
B99: 土留め擁壁撤去 | C99: W200×H1170 | D99: =ROUND(28.83,1) -> 28.8 | E99: ｍ | I99: 見積27
B101: 土留め擁壁撤去 | C101: W100×H1270 | D101: 25.5 | E101: ｍ | I101: 見積27
B103: 土留め擁壁撤去 | C103: W200×H530 | D103: 35.9 | E103: ｍ | I103: 見積27
B105: 土留め擁壁撤去 | C105: W200×H400 | D105: =ROUND(8.52,1) -> 8.5 | E105: ｍ | I105: 見積27
B107: 土留め擁壁撤去 | C107: W50×H440 | D107: =ROUND(9.84,1) -> 9.8 | E107: ｍ | I107: 見積27
B109: ｺﾝｸﾘｰﾄﾌﾞﾛｯｸ撤去 | C109: W100×H570 | D109: =ROUND(15.77,1) -> 15.8 | E109: ｍ | I109: 見積27
B111: 地先境界ﾌﾞﾛｯｸ撤去 | C111: W120 | D111: =ROUND(34.88+49.08,1) -> 84 | E111: ｍ | I111: 見積27
B113: 集水桝撤去 | C113: 450×450×800H | D113: 1 | E113: カ所 | I113: 見積27
B115: 埋設排水管撤去 | C115: VU φ300 | D115: =ROUND(19.08,1) -> 19.1 | E115: ｍ | I115: 見積27
B117: 小屋（木造）撤去 | C117: W2500xD1555xH1200 | D117: 1 | E117: カ所 | I117: 見積27
B119: 木製ﾍﾞﾝﾁ撤去 | C119: W1800xD350xH400 | D119: 2 | E119: カ所 | I119: 見積27
B127: 計
A131: （細目別内訳）
A132: 名 称 | C132: 規 格・寸 法 | D132: 数 量 | E132: 単位 | F132: 単 価 | G132: 金 額 | H132: 備 考
A136: ｂ. | B136: 樹木撤去
B138: 高木伐採・伐根 | C138: C=3.45 | D138: 1 | E138: 本 | I138: 見積27
B140: 高木伐採・伐根 | C140: C=2.2 | D140: 1 | E140: 本 | I140: 見積27
...

Sheet 別Ⅰ
A2: （別紙明細）
A3: 名 称 | C3: 規 格・寸 法 | D3: 数 量 | E3: 単位 | F3: 単 価 | G3: 金 額 | H3: 備 考
B5: 別紙明細Ⅰ-1
B7: 土留め工事
B9: （材料費） | C9: ｾﾞﾛｸﾘｱﾗﾝｽ工法（単独圧入・引抜）
B11: 賃貸料 | C11: SP-J型 L=10.5 ｍ×87.3ｋｇ/ｍ×48枚 | D11: 44 | E11: t/日
B13: 整備料･出庫料･入庫料 | D13: 44 | E13: t
B15: 残土処分費 | D15: 44 | E15: t
B17: 納入運賃 | C17: 大型12t積トラック 対象重量 43.999ｔ | D17: 4 | E17: 車
B19: 引取運賃 | C19: 大型12t積トラック 対象重量 43.999ｔ | D19: 4 | E19: 車
B21: 整備切断見込費 | C21: 賃貸数量×115％ 対象枚数 48枚 | D21: 55 | E21: 箇所
B23: 特別損耗見込費 | C23: 賃貸数量× 8％ 対象枚数 43.999ｔ | D23: 3.52 | E23: ｔ
B25: （工事費） | C25: 鋼矢板
B27: 油圧圧入引抜工 | C27: ゼロ矢板圧入 | D27: 48 | E27: 枚
C29: ゼロ矢板引抜 | D29: 48 | E29: 枚
C31: ゼロパイラー設置・撤去（単独圧入） | D31: 1 | E31: 回
C33: ゼロパイラー設置・撤去（引抜き） | D33: 1 | E33: 回
C35: ゼロクランプクレーン設置・撤去 | D35: 1 | E35: 回
C37: 自走装置 取付・取り外し | D37: 1 | E37: 回
C39: ゼロパイラー自走 | D39: 48 | E39: 枚
B41: 運搬工 | D41: 1 | E41: 式
B43: 諸経費 | D43: 1 | E43: 式
B45: 計
A49: （別紙明細）
A50: 名 称 | C50: 規 格・寸 法 | D50: 数 量 | E50: 単位 | F50: 単 価 | G50: 金 額 | H50: 備 考
B52: 別紙明細Ⅰ-2
B54: 軽量鉄骨天井下地開口部補強
B56: 軽量鉄骨天井下地開口部補強 | C56: 19形 320角 制気口類 | D56: 69 | E56: か所
B58: 軽量鉄骨天井下地開口部補強 | C58: 19形 450角 天井点検口 | D58: 95 | E58: か所
B60: 軽量鉄骨天井下地開口部補強 | C60: 19形 910角 4方向室内機 | D60: 5 | E60: か所
B62: 軽量鉄骨天井下地開口部補強 | C62: 19形 1235×150 | D62: 32 | E62: か所
B64: 軽量鉄骨天井下地開口部補強 | C64: 19形 617×150 | D64: 2 | E64: か所
B66: 軽量鉄骨天井下地開口部補強 | C66: 19形 670×200 | D66: 3 | E66: か所
B68: 軽量鉄骨天井下地開口部補強 | C68: 19形 700角 | D68: 2 | E68: か所
B70: 軽量鉄骨天井下地開口部補強 | C70: 19形 400角 | D70: 1 | E70: か所
B72: 軽量鉄骨天井下地開口部補強 | C72: 19形 1550×550 | D72: 1 | E72: か所
B74: 軽量鉄骨天井下地開口部補強 | C74: 19形 760×400 | D74: 4 | E74: か所
B76: 軽量鉄骨天井下地開口部補強 | C76: 19形 1200×750 | D76: 26 | E76: か所
B78: 軽量鉄骨天井下地開口部補強 | C78: 19形 1450×650 | D78: 5 | E78: か所
B80: 軽量鉄骨天井下地開口部補強 | C80: 19形 690×300 | D80: 1 | E80: か所
...

Sheet 別Ⅱ
A2: （別紙明細）
A3: 名 称 | C3: 規 格・寸 法 | D3: 数 量 | E3: 単位 | F3: 単 価 | G3: 金 額 | H3: 備 考
B5: 別紙明細Ⅱ-1
B7: 屋外階段 | D7: 1 | E7: 式
B9: 根切り | D9: 4.62 | E9: m3
B11: 埋戻し | D11: 1.23 | E11: m3
B13: 砕石地業 | C13: 再生クラッシャラン | D13: 0.71 | E13: m3
B15: コンクリート | C15: Fc=18-15-20N | D15: 0.36 | E15: m3
B17: コンクリート | C17: Fc=18＋3-15-20N | D17: 1.9 | E17: m3
C18: 公共建築工事積算研究会参考歩掛り
B19: ｺﾝｸﾘｰﾄ打設手間(小型工作物) | C19: 表RA-5-8【市】
B21: 特殊作業員 | D21: =0.65*(D15+D17) -> 1.469 | E21: 人
B23: 諸経費 | C23: 労×47% + 労以外×11% | D23: 1 | E23: 式
B25: 異形鉄筋 | C25: SD295A D13（小口） | D25: 56.88 | E25: kg
B27: 異形鉄筋 | C27: SD295A D10（小口） | D27: 17.65 | E27: kg
B29: 鉄筋加工組立・運搬 | C29: 小型車 | D29: 74.53 | E29: kg
B31: 普通合板型枠 | C31: 基礎部 | D31: 15.42 | E31: ㎡
B33: 残土処分 | C33: 場内敷均し | D33: 3.39 | E33: m3
B35: 床ｺﾝｸﾘｰﾄ鏝押え | C35: 金ごて 仕上 | D35: 13.38 | E35: ㎡
B41: 計
A45: （別紙明細）
A46: 名 称 | C46: 規 格・寸 法 | D46: 数 量 | E46: 単位 | F46: 単 価 | G46: 金 額 | H46: 備 考
B48: 別紙明細Ⅱ-2
B50: 屋外遊具 | D50: 1 | E50: 式
B54: もふもふの砂場 | D54: 1 | E54: 箇所
B56: まきばのおうち | D56: 1 | E56: 箇所
B58: らせんﾃﾞｯｷ | D58: 1 | E58: 箇所
B60: 山形うんてい | C60: CP10207 | D60: 1 | E60: 箇所
B62: 鉄棒３連 | C62: CP00615 ﾏｯﾄﾋﾟﾝ固定式3枚 | D62: 1 | E62: 箇所
B64: 2連ｺﾝﾋﾞﾌﾞﾗﾝｺ | C64: AM1525 ﾏｯﾄﾋﾟﾝ固定式2枚 | D64: 1 | E64: 箇所
B66: 砂場3000*3000 | C66: ｻﾝﾋﾟｯﾄﾞ枠 | D66: 1 | E66: 箇所
B68: 築山 黒山・芝張り | C68: 材工共 | D68: 1 | E68: 箇所
B70: 諸経費 | D70: 1 | E70: 式
B84: 計
A88: （別紙明細）
A89: 名 称 | C89: 規 格・寸 法 | D89: 数 量 | E89: 単位 | F89: 単 価 | G89: 金 額 | H89: 備 考
B91: 別紙明細Ⅱ-3
B93: ﾊﾟｰｺﾞﾗ移設 | C93: 材工共 | D93: 1 | E93: 式
B95: 諸経費 | D95: 1 | E95: 式
B127: 計
...

Sheet 電気設備工事
A2: （細目別内訳）
A3: 名 称 | C3: 規 格・寸 法 | D3: 数 量 | E3: 単位 | F3: 単 価 | G3: 金 額 | H3: 備 考
A5: Ⅲ | B5: 電気設備工事
A7: Ａ | B7: 電気設備工事 | D7: 1 | E7: 式
A9: Ｂ | B9: 産業廃棄物処理費 | D9: 1 | E9: 式
B39: 計

Sheet 科目・中科目
A2: （細目別内訳）
A3: 名 称 | C3: 規 格・寸 法 | D3: 数 量 | E3: 単位 | F3: 単 価 | G3: 金 額 | H3: 備 考
A5: Ａ | B5: 電気設備工事
A7: 1 | B7: 受変電設備 | D7: 1 | E7: 式
A9: 2 | B9: 幹線設備 | D9: 1 | E9: 式
A11: 3 | B11: 動力設備 | D11: 1 | E11: 式
A13: 4 | B13: 電灯設備 | D13: 1 | E13: 式
A15: 5 | B15: コンセント設備 | D15: 1 | E15: 式
A17: 6 | B17: 非常灯・誘導灯設備 | D17: 1 | E17: 式
A19: 7 | B19: 通信設備 | D19: 1 | E19: 式
A21: 8 | B21: 情報設備 | D21: 1 | E21: 式
A23: 9 | B23: テレビ共聴視設備 | D23: 1 | E23: 式
A25: 10 | B25: インターホン設備 | D25: 1 | E25: 式
A27: 11 | B27: トイレ呼出設備 | D27: 1 | E27: 式
A29: 12 | B29: 放送設備 | D29: 1 | E29: 式
... A37: 16 | B37: 外灯設備 | D37: 1 | E37: 式
A45: （細目別内訳）
A46: 名 称 | C46: 規 格・寸 法 | D46: 数 量 | E46: 単位 | F46: 単 価 | G46: 金 額 | H46: 備 考
A50: 17 | B50: 撤去工事 | D50: 1 | E50: 式
B54: 計
A58: Ｂ | B58: 産業廃棄物処理費
A60: 1 | B60: 産業廃棄物処理費 | D60: 1 | E60: 式
B64: 計

Sheet 細目（1.受変電設備）
A2: （細目別内訳）
A3: 名 称 | C3: 規 格・寸 法 | D3: 数 量 | E3: 単位 | F3: 単 価 | G3: 金 額 | H3: 備 考
A5: Ａ | B5: 電気設備工事
A7: 1 | B7: 受変電設備
B11: 引込柱 | D11: 1 | E11: 式 | H11: 別紙明細-1
B13: 屋外キュービクル | C13: 4面体 | D13: 1 | E13: 式
B14: 6kv 架橋ポリエチレン絶縁ケーブル
B15: EM-CET38sq | C15: FEP管内 | D15: 38 | E15: ｍ
B16: 波付硬質ポリエチレン管
B17: FEP80 | D17: 76 | E17: ｍ
B18: ハンドホール
B19: H1-9 | C19: R20K-60 | D19: 1 | E19: 基
B21: 接地工事 | D21: 1 | E21: 式 | H21: 別紙明細-2
B25: 【土工事】
B27: 根切り | D27: 13.3 | E27: ㎥
B29: 山砂 | D29: 7.6 | E29: ㎥
B31: 埋め戻し | D31: 5.7 | E31: ㎥
B33: 残土処理 | D33: 7.6 | E33: ㎥
B35: 埋設表示シート | C35: ダブル | D35: 38 | E35: ｍ
B39: 小 計

Sheet 細目 (2.幹線設備)
A2: （細目別内訳）
A3: 名 称 | C3: 規 格・寸 法 | D3: 数 量 | E3: 単位 | F3: 単 価 | G3: 金 額 | H3: 備 考
A5: Ａ | B5: 電気設備工事
A7: 2 | B7: 幹線設備工事
B10: 電灯動力弱電盤
B11: LPT-1 | C11: 屋内自立鋼板製 | D11: 1 | E11: 面
B12: 電灯動力弱電盤
B13: LPT-2 | C13: 屋内自立鋼板製 | D13: 1 | E13: 面
B14: 電灯動力弱電盤
B15: LPT-3 | C15: 屋内自立鋼板製 | D15: 1 | E15: 面
B16: 電灯動力弱電盤
B17: LPT-4 | C17: 屋内自立鋼板製 | D17: 1 | E17: 面
B20: ハンドホール
B21: H1-9 | C21: R2K-60 | D21: 5 | E21: 基
B26: 防火区画貫通処理
B27: φ104 | D27: 27 | E27: 箇所
B30: 波付硬質ポリエチレン管
B31: FEP100 | C31: 地中埋設 | D31: 121 | E31: ｍ
B32: 波付硬質ポリエチレン管
B33: FEP80 | C33: 地中埋設 | D33: 347 | E33: ｍ
B34: 波付硬質ポリエチレン管
B35: FEP65 | C35: 地中埋設 | D35: 64 | E35: ｍ
B36: 波付硬質ポリエチレン管
B37: FEP50 | C37: 地中埋設 | D37: 16 | E37: ｍ
A45: （細目別内訳）
A46: 名 称 | C46: 規 格・寸 法 | D46: 数 量 | E46: 単位 | F46: 単 価 | G46: 金 額 | H46: 備 考
B47: 子メーター
B48: 単相150A | D48: 1 | E48: 個
B49: 子メーター
B50: 三相100A | D50: 1 | E50: 個
B53: 600V架橋ポリエチレン絶縁ケーブル
B54: EM-CET200sq | C54: 天井転がし | D54: 68 | E54: ｍ
B55: 600V架橋ポリエチレン絶縁ケーブル
B56: EM-CET200sq | C56: FEP管内 | D56: 121 | E56: ｍ
B57: 600V架橋ポリエチレン絶縁ケーブル
B58: EM-CET100sq | C58: FEP管内 | D58: 105 | E58: ｍ
B59: 600V架橋ポリエチレン絶縁ケーブル
B60: EM-CET60sq | C60: 天井転がし | D60: 148 | E60: ｍ
B61: 600V架橋ポリエチレン絶縁ケーブル
B62: EM-CET60sq | C62: FEP管内 | D62: 48 | E62: ｍ
...

Sheet 細目 (3.動力設備)
A2: （細目別内訳）
A3: 名 称 | C3: 規 格・寸 法 | D3: 数 量 | E3: 単位 | F3: 単 価 | G3: 金 額 | H3: 備 考
A5: Ａ | B5: 電気設備工事
A7: 3 | B7: 動力設備
B10: 埋込コンセント
B11: 3P15A | D11: 9 | E11: 組
B14: スイッチボックス
B15: 1個用 | D15: 9 | E15: 個
B16: プルボックス
B17: 150*150*150 | C17: SUSwp | D17: 2 | E17: 個
B20: 防火区画貫通処理
B21: φ104 | D21: 6 | E21: 箇所
B24: 厚鋼電線管
B25: G22 | C25: 露出 | D25: 5 | E25: ｍ
B26: 合成樹脂製可とう電線管
B27: PF28 | C27: 隠蔽 | D27: 40 | E27: ｍ
B30: 600V架橋ポリエチレン絶縁ケーブル
B31: EM-CE8sq-3C | C31: 天井転がし | D31: 95 | E31: ｍ
C33: 管内 | D33: 20 | E33: ｍ
B34: 600V架橋ポリエチレン絶縁ケーブル
B35: EM-CE5.5sq-3C | C35: 天井転がし | D35: 287 | E35: ｍ
C37: 管内 | D37: 71 | E37: ｍ
B38: 600V架橋ポリエチレン絶縁ケーブル
B39: EM-CE3.5sq-3C | C39: 天井転がし | D39: 135 | E39: ｍ
A45: （細目別内訳）
A46: 名 称 | C46: 規 格・寸 法 | D46: 数 量 | E46: 単位 | F46: 単 価 | G46: 金 額 | H46: 備 考
B47: 600V架橋ポリエチレン絶縁ケーブル
B48: EM-CE3.5sq-3C | C48: 管内 | D48: 27 | E48: ｍ
C50: PF管内 | D50: 40 | E50: ｍ
B51: 600V耐燃性ポリエチレン絶縁電線
B52: EM-IE2.0 | C52: 天井転がし | D52: 517 | E52: ｍ
C54: 管内 | D54: 118 | E54: ｍ
C56: PF管内 | D56: 40 | E56: ｍ
B82: 小 計

Sheet 細目（4.電灯設備）
A2: （細目別内訳）
A3: 名 称 | C3: 規 格・寸 法 | D3: 数 量 | E3: 単位 | F3: 単 価 | G3: 金 額 | H3: 備 考
A5: Ａ | B5: 電気設備工事
A7: 4 | B7: 電灯設備
B10: A-LED
B11: ダウンライト | C11: LRS1-33 | D11: 17 | E11: 台
B12: B-LED
B13: ダウンライト | C13: LRS14-12-40K | D13: 54 | E13: 台
B14: C-LED
B15: ダウンライト | C15: LRS14-21-40K | D15: 54 | E15: 台
B16: D-LED
B17: ダウンライト | C17: 2335lm | D17: 2 | E17: 台
B18: E-LED
B19: ダウンライト | C19: 3930lm,調光 | D19: 8 | E19: 台
B20: F-LED
B21: ダウンライト | C21: 4000lm | D21: 18 | E21: 台
B22: G-LED
B23: ユニバーサルダウンライト | C23: 4250lm | D23: 7 | E23: 台
B24: H-LED
B25: 傾斜天井用ダウンライト | C25: 3605lm | D25: 36 | E25: 台
B26: I-LED
B27: 傾斜天井用ダウンライト | C27: 4790lm,調光 | D27: 76 | E27: 台
B28: J-LED
B29: 軒下用ダウンライト | C29: 3450lm | D29: 1 | E29: 台
B30: K-LED
B31: ダクトレール用スポットライト | C31: 985lm | D31: 7 | E31: 台
B32: L-LED
B33: ペンダントライト | C33: 1442lm | D33: 5 | E33: 台
B34: M-LED
B35: LEDベースライト | C35: LRS6-2-15 | D35: 2 | E35: 台
B36: N-LED
B37: LEDベースライト | C37: LRS6-4-23 | D37: 19 | E37: 台
B38: O-LED
B39: LEDベースライト | C39: LRS6-4-48 | D39: 6 | E39: 台
A45: （細目別内訳）
A46: 名 称 | C46: 規 格・寸 法 | D46: 数 量 | E46: 単位 | F46: 単 価 | G46: 金 額 | H46: 備 考
B47: P-LED
B48: LEDベースライト | C48: LRS6-4-65 | D48: 7 | E48: 台
B49: Q-LED
B50: LEDベースライト | C50: 3040lm 直付型・防湿防雨型 | D50: 2 | E50: 台
...

Sheet 細目（5.コンセント設備）
A2: （細目別内訳）
A3: 名 称 | C3: 規 格・寸 法 | D3: 数 量 | E3: 単位 | F3: 単 価 | G3: 金 額 | H3: 備 考
A5: Ａ | B5: 電気設備工事
A7: 5 | B7: コンセント設備
B10: 埋込コンセント
B11: 2P15A*1ET | D11: 50 | E11: 組
B12: 埋込コンセント
B13: 2P15A*1EET | D13: 11 | E13: 組
B14: 埋込コンセント
B15: 2P15A*2 | D15: 78 | E15: 組
B16: 埋込コンセント
B17: 2P15A*2ET | D17: 6 | E17: 組
B18: 埋込コンセント
B19: 2P15A*2EET | D19: 6 | E19: 組
B20: 引掛コンセント
B21: 2P15A*2E | D21: 2 | E21: 組
B22: フロアコンセント
B23: 2P15A*2 | D23: 9 | E23: 組
B24: 防水コンセント
B25: 2P15A*2EET | D25: 5 | E25: 組
B26: 埋込コンセント
B27: 2P20A250V*1EET | D27: 10 | E27: 組
B28: リーラーコンセント
B29: 2P15A*2E | D29: 2 | E29: 個
B30: 子メーター
B31: 単相30A | D31: 2 | E31: 個
B34: スイッチボックス
B35: 1個用 | D35: 163 | E35: 個
B36: スイッチボックス
B37: 2個用 | D37: 7 | E37: 個
B38: アウトレットボックス
B39: 中浅 | D39: 11 | E39: 個
A45: （細目別内訳）
A46: 名 称 | C46: 規 格・寸 法 | D46: 数 量 | E46: 単位 | F46: 単 価 | G46: 金 額 | H46: 備 考
B47: 合成樹脂製可とう電線管
B48: PF28 | C48: 隠蔽 | D48: 32 | E48: ｍ
B49: 合成樹脂製可とう電線管
B50: PF22 | C50: 隠蔽 | D50: 799 | E50: ｍ
B51: 合成樹脂製可とう電線管
B52: PF16 | C52: 隠蔽 | D52: 115 | E52: ｍ
...

Sheet 細目（6.非常灯・誘導灯設備）
A2: （細目別内訳）
A3: 名 称 | C3: 規 格・寸 法 | D3: 数 量 | E3: 単位 | F3: 単 価 | G3: 金 額 | H3: 備 考
A5: Ａ | B5: 電気設備工事
A7: 6 | B7: 非常灯・誘導灯設備
B10: a-LED
B11: 非常灯 | C11: K1-LRS11-1 | D11: 20 | E11: 台
B12: b-LED
B13: 非常灯 | C13: K1-LRS11-3 | D13: 15 | E13: 台
B14: c-LED
B15: 非常灯 | C15: LALE-007 防湿防雨型 | D15: 4 | E15: 台
B18: α-LED
B19: 誘導灯 | C19: SH1-FBF20-BL | D19: 1 | E19: 組
B20: β-LED
B21: 誘導灯 | C21: SH1-FBF20-C | D21: 2 | E21: 組
B22: γ-LED
B23: 誘導灯 | C23: ST1-FBF22-A | D23: 3 | E23: 組
B24: Δ-LED
B25: 誘導灯 | C25: ST1-FBF22-BH | D25: 1 | E25: 組
B28: アウトレットボックス
B29: 中浅 | D29: 7 | E29: 個
B32: 合成樹脂製可とう電線管
B33: PF22 | C33: 隠蔽 | D33: 5 | E33: ｍ
B36: 600Vポリエチレン絶縁 耐燃ポリエチレンシースケーブル
B37: EM-EEF2.0-3C | C37: 天井転がし | D37: 356 | E37: ｍ
C39: PF管内 | D39: 5 | E39: ｍ
A45: （細目別内訳）
A46: 名 称 | C46: 規 格・寸 法 | D46: 数 量 | E46: 単位 | F46: 単 価 | G46: 金 額 | H46: 備 考
B82: 小 計

Sheet 細目（7.通信設備）
A2: （細目別内訳）
A3: 名 称 | C3: 規 格・寸 法 | D3: 数 量 | E3: 単位 | F3: 単 価 | G3: 金 額 | H3: 備 考
A5: Ａ | B5: 電気設備工事
A7: 7 | B7: 通信設備
B11: 通信用アウトレット | C11: 壁付 | D11: 15 | E11: 組
B13: 通信用アウトレット | C13: 床付 | D13: 4 | E13: 組
B16: スイッチボックス
B17: 1個用 | D17: 15 | E17: 個
B18: アウトレットボックス
B19: 中浅 | D19: 4 | E19: 個
B22: 電子ボタン電話ケーブル
B23: EM-EBT0.5-1P | C23: 天井転がし | D23: 211 | E23: ｍ
C25: PF管内 | D25: 57 | E25: ｍ
B26: 電子ボタン電話ケーブル
B27: EM-EBT0.5-5P | C27: 天井転がし | D27: 35 | E27: ｍ
B28: 電子ボタン電話ケーブル
B29: EM-EBT0.5-20P | C29: 天井転がし | D29: 57 | E29: ｍ
B30: 600V架橋ポリエチレン絶縁耐燃性ポリエチレンシースケーブル
B31: EM-CE2.0-2C | C31: FEP管内 | D31: 52 | E31: ｍ
B34: 合成樹脂製可とう電線管
B35: PF16 | C35: 隠蔽 | D35: 57 | E35: ｍ
B36: 波付硬質ポリエチレン管
B37: FEP40 | C37: 地中埋設 | D37: 448 | E37: ｍ
B38: 波付硬質ポリエチレン管
B39: FEP30 | C39: 地中埋設 | D39: 271 | E39: ｍ
A45: （細目別内訳）
A46: 名 称 | C46: 規 格・寸 法 | D46: 数 量 | E46: 単位 | F46: 単 価 | G46: 金 額 | H46: 備 考
B47: ハンドホール
B48: H1-9 | C48: R2K-60 | D48: 3 | E48: 基
B49: ハンドホール
B50: H1-9 | C50: R20K-60 | D50: 2 | E50: 基
B56: 【土工事】
B58: 根切り | D58: 52.3 | E58: ㎥
B60: 山砂 | D60: 29.9 | E60: ㎥
B62: 埋め戻し | D62: 22.4 | E62: ㎥
B64: 残土処理 | D64: 29.9 | E64: ㎥
B66: 埋設表示シート | C66: ダブル | D66: 149 | E66: ｍ
B82: 小 計

Sheet 細目（8.情報設備）
A2: （細目別内訳）
A3: 名 称 | C3: 規 格・寸 法 | D3: 数 量 | E3: 単位 | F3: 単 価 | G3: 金 額 | H3: 備 考
A5: Ａ | B5: 電気設備工事
A7: 8 | B7: 情報設備
B11: 情報用アウトレット | C11: 壁付 | D11: 17 | E11: 組
B13: 情報用アウトレット | C13: 床付 | D13: 8 | E13: 組
B14: スイッチングハブ
B15: 16ポート | C15: PoE給電対応 | D15: 2 | E15: 個
B16: スイッチングハブ
B17: 12ポート | C17: PoE給電対応 | D17: 1 | E17: 個
B18: スイッチングハブ
B19: 8ポート | C19: PoE給電対応 | D19: 1 | E19: 個
B22: スイッチボックス
B23: 1個用 | D23: 17 | E23: 個
B24: アウトレットボックス
B25: 中浅 | D25: 8 | E25: 個
B28: LAN配線ケーブル
B29: EM-UTP CAT6-4P | C29: 天井転がし | D29: 344 | E29: ｍ
C31: PF管内 | D31: 104 | E31: ｍ
B34: 合成樹脂製可とう電線管
B35: PF16 | C35: 隠蔽 | D35: 104 | E35: ｍ
B39: 小 計

Sheet 細目（9.テレビ共聴視設備）
A2: （細目別内訳）
A3: 名 称 | C3: 規 格・寸 法 | D3: 数 量 | E3: 単位 | F3: 単 価 | G3: 金 額 | H3: 備 考
A5: Ａ | B5: 電気設備工事
A7: 9 | B7: テレビ共聴視設備
B10: UHFアンテナ
B11: ステンレス製 | D11: 1 | E11: 本 | F11: =163000+151000 -> 314000
B13: 直列ユニット | C13: 壁付 | D13: 4 | E13: 組 | F13: 10300
B15: 防雨入線カバー | D15: 1 | E15: 個 | F15: 1250
B16: 分配器
B17: 4分配 | D17: 1 | E17: 個 | F17: 16400
B18: 増幅器
B19: SH-1 | D19: 1 | E19: 個 | F19: 263000
B22: スイッチボックス
B23: 1個用 | D23: 5 | E23: 個 | F23: 4800
B24: スイッチボックス
B25: 2個用 | D25: 1 | E25: 個 | F25: 5130
B28: 同軸ケーブル
B29: S-7C-FB | C29: 天井転がし | D29: 17 | E29: ｍ | F29: 1070
B30: 同軸ケーブル
B31: S-5C-FB | C31: 天井転がし | D31: 75 | E31: ｍ | F31: 710
C33: PF管内 | D33: 132 | E33: ｍ | F33: 1170
B36: 合成樹脂製可とう電線管
B37: PF16 | C37: 隠蔽 | D37: 23 | E37: ｍ | F37: 1320
A45: （細目別内訳）
A46: 名 称 | C46: 規 格・寸 法 | D46: 数 量 | E46: 単位 | F46: 単 価 | G46: 金 額 | H46: 備 考
B82: 小 計

Sheet 細目（10.インターホン設備）)
A2: （細目別内訳）
A3: 名 称 | C3: 規 格・寸 法 | D3: 数 量 | E3: 単位 | F3: 単 価 | G3: 金 額 | H3: 備 考
A5: Ａ | B5: 電気設備工事
A7: 10 | B7: インターホン設備
B10: テレビドアホン
B11: 親機+子機 | C11: 録画機能付 | D11: 3 | E11: 組
B12: 電気錠操作ユニット
B13: 親機 | C13: 停電バックアップ電源、変換アダプター | D13: 1 | E13: 組
B14: 電気錠操作ユニット
B15: 子機 | C15: 防雨型 | D15: 1 | E15: 個
B19: ブランクプレート | D19: 2 | E19: 枚
B20: スイッチボックス
B21: 3個用 | D21: 1 | E21: 個
B22: スイッチボックス
B23: 2個用 | D23: 1 | E23: 個
B24: スイッチボックス
B25: 1個用 | D25: 8 | E25: 個
B28: 警報用ポリエチレン絶縁ケーブル
B29: EM-AE0.9-2C | C29: 天井転がし | D29: 53 | E29: ｍ
C31: PF管内 | D31: 26 | E31: ｍ
B34: 合成樹脂製可とう電線管
B35: PF16 | C35: 隠蔽 | D35: 26 | E35: ｍ
B39: 小 計

Sheet 細目（11.トイレ呼出設備）
A2: （細目別内訳）
A3: 名 称 | C3: 規 格・寸 法 | D3: 数 量 | E3: 単位 | F3: 単 価 | G3: 金 額 | H3: 備 考
A5: Ａ | B5: 電気設備工事
A7: 11 | B7: トイレ呼出設備
B10: トイレ呼出主装置
B11: 5窓 | C11: 壁付 | D11: 2 | E11: 台
B13: トイレ呼出押釦 | C13: 引き紐付 | D13: 4 | E13: 個
B15: トイレ呼出復旧ボタン | D15: 2 | E15: 個
B17: トイレ呼出表示灯 | C17: ブザー付 | D17: 2 | E17: 個
B20: スイッチボックス
B21: 1個用 | D21: 6 | E21: 個
B22: スイッチボックス
B23: 2個用 | D23: 2 | E23: 個
B26: 合成樹脂製可とう電線管
B27: PF16 | C27: 隠蔽 | D27: 21 | E27: ｍ
B30: 警報用ポリエチレン絶縁ケーブル
B31: EM-AE1.2-3C | C31: 天井転がし | D31: 13 | E31: ｍ
C33: PF管内 | D33: 16 | E33: ｍ
B34: 警報用ポリエチレン絶縁ケーブル
B35: EM-AE1.2-2C | C35: 天井転がし | D35: 74 | E35: ｍ
C37: PF管内 | D37: 5 | E37: ｍ
B39: 小 計

Sheet 細目（12.放送設備）
A2: （細目別内訳）
A3: 名 称 | C3: 規 格・寸 法 | D3: 数 量 | E3: 単位 | F3: 単 価 | G3: 金 額 | H3: 備 考
A5: Ａ | B5: 電気設備工事
A7: 12 | B7: 放送設備
B11: 放送アンプ | C11: 盤組込型 事務室1 | D11: 1 | E11: 台
B13: 放送アンプ | C13: 盤組込型 事務室2 | D13: 1 | E13: 台
B17: 天井埋込スピーカー | D17: 23 | E17: 個
B19: ワイドホーンスピーカー | D19: 3 | E19: 個
B21: アッテネーター | D21: 21 | E21: 個
B24: スイッチボックス
B25: 1個用 | D25: 24 | E25: 個
B26: アウトレットボックス
B27: 中浅 | D27: 14 | E27: 個
B30: 合成樹脂製可とう電線管
B31: PF16 | C31: 隠蔽 | D31: 48 | E31: ｍ
B34: 警報用ポリエチレン絶縁ケーブル
B35: EM-AE0.9-3C | C35: 天井転がし | D35: 382 | E35: ｍ
C37: PF管内 | D37: 48 | E37: ｍ
B38: 警報用ポリエチレン絶縁ケーブル
B39: EM-AE0.9-5P | C39: 天井転がし | D39: 92 | E39: ｍ
A45: （細目別内訳）
A46: 名 称 | C46: 規 格・寸 法 | D46: 数 量 | E46: 単位 | F46: 単 価 | G46: 金 額 | H46: 備 考
B82: 小 計

Sheet 細目（13.音響設備）
A2: （細目別内訳）
A3: 名 称 | C3: 規 格・寸 法 | D3: 数 量 | E3: 単位 | F3: 単 価 | G3: 金 額 | H3: 備 考
A5: Ａ | B5: 電気設備工事
A7: 13 | B7: 音響設備
B11: ワゴンアンプ | D11: 1 | E11: 台
B13: ワゴン接続プレート | D13: 1 | E13: 面
B15: メインスピーカー | D15: 2 | E15: 個
B17: はね返りスピーカー | D17: 1 | E17: 個
B19: ワイヤレスアンテナ | C19: 壁付 | D19: 2 | E19: 個
B21: ワイヤレスマイク | C21: ハンド型 | D21: 4 | E21: 個
B23: ワイヤレスマイク用充電器 | D23: 2 | E23: 個
B25: 卓上型マイクスタンド | D25: 1 | E25: 個
B27: マイクスタンド | D27: 1 | E27: 個
B31: ノズルプレート | D31: 3 | E31: 個
B32: スイッチボックス
B33: 1個用 | D33: 5 | E33: 個
B34: スイッチボックス
B35: 3個用 | D35: 1 | E35: 個
A45: （細目別内訳）
A46: 名 称 | C46: 規 格・寸 法 | D46: 数 量 | E46: 単位 | F46: 単 価 | G46: 金 額 | H46: 備 考
B47: 合成樹脂製可とう電線管
B48: PF22 | C48: 隠蔽 | D48: 12 | E48: ｍ
B49: 合成樹脂製可とう電線管
B50: PF16 | C50: 隠蔽 | D50: 8 | E50: ｍ
B53: スピーカーケーブル
B54: EM-4S6 | C54: 天井転がし | D54: 27 | E54: ｍ
C56: PF管内 | D56: 12 | E56: ｍ
B57: 同軸ケーブル
B58: S-5C-FB | C58: 天井転がし | D58: 34 | E58: ｍ
C60: PF管内 | D60: 8 | E60: ｍ
B82: 小 計

Sheet 細目（14.自動火災報知設備）
A2: （細目別内訳）
A3: 名 称 | C3: 規 格・寸 法 | D3: 数 量 | E3: 単位 | F3: 単 価 | G3: 金 額 | H3: 備 考
A5: Ａ | B5: 電気設備工事
A7: 14 | B7: 自動火災報知設備
B10: 自火報受信機
B11: P型1級15回線 | C11: 壁付型 | D11: 1 | E11: 台
B12: 自火報副受信機
B13: P型1級5回線 | C13: 壁付型 | D13: 1 | E13: 台
B15: 直流電源装置 | D15: 2 | E15: 台
B17: 火災通報装置 | C17: 壁付型 | D17: 2 | E17: 台
B19: 火災通報専用電話 | D19: 2 | E19: 台
B20: 発信機
B21: P型1級 | C21: 表示灯付 | D21: 5 | E21: 個
B23: ブザー | D23: 5 | E23: 個
B26: 光電式スポット型感知器
B27: 2種 | D27: 21 | E27: 個
B28: 差動式スポット型感知器
B29: 2種 | D29: 78 | E29: 個
B30: 定温式スポット型感知器
B31: 特種・防水型 | D31: 13 | E31: 個
B32: 光電式スポット型感知器
B33: 3種 | D33: 2 | E33: 個
A45: （細目別内訳）
A46: 名 称 | C46: 規 格・寸 法 | D46: 数 量 | E46: 単位 | F46: 単 価 | G46: 金 額 | H46: 備 考
B47: 合成樹脂製可とう電線管
B48: PF28 | C48: 隠蔽 | D48: 120 | E48: ｍ
B49: 合成樹脂製可とう電線管
B50: PF22 | C50: 隠蔽 | D50: 12 | E50: ｍ
B51: 合成樹脂製可とう電線管
B52: PF16 | C52: 隠蔽 | D52: 29 | E52: ｍ
B55: 消防用耐熱電線
B56: EM-HP1.2-10P | C56: 天井転がし | D56: 39 | E56: ｍ
C58: PF管内 | D58: 120 | E58: ｍ
B59: 消防用耐熱電線
B60: EM-HP1.2-5P | C60: 天井転がし | D60: 58 | E60: ｍ
C62: PF管内 | D62: 12 | E62: ｍ
B63: 消防用耐熱電線
B64: EM-HP1.2-3C | C64: 天井転がし | D64: 64 | E64: ｍ
C66: PF管内 | D66: 3 | E66: ｍ
B67: 警報用ポリエチレン絶縁ケーブル
...

Sheet 細目（15.警備・防犯カメラ予備配管）
A2: （細目別内訳）
A3: 名 称 | C3: 規 格・寸 法 | D3: 数 量 | E3: 単位 | F3: 単 価 | G3: 金 額 | H3: 備 考
A5: Ａ | B5: 電気設備工事
A7: 15 | B7: 警備・防犯カメラ予備配管
B11: ブランクプレート | D11: 20 | E11: 個
B14: スイッチボックス
B15: 1個用 | D15: 20 | E15: 個
B16: ジョイントボックス
B17: 中 | D17: 19 | E17: 個
B20: 合成樹脂製可とう電線管
B21: PF22 | C21: 隠蔽 | D21: 630 | E21: ｍ
B39: 小 計

Sheet 細目（16.外灯設備）
A2: （細目別内訳）
A3: 名 称 | C3: 規 格・寸 法 | D3: 数 量 | E3: 単位 | F3: 単 価 | G3: 金 額 | H3: 備 考
A5: Ａ | B5: 電気設備工事
A7: 16 | B7: 外灯設備
B10: 防犯灯
B11: 2240lm | C11: ポール取付 防雨型 | D11: 3 | E11: 台
B13: 既設ポール外灯 移設 | D13: 2 | E13: 本
B15: 既設鋼管ポール中継柱 移設 | D15: 1 | E15: 本
B18: 引込用ビニル絶縁電線
B19: DV14-2C | C19: 架空 | D19: 79 | E19: ｍ
B21: 同上労務費 | C21: 径間 | D21: 5 | E21: 径間
B39: 小 計

Sheet 細目（17.撤去工事）
A2: （細目別内訳）
A3: 名 称 | C3: 規 格・寸 法 | D3: 数 量 | E3: 単位 | F3: 単 価 | G3: 金 額 | H3: 備 考
A5: Ａ | B5: 電気設備工事
A7: 17 | B7: 撤去工事
B10: 引込用ビニル絶縁電線
B11: DV14-2C | C11: 撤去 | D11: 3 | E11: 径間
B12: 引込用ビニル絶縁電線
B13: DV3.2-2C | C13: 撤去 | D13: 2 | E13: 径間
B39: 小 計

Sheet 産業廃棄物処分費
A2: （細目別内訳）
A3: 名 称 | C3: 規 格・寸 法 | D3: 数 量 | E3: 単位 | F3: 単 価 | G3: 金 額 | H3: 備 考
A5: Ｂ | B5: 産業廃棄物処理費
A7: 1 | B7: 産業廃棄物処理費
B11: 鉄くず処分費 | D11: 17.7 | E11: ㎏
B13: 同上運搬費 | C13: 2tトラック | D13: 1 | E13: 台
B15: 廃プラ処分費 | D15: 4.4 | E15: ㎏
B17: 同上運搬費 | C17: 2tトラック | D17: 1 | E17: 台
B39: 小 計

Sheet 別紙明細
A3: 名 称 | C3: 規 格・寸 法 | D3: 数 量 | E3: 単位 | F3: 単 価 | G3: 金 額 | H3: 備 考
B5: 別紙明細-1
B9: 引込柱 | D9: 1 | E9: 式
B12: 厚鋼電線管
B13: G22 | C13: 露出 | D13: 8 | E13: ｍ
B14: 端末処理
B15: 6kV EM-CET38 | C15: 屋外用 | D15: 1 | E15: 箇所
C16: LA,VT内蔵、GR付 方向性
B17: 高圧気中開閉器 | C17: ﾓｰﾙﾄﾞｺｰﾝ | D17: 1 | E17: 台
C18: 13-19-50
B19: ｺﾝｸﾘｰﾄ柱 | C19: (根枷、ﾊﾞﾝﾄﾞ、支線共) | D19: 1 | E19: 本
B39: 小 計
A46: 名 称 | C46: 規 格・寸 法 | D46: 数 量 | E46: 単位 | F46: 単 価 | G46: 金 額 | H46: 備 考
B48: 別紙明細-2
B52: 接地工事 | D52: 1 | E52: 式
B56: EA | C56: φ14×1500 | D56: 6 | E56: 本
B58: EB | C58: φ14×1500 | D58: 2 | E58: 本
B60: ED | C60: φ14×1500 | D60: 1 | E60: 本
B62: Et | C62: φ10×1000 | D62: 2 | E62: 本
B64: 接地極埋設標 | C64: 黄銅製 測定共 | D64: 2 | E64: 本
B82: 小 計
A89: 名 称 | C89: 規 格・寸 法 | D89: 数 量 | E89: 単位 | F89: 単 価 | G89: 金 額 | H89: 備 考
B91: 別紙明細-3
C94: 3相3線 90kva
B95: 屋外キュービクル型発電機 | C95: 屋外キュービクル型油庫 950L | D95: 1 | E95: 式
B98: 非常用自家発電装置 | H98: 見積り比較表
B99: 屋外設置型 | C99: 90KVA | D99: 1 | E99: 台 | F99: =J99*0.5 -> 8495000 | G99: =D99*F99 -> 8495000 | H99: ×0.50 | J99: =16990000 -> 16990000
B100: 油庫 | H100: 見積り比較表
B101: 屋外キュービクル型 | C101: 950L | D101: 1 | E101: 台 | F101: =J101*0.5 -> 7000000 | G101: =D101*F101 -> 7000000 | H101: ×0.50 | J101: 14000000
H102: 見積り比較表
B103: 燃料満油費 | D103: 1 | E103: 式 | F103: =J103*0.8 -> 480000 | G103: =D103*F103 -> 480000 | H103: ×0.80 | J103: 600000
H104: 見積り比較表
B105: 試運転調整費 | D105: 1 | E105: 式 | F105: =J105*0.8 -> 480000 | G105: =D105*F105 -> 480000 | H105: ×0.80 | J105: 600000
H106: 見積り比較表
B107: 現地模擬負荷試験費 | D107: 1 | E107: 式 | F107: =J107*0.8 -> 800000 | G107: =D107*F107 -> 800000 | H107: ×0.80 | J107: 1000000
H108: 見積り比較表
B109: 搬入据付費 | D109: 1 | E109: 式 | F109: =J109*0.8 -> 960000 | G109: =D109*F109 -> 960000 | H109: ×0.80 | J109: 1200000
H110: 見積り比較表
B111: 燃料配管工事費 | D111: 1 | E111: 式 | F111: =J111*0.8 -> 960000 | G111: =D111*F111 -> 960000 | H111: ×0.80 | J111: 1200000
B125: 小 計 | G125: =SUM(G94:G123) -> 19175000
...

Sheet 機械設備工事
A2: （細目別内訳）
A3: 名 称 | C3: 規 格・寸 法 | D3: 数 量 | E3: 単位 | F3: 単 価 | G3: 金 額 | H3: 備 考
A5: Ⅳ | B5: 機械設備工事
A7: Ａ | B7: 機械設備工事 | D7: 1 | E7: 式
A9: Ｂ | B9: 産業廃棄物処理費 | D9: 1 | E9: 式
B39: 計

Sheet 科目
A2: （科目別内訳）
A3: 名 称 | C3: 規 格・寸 法 | D3: 数 量 | E3: 単位 | F3: 単 価 | G3: 金 額 | H3: 備 考
A5: Ａ | B5: 機械設備工事
A7: 1 | B7: 給水設備工事 | D7: 1 | E7: 式
A9: 2 | B9: 排水設備工事 | D9: 1 | E9: 式
A11: 3 | B11: 衛生器具設備工事 | D11: 1 | E11: 式
A13: 4 | B13: 給湯設備工事 | D13: 1 | E13: 式
A15: 5 | B15: 床暖房設備工事 | D15: 1 | E15: 式
A17: 6 | B17: 消火設備工事 | D17: 1 | E17: 式
A19: 7 | B19: 空気調和設備工事 | D19: 1 | E19: 式
A21: 8 | B21: 換気設備工事 | D21: 1 | E21: 式
A23: 9 | B23: 撤去工事 | D23: 1 | E23: 式
B25: 計
A29: Ｂ | B29: 産業廃棄物処理費
A31: 1 | B31: 産業廃棄物処理費 | D31: 1 | E31: 式
B33: 計
G41: =SUM(G36:G37) -> 0

Sheet 中科目
A2: （中科目別内訳）
A3: 名 称 | C3: 規 格・寸 法 | D3: 数 量 | E3: 単位 | F3: 単 価 | G3: 金 額 | H3: 備 考
A5: Ａ | B5: 機械設備工事
A7: 1 | B7: 給水設備工事 | C7: 屋外給水設備工事 | D7: 1 | E7: 式
C9: 屋内給水設備工事 | D9: 1 | E9: 式
B11: 計
A15: 2 | B15: 排水設備工事 | C15: 屋外排水設備工事 | D15: 1 | E15: 式
C17: 屋内排水設備工事 | D17: 1 | E17: 式
B19: 計
A23: 3 | B23: 衛生器具設備工事 | C23: 衛生器具設備工事 | D23: 1 | E23: 式
B25: 計
A29: 4 | B29: 給湯設備工事 | C29: 機器設備工事 | D29: 1 | E29: 式
C31: 配管設備工事 | D31: 1 | E31: 式
B33: 計
A37: 5 | B37: 床暖房設備工事 | C37: 床暖房設備工事 | D37: 1 | E37: 式
B39: 計
A45: （中科目別内訳）
A46: 名 称 | C46: 規 格・寸 法 | D46: 数 量 | E46: 単位 | F46: 単 価 | G46: 金 額 | H46: 備 考
A48: 6 | B48: 消火設備工事 | C48: 機器設備工事 | D48: 1 | E48: 式
B50: 計
A54: 7 | B54: 空気調和設備工事 | C54: 機器設備工事 | D54: 1 | E54: 式
C56: 配管設備工事 | D56: 1 | E56: 式
C58: ダクト設備工事 | D58: 1 | E58: 式
B60: 計
A64: 8 | B64: 換気設備工事 | C64: 機器設備工事 | D64: 1 | E64: 式
C66: ダクト設備工事 | D66: 1 | E66: 式
B68: 計
A72: 9 | B72: 撤去工事 | C72: 配管類撤去工事 | D72: 1 | E72: 式
B74: 計
A78: Ｂ | B78: 産業廃棄物処理費
A80: 1 | B80: 産業廃棄物処理費 | D80: 1 | E80: 式
B82: 計

Sheet 細目
A2: （細目別内訳）
A3: 名 称 | C3: 規 格・寸 法 | D3: 数 量 | E3: 単位 | F3: 単 価 | G3: 金 額 | H3: 備 考
A5: Ａ | B5: 機械設備工事
A6: 1 | B6: 給水設備工事
B7: 屋外給水設備工事
B9: PE 電気融着継手 | C9: 地中埋設 50A | D9: 24 | E9: ｍ
B11: 〃 | C11: 地中埋設 40A | D11: 141 | E11: ｍ
B13: 〃 | C13: 地中埋設 25A | D13: 169 | E13: ｍ
B15: 〃 | C15: 地中埋設 20A | D15: 61 | E15: ｍ
B17: SGP-VD | C17: 屋内一般 25A | D17: 3 | E17: ｍ
B19: 〃 | C19: 屋内一般 20A | D19: 13 | E19: ｍ
B21: 〃 | C21: 地中埋設 50A | D21: 1 | E21: ｍ
B23: 〃 | C23: 地中埋設 40A | D23: 2 | E23: ｍ
B25: 〃 | C25: 地中埋設 25A | D25: 9 | E25: ｍ
B27: 〃 | C27: 地中埋設 20A | D27: 11 | E27: ｍ
B29: 埋設用仕切弁 | C29: JIS10K 50A | D29: 1 | E29: 個
B31: 〃 | C31: JIS10K 40A | D31: 2 | E31: 個
... B41: 〃 | C41: VC-P | D41: 20 | E41: 個
A45: （細目別内訳）
A46: 名 称 | C46: 規 格・寸 法 | D46: 数 量 | E46: 単位 | F46: 単 価 | G46: 金 額 | H46: 備 考
B48: ｻﾄﾞﾙ分水栓 | C48: 75A×50A | D48: 1 | E48: 個
B50: 量水器 | C50: 40mm 手間のみ | D50: 1 | E50: 個
B52: 〃 | C52: 25mm 再取付 | D52: 1 | E52: 個
B54: ﾘﾝｸﾞﾊﾞﾙﾌﾞ | C54: 40A | D54: 1 | E54: 個
B56: 量水器ﾎﾞｯｸｽ | C56: 40mm | D56: 1 | E56: 個
B58: 〃 | C58: 25mm | D58: 1 | E58: 個
B60: Y型ｽﾄﾚｰﾅｰ | C60: 25A | D60: 1 | E60: 個
B62: 減圧弁 | C62: 25A | D62: 1 | E62: 個
B64: CV | C64: 25A | D64: 1 | E64: 個
B66: BAV | C66: 25A | D66: 2 | E66: 個
B68: ｶﾑﾛｯｸ | C68: めねじ 25A | D68: 1 | E68: 個
B70: ﾀﾞｽﾄｷｬｯﾌﾟ | C70: 25A | D70: 1 | E70: 個
... B76: ﾎｰｽﾊﾞﾝﾄﾞ | C76: SUS | D76: 1 | E76: 個
B78: 埋設標 | D78: 1 | E78: 式 | H78: 別紙明細-1
B80: 土工事 | D80: 1 | E80: 式 | H80: 別紙明細-2
B82: 斫り補修 | D82: 1 | E82: 式 | H82: 別紙明細-3
A88: （細目別内訳）
A89: 名 称 | C89: 規 格・寸 法 | D89: 数 量 | E89: 単位 | F89: 単 価 | G89: 金 額 | H89: 備 考
B91: 既設管接続 | D91: 1 | E91: 式 | H91: 別紙明細-4
B93: 保温工事 | D93: 1 | E93: 式 | H93: 別紙明細-5
...

Sheet 別紙
A2: （別紙明細）
A3: 名 称 | C3: 規 格・寸 法 | D3: 数 量 | E3: 単位 | F3: 単 価 | G3: 金 額 | H3: 備 考
B4: 別紙明細-1
B5: 埋設標
B7: 埋設ﾃｰﾌﾟ | D7: 418 | E7: ｍ
B9: 埋設標 | C9: ﾋﾟﾝ | D9: 15 | E9: 個
B11: 〃 | C11: 杭 | D11: 12 | E11: 個
B13: 計
B16: 別紙明細-2
B17: 土工事
B19: 根切り | C19: 機械 | D19: 123.4 | E19: ｍ3
B21: 山砂 | D21: 63.9 | E21: ｍ3
B23: 埋戻し | C23: 機械 | D23: 59.5 | E23: ｍ3
B25: 残土処分 | D25: 63.9 | E25: ｍ3
B27: 計
B30: 別紙明細-3
B31: 斫り補修
B33: ｶｯﾀｰ入れ | C33: ｱｽﾌｧﾙﾄ | D33: 83 | E33: ｍ
B35: ｱｽﾌｧﾙﾄ撤去 | D35: 9.2 | E35: ｍ3
B37: ｱｽﾌｧﾙﾄ舗装 | C37: 車道 | D37: 184.6 | E37: ｍ2
B39: 計
A45: =A2 -> （別紙明細）
A46: 名 称 | C46: 規 格・寸 法 | D46: 数 量 | E46: 単位 | F46: 単 価 | G46: 金 額 | H46: 備 考
B47: 別紙明細-4
B48: 既設管接続
B50: 樹脂管保温無 | C50: 40A | D50: 1 | E50: 箇所
C52: 20A | D52: 1 | E52: 箇所
B54: 計
B57: 別紙明細-5
B58: 保温工事
B60: 給水管保温 | C60: 屋外露出 ｶﾞﾙﾊﾞ PO 25A | D60: 2 | E60: ｍ
B62: 計
B65: 別紙明細-6
B66: 保温工事
B68: 給水管保温 | C68: 暗渠内 PO 40A | D68: 3 | E68: ｍ
C70: 暗渠内 PO 25A | D70: 45 | E70: ｍ
C72: 暗渠内 PO 20A | D72: 149 | E72: ｍ
C74: 暗渠内 PO 15A | D74: 1 | E74: ｍ
C76: 空隙内 GW 20A | D76: 67 | E76: ｍ
C78: 空隙内 GW 15A | D78: 1 | E78: ｍ
...
